Workbook
Name _13Excel_BuiltIn_Print_Area_2: #REF!
Name _13Excel_BuiltIn_Print_Area_2: #REF!
Name _13Excel_BuiltIn_Print_Area_2: #REF!
Name _13Excel_BuiltIn_Print_Area_2: #REF!
Name _13Excel_BuiltIn_Print_Area_2: #REF!
Name _13Excel_BuiltIn_Print_Area_2: #REF!
Name _13Excel_BuiltIn_Print_Area_2: #REF!
Name _13Excel_BuiltIn_Print_Area_2: #REF!
Name _13Excel_BuiltIn_Print_Area_2: #REF!
Name _13Excel_BuiltIn_Print_Area_2: #REF!
Name _13Excel_BuiltIn_Print_Area_2: #REF!
Name _13Excel_BuiltIn_Print_Area_2: #REF!
Name _26Excel_BuiltIn_Print_Area_3: #REF!
Name _26Excel_BuiltIn_Print_Area_3: #REF!
Name _26Excel_BuiltIn_Print_Area_3: #REF!
Name _26Excel_BuiltIn_Print_Area_3: #REF!
Name _26Excel_BuiltIn_Print_Area_3: #REF!
Name _26Excel_BuiltIn_Print_Area_3: #REF!
Name _26Excel_BuiltIn_Print_Area_3: #REF!
Name _26Excel_BuiltIn_Print_Area_3: #REF!
Name _26Excel_BuiltIn_Print_Area_3: #REF!
Name _26Excel_BuiltIn_Print_Area_3: #REF!
Name _26Excel_BuiltIn_Print_Area_3: #REF!
Name _26Excel_BuiltIn_Print_Area_3: #REF!
Name дв58: #REF!
Name дв58: #REF!
Name дв58: #REF!
Name дв58: #REF!
Name дв58: #REF!
Name дв58: #REF!
Name дв58: #REF!
Name дв58: #REF!
Name дв58: #REF!
Name дв58: #REF!
Name дв58: #REF!
Name дв58: #REF!
Name дв581: #REF!
Name дв581: #REF!
Name дв581: #REF!
Name дв581: #REF!
Name дв581: #REF!
Name дв581: #REF!
Name дв581: #REF!
Name дв581: #REF!
Name дв581: #REF!
Name дв581: #REF!
Name дв581: #REF!
Name дв581: #REF!

Sheet ДЦ 63
B1: Министерство спорта Российской Федерации.
B2: Общероссийская общественная организация "Всероссийская федерация гиревого спорта".
B3: Министерство физической культуры и спорта Пермского края
B4: Региональное отделение общероссийской общественной организации "ВФГС в Пермском крае"
B6: 12-14 апреля 2024 г. | E6: ПРОТОКОЛ | O6: Вес гирь 32 кг.
B7: г. Пермь | E7: Чемпионата Приволжского федерального округа | O7: Регламент времени - 10 мин.
E8: ЕКП № 2065590017021409 | O8: Разрядные нормативы
B9: Количество участников - 92 | E9: Толчок длинный цикл (мужчины) | O9: МСМК | P9: МС | Q9: КМС
B10: Количество регионов - 10 | E10: Весовая категория 63 кг | O10: 59 | P10: 44 | Q10: 35
B12: Место | C12: Фамилия Имя | E12: Дата рождения | F12: Звание | G12: Команда | H12: ДСО, ведомство | I12: Соб. вес | J12: Толчок | K12: Рывок | M12: Сумма дв-рья | N12: Ком. очки | O12: Вып. разряд | P12: ФИО тренера(тренеров)
K13: Сумма | L13: Очки
A14: 23 | B14: 1 | C14: =VLOOKUP(A14,Список!$A$2:$J$123,3) -> Курунов Анатолий | E14: =VLOOKUP(A14,Список!$A$2:$J$123,4) -> 1999 | F14: =VLOOKUP(A14,Список!$A$2:$J$123,5) -> МС | G14: =VLOOKUP(A14,Список!$A$2:$J$123,6) -> Оренбургская область | H14: =VLOOKUP(A14,Список!$A$2:$J$123,7) -> СШ №1 им. Л.Д. Ковалевского | I14: =VLOOKUP(A14,Список!$A$2:$J$123,8) -> 62.55 | J14: 50 | N14: =IF(B14=1,20,IF(B14=2,18,IF(B14=3,16,IF(B14>19,0,19-B14)))) -> 20 | O14: =IF(AND(NOT(OR(F14="МСМК",F14="ЗМС")),J14>=$O$10),"+МСМК",IF(AND(OR(F14="МСМК",F14="ЗМС"),J14>=$O$10),"МСМК",IF(AND(NOT(OR(F14="МСМК",F14="МС",F14="ЗМС")),J14>=$P$10),"+МС",IF(AND(OR(F14="МСМК",F14="МС",F14="ЗМС"),J14>=$P$10),"МС",IF(AND(NOT(OR(F14="ЗМС",F14="МСМК",F14="МС",F14="КМС")),J14>=$Q$10),"+КМС",IF(AND(OR(F14="ЗМС",F14="МСМК",F14="МС",F14="КМС"),J14>=$Q$10),"КМС","-")))))) -> МС | P14: =VLOOKUP(A14,Список!$A$2:$J$123,9) -> Павлов С.П.
A15: 1 | B15: 2 | C15: =VLOOKUP(A15,Список!$A$2:$J$123,3) -> Маркичев Максим | E15: =VLOOKUP(A15,Список!$A$2:$J$123,4) -> 1997 | F15: =VLOOKUP(A15,Список!$A$2:$J$123,5) -> КМС | G15: =VLOOKUP(A15,Список!$A$2:$J$123,6) -> Нижегородская область | I15: =VLOOKUP(A15,Список!$A$2:$J$123,8) -> 62.45 | J15: 45 | N15: =IF(B15=1,20,IF(B15=2,18,IF(B15=3,16,IF(B15>19,0,19-B15)))) -> 18 | O15: =IF(AND(NOT(OR(F15="МСМК",F15="ЗМС")),J15>=$O$10),"+МСМК",IF(AND(OR(F15="МСМК",F15="ЗМС"),J15>=$O$10),"МСМК",IF(AND(NOT(OR(F15="МСМК",F15="МС",F15="ЗМС")),J15>=$P$10),"+МС",IF(AND(OR(F15="МСМК",F15="МС",F15="ЗМС"),J15>=$P$10),"МС",IF(AND(NOT(OR(F15="ЗМС",F15="МСМК",F15="МС",F15="КМС")),J15>=$Q$10),"+КМС",IF(AND(OR(F15="ЗМС",F15="МСМК",F15="МС",F15="КМС"),J15>=$Q$10),"КМС","-")))))) -> +МС | P15: =VLOOKUP(A15,Список!$A$2:$J$123,9) -> Маркичев Э.Ф.
A16: 45 | B16: 3 | C16: =VLOOKUP(A16,Список!$A$2:$J$123,3) -> Половников Павел | E16: =VLOOKUP(A16,Список!$A$2:$J$123,4) -> 2002 | F16: =VLOOKUP(A16,Список!$A$2:$J$123,5) -> КМС | G16: =VLOOKUP(A16,Список!$A$2:$J$123,6) -> Пермский край | H16: =VLOOKUP(A16,Список!$A$2:$J$123,7) -> МБУ ДО «ДЮСШ «Спарт» | I16: =VLOOKUP(A16,Список!$A$2:$J$123,8) -> 59.3 | J16: 35 | N16: =IF(B16=1,20,IF(B16=2,18,IF(B16=3,16,IF(B16>19,0,19-B16)))) -> 16 | O16: =IF(AND(NOT(OR(F16="МСМК",F16="ЗМС")),J16>=$O$10),"+МСМК",IF(AND(OR(F16="МСМК",F16="ЗМС"),J16>=$O$10),"МСМК",IF(AND(NOT(OR(F16="МСМК",F16="МС",F16="ЗМС")),J16>=$P$10),"+МС",IF(AND(OR(F16="МСМК",F16="МС",F16="ЗМС"),J16>=$P$10),"МС",IF(AND(NOT(OR(F16="ЗМС",F16="МСМК",F16="МС",F16="КМС")),J16>=$Q$10),"+КМС",IF(AND(OR(F16="ЗМС",F16="МСМК",F16="МС",F16="КМС"),J16>=$Q$10),"КМС","-")))))) -> КМС | P16: =VLOOKUP(A16,Список!$A$2:$J$123,9) -> Маматов Г.Т.
A17: 51 | B17: 4 | C17: =VLOOKUP(A17,Список!$A$2:$J$123,3) -> Холов Хусейн | E17: =VLOOKUP(A17,Список!$A$2:$J$123,4) -> 2001 | F17: =VLOOKUP(A17,Список!$A$2:$J$123,5) -> КМС | G17: =VLOOKUP(A17,Список!$A$2:$J$123,6) -> Пермский край | H17: =VLOOKUP(A17,Список!$A$2:$J$123,7) -> ДО ДС ДЮ «Прикамье» | I17: =VLOOKUP(A17,Список!$A$2:$J$123,8) -> 62.55 | J17: 27 | N17: =IF(B17=1,20,IF(B17=2,18,IF(B17=3,16,IF(B17>19,0,19-B17)))) -> 15 | O17: =IF(AND(NOT(OR(F17="МСМК",F17="ЗМС")),J17>=$O$10),"+МСМК",IF(AND(OR(F17="МСМК",F17="ЗМС"),J17>=$O$10),"МСМК",IF(AND(NOT(OR(F17="МСМК",F17="МС",F17="ЗМС")),J17>=$P$10),"+МС",IF(AND(OR(F17="МСМК",F17="МС",F17="ЗМС"),J17>=$P$10),"МС",IF(AND(NOT(OR(F17="ЗМС",F17="МСМК",F17="МС",F17="КМС")),J17>=$Q$10),"+КМС",IF(AND(OR(F17="ЗМС",F17="МСМК",F17="МС",F17="КМС"),J17>=$Q$10),"КМС","-")))))) -> - | P17: =VLOOKUP(A17,Список!$A$2:$J$123,9) -> Мошев Д.И
A18: 58 | B18: 5 | C18: =VLOOKUP(A18,Список!$A$2:$J$123,3) -> Попов Кирилл | E18: =VLOOKUP(A18,Список!$A$2:$J$123,4) -> 2008 | F18: =VLOOKUP(A18,Список!$A$2:$J$123,5) -> КМС | G18: =VLOOKUP(A18,Список!$A$2:$J$123,6) -> Пермский край | H18: =VLOOKUP(A18,Список!$A$2:$J$123,7) -> МБУ ДО «ДЮСШ «Спарт» | I18: =VLOOKUP(A18,Список!$A$2:$J$123,8) -> 60.8 | J18: 21 | N18: =IF(B18=1,20,IF(B18=2,18,IF(B18=3,16,IF(B18>19,0,19-B18)))) -> 14 | O18: =IF(AND(NOT(OR(F18="МСМК",F18="ЗМС")),J18>=$O$10),"+МСМК",IF(AND(OR(F18="МСМК",F18="ЗМС"),J18>=$O$10),"МСМК",IF(AND(NOT(OR(F18="МСМК",F18="МС",F18="ЗМС")),J18>=$P$10),"+МС",IF(AND(OR(F18="МСМК",F18="МС",F18="ЗМС"),J18>=$P$10),"МС",IF(AND(NOT(OR(F18="ЗМС",F18="МСМК",F18="МС",F18="КМС")),J18>=$Q$10),"+КМС",IF(AND(OR(F18="ЗМС",F18="МСМК",F18="МС",F18="КМС"),J18>=$Q$10),"КМС","-")))))) -> - | P18: =VLOOKUP(A18,Список!$A$2:$J$123,9) -> Маматов Г.Т.
A19: 56 | B19: 6 | C19: =VLOOKUP(A19,Список!$A$2:$J$123,3) -> Останин Даниил | E19: =VLOOKUP(A19,Список!$A$2:$J$123,4) -> 2005 | F19: =VLOOKUP(A19,Список!$A$2:$J$123,5) -> КМС | G19: =VLOOKUP(A19,Список!$A$2:$J$123,6) -> Пермский край | H19: =VLOOKUP(A19,Список!$A$2:$J$123,7) -> ДО ДС ДЮ «Прикамье» | I19: =VLOOKUP(A19,Список!$A$2:$J$123,8) -> 57.05 | J19: 13 | N19: =IF(B19=1,20,IF(B19=2,18,IF(B19=3,16,IF(B19>19,0,19-B19)))) -> 13 | O19: =IF(AND(NOT(OR(F19="МСМК",F19="ЗМС")),J19>=$O$10),"+МСМК",IF(AND(OR(F19="МСМК",F19="ЗМС"),J19>=$O$10),"МСМК",IF(AND(NOT(OR(F19="МСМК",F19="МС",F19="ЗМС")),J19>=$P$10),"+МС",IF(AND(OR(F19="МСМК",F19="МС",F19="ЗМС"),J19>=$P$10),"МС",IF(AND(NOT(OR(F19="ЗМС",F19="МСМК",F19="МС",F19="КМС")),J19>=$Q$10),"+КМС",IF(AND(OR(F19="ЗМС",F19="МСМК",F19="МС",F19="КМС"),J19>=$Q$10),"КМС","-")))))) -> - | P19: =VLOOKUP(A19,Список!$A$2:$J$123,9) -> Мошев Д.И
C22: Главный судья | I22: Ческис О.И., 1К (Пермский край)
C24: Главный секретарь | I24: Паклина М.В., ВК (Пермский край)
C26: Зам. главного судьи | I26: Паклин П.А., ВК (Пермский край)
C28: Зам. главного секретаря | I28: Мошев Д.И., 1К (Пермский край)

Sheet ДЦ 68
B1: Министерство спорта Российской Федерации.
B2: Общероссийская общественная организация "Всероссийская федерация гиревого спорта".
B3: ='ДЦ 63'!$B$3:$Q$3 -> Министерство физической культуры и спорта Пермского края
B4: ='ДЦ 63'!$B$4:$Q$4 -> Региональное отделение общероссийской общественной организации "ВФГС в Пермском крае"
B6: 12-14 апреля 2024 г. | E6: ПРОТОКОЛ | O6: Вес гирь 32 кг.
B7: г. Пермь | E7: Чемпионата Приволжского федерального округа | O7: Регламент времени - 10 мин.
E8: ='ДЦ 63'!$E$8:$N$8 -> ЕКП № 2065590017021409 | O8: Разрядные нормативы
B9: ='ДЦ 63'!$B$9:$D$9 -> Количество участников - 92 | E9: Толчок длинный цикл (мужчины) | O9: МСМК | P9: МС | Q9: КМС
B10: ='ДЦ 63'!$B$10:$D$10 -> Количество регионов - 10 | E10: Весовая категория 68 кг | O10: 72 | P10: 56 | Q10: 45
B12: Место | C12: Фамилия Имя | E12: Дата рождения | F12: Звание | G12: Команда | H12: ДСО, ведомство | I12: Соб. вес | J12: Толчок | K12: Рывок | M12: Сумма дв-рья | N12: Ком. очки | O12: Вып. разряд | P12: ФИО тренера(тренеров)
K13: Сумма | L13: Очки
A14: 76 | B14: 1 | C14: =VLOOKUP(A14,Список!$A$2:$J$123,3) -> Новоселов Андрей | E14: =VLOOKUP(A14,Список!$A$2:$J$123,4) -> 2004 | F14: =VLOOKUP(A14,Список!$A$2:$J$123,5) -> МС | G14: =VLOOKUP(A14,Список!$A$2:$J$123,6) -> Кировская область | H14: =VLOOKUP(A14,Список!$A$2:$J$123,7) -> КОГАУ «СШОР «Юность» | I14: =VLOOKUP(A14,Список!$A$2:$J$123,8) -> 68 | J14: 64 | N14: =IF(B14=1,20,IF(B14=2,18,IF(B14=3,16,IF(B14>19,0,19-B14)))) -> 20 | O14: =IF(AND(NOT(OR(F14="МСМК",F14="ЗМС")),J14>=$O$10),"+МСМК",IF(AND(OR(F14="МСМК",F14="ЗМС"),J14>=$O$10),"МСМК",IF(AND(NOT(OR(F14="МСМК",F14="МС",F14="ЗМС")),J14>=$P$10),"+МС",IF(AND(OR(F14="МСМК",F14="МС",F14="ЗМС"),J14>=$P$10),"МС",IF(AND(NOT(OR(F14="ЗМС",F14="МСМК",F14="МС",F14="КМС")),J14>=$Q$10),"+КМС",IF(AND(OR(F14="ЗМС",F14="МСМК",F14="МС",F14="КМС"),J14>=$Q$10),"КМС","-")))))) -> МС | P14: =VLOOKUP(A14,Список!$A$2:$J$123,9) -> Малков Е.И.
A15: 41 | B15: 2 | C15: =VLOOKUP(A15,Список!$A$2:$J$123,3) -> Ярусов Константин | E15: =VLOOKUP(A15,Список!$A$2:$J$123,4) -> 2006 | F15: =VLOOKUP(A15,Список!$A$2:$J$123,5) -> КМС | G15: =VLOOKUP(A15,Список!$A$2:$J$123,6) -> Пермский край | H15: =VLOOKUP(A15,Список!$A$2:$J$123,7) -> МБУ ДО «ДЮСШ «Спарт» | I15: =VLOOKUP(A15,Список!$A$2:$J$123,8) -> 67 | J15: 41 | N15: =IF(B15=1,20,IF(B15=2,18,IF(B15=3,16,IF(B15>19,0,19-B15)))) -> 18 | O15: =IF(AND(NOT(OR(F15="МСМК",F15="ЗМС")),J15>=$O$10),"+МСМК",IF(AND(OR(F15="МСМК",F15="ЗМС"),J15>=$O$10),"МСМК",IF(AND(NOT(OR(F15="МСМК",F15="МС",F15="ЗМС")),J15>=$P$10),"+МС",IF(AND(OR(F15="МСМК",F15="МС",F15="ЗМС"),J15>=$P$10),"МС",IF(AND(NOT(OR(F15="ЗМС",F15="МСМК",F15="МС",F15="КМС")),J15>=$Q$10),"+КМС",IF(AND(OR(F15="ЗМС",F15="МСМК",F15="МС",F15="КМС"),J15>=$Q$10),"КМС","-")))))) -> - | P15: =VLOOKUP(A15,Список!$A$2:$J$123,9) -> Маматов Г.Т.
A16: 25 | B16: 3 | C16: =VLOOKUP(A16,Список!$A$2:$J$123,3) -> Киякин Александр | E16: =VLOOKUP(A16,Список!$A$2:$J$123,4) -> 2001 | F16: =VLOOKUP(A16,Список!$A$2:$J$123,5) -> МС | G16: =VLOOKUP(A16,Список!$A$2:$J$123,6) -> Оренбургская область | H16: =VLOOKUP(A16,Список!$A$2:$J$123,7) -> СШ №1 им. Л.Д. Ковалевского | I16: =VLOOKUP(A16,Список!$A$2:$J$123,8) -> 67.5 | J16: 28 | N16: =IF(B16=1,20,IF(B16=2,18,IF(B16=3,16,IF(B16>19,0,19-B16)))) -> 16 | O16: =IF(AND(NOT(OR(F16="МСМК",F16="ЗМС")),J16>=$O$10),"+МСМК",IF(AND(OR(F16="МСМК",F16="ЗМС"),J16>=$O$10),"МСМК",IF(AND(NOT(OR(F16="МСМК",F16="МС",F16="ЗМС")),J16>=$P$10),"+МС",IF(AND(OR(F16="МСМК",F16="МС",F16="ЗМС"),J16>=$P$10),"МС",IF(AND(NOT(OR(F16="ЗМС",F16="МСМК",F16="МС",F16="КМС")),J16>=$Q$10),"+КМС",IF(AND(OR(F16="ЗМС",F16="МСМК",F16="МС",F16="КМС"),J16>=$Q$10),"КМС","-")))))) -> - | P16: =VLOOKUP(A16,Список!$A$2:$J$123,9) -> Павлов С.П.
D19: Главный судья | J19: ='ДЦ 63'!$I$22 -> Ческис О.И., 1К (Пермский край)
D21: Главный секретарь | J21: ='ДЦ 63'!$I$24 -> Паклина М.В., ВК (Пермский край)
D23: Зам. главного судьи | J23: ='ДЦ 63'!$I$26 -> Паклин П.А., ВК (Пермский край)
D25: Зам. главного секретаря | J25: ='ДЦ 63'!$I$28 -> Мошев Д.И., 1К (Пермский край)

Sheet ДЦ 73
B1: Министерство спорта Российской Федерации.
B2: Общероссийская общественная организация "Всероссийская федерация гиревого спорта".
B3: ='ДЦ 63'!$B$3:$Q$3 -> Министерство физической культуры и спорта Пермского края
B4: ='ДЦ 63'!$B$4:$Q$4 -> Региональное отделение общероссийской общественной организации "ВФГС в Пермском крае"
B6: 12-14 апреля 2024 г. | E6: ПРОТОКОЛ | O6: Вес гирь 32 кг.
B7: г. Пермь | E7: Чемпионата Приволжского федерального округа | O7: Регламент времени - 10 мин.
E8: ='ДЦ 63'!$E$8:$N$8 -> ЕКП № 2065590017021409 | O8: Разрядные нормативы
B9: ='ДЦ 63'!$B$9:$D$9 -> Количество участников - 92 | E9: Толчок длинный цикл (мужчины) | O9: МСМК | P9: МС | Q9: КМС
B10: ='ДЦ 63'!$B$10:$D$10 -> Количество регионов - 10 | E10: Весовая категория 73 кг | O10: 76 | P10: 62 | Q10: 48
B12: Место | C12: Фамилия Имя | E12: Дата рождения | F12: Звание | G12: Команда | H12: ДСО, ведомство | I12: Соб. вес | J12: Толчок | K12: Рывок | M12: Сумма дв-рья | N12: Ком. очки | O12: Вып. разряд | P12: ФИО тренера(тренеров)
K13: Сумма | L13: Очки
A14: 78 | B14: 1 | C14: =VLOOKUP(A14,Список!$A$2:$J$123,3) -> Перминов Максим | E14: =VLOOKUP(A14,Список!$A$2:$J$123,4) -> 1994 | F14: =VLOOKUP(A14,Список!$A$2:$J$123,5) -> КМС | G14: =VLOOKUP(A14,Список!$A$2:$J$123,6) -> Кировская область | H14: =VLOOKUP(A14,Список!$A$2:$J$123,7) -> КОГАУ «СШОР «Юность» | I14: =VLOOKUP(A14,Список!$A$2:$J$123,8) -> 72.45 | J14: 58 | N14: =IF(B14=1,20,IF(B14=2,18,IF(B14=3,16,IF(B14>19,0,19-B14)))) -> 20 | O14: =IF(AND(NOT(OR(F14="МСМК",F14="ЗМС")),J14>=$O$10),"+МСМК",IF(AND(OR(F14="МСМК",F14="ЗМС"),J14>=$O$10),"МСМК",IF(AND(NOT(OR(F14="МСМК",F14="МС",F14="ЗМС")),J14>=$P$10),"+МС",IF(AND(OR(F14="МСМК",F14="МС",F14="ЗМС"),J14>=$P$10),"МС",IF(AND(NOT(OR(F14="ЗМС",F14="МСМК",F14="МС",F14="КМС")),J14>=$Q$10),"+КМС",IF(AND(OR(F14="ЗМС",F14="МСМК",F14="МС",F14="КМС"),J14>=$Q$10),"КМС","-")))))) -> КМС | P14: =VLOOKUP(A14,Список!$A$2:$J$123,9) -> Малков Е.И.
A15: 2 | B15: 2 | C15: =VLOOKUP(A15,Список!$A$2:$J$123,3) -> Крюков Дмитрий | E15: =VLOOKUP(A15,Список!$A$2:$J$123,4) -> 1993 | F15: =VLOOKUP(A15,Список!$A$2:$J$123,5) -> КМС | G15: =VLOOKUP(A15,Список!$A$2:$J$123,6) -> Нижегородская область | I15: =VLOOKUP(A15,Список!$A$2:$J$123,8) -> 72.35 | J15: 48 | N15: =IF(B15=1,20,IF(B15=2,18,IF(B15=3,16,IF(B15>19,0,19-B15)))) -> 18 | O15: =IF(AND(NOT(OR(F15="МСМК",F15="ЗМС")),J15>=$O$10),"+МСМК",IF(AND(OR(F15="МСМК",F15="ЗМС"),J15>=$O$10),"МСМК",IF(AND(NOT(OR(F15="МСМК",F15="МС",F15="ЗМС")),J15>=$P$10),"+МС",IF(AND(OR(F15="МСМК",F15="МС",F15="ЗМС"),J15>=$P$10),"МС",IF(AND(NOT(OR(F15="ЗМС",F15="МСМК",F15="МС",F15="КМС")),J15>=$Q$10),"+КМС",IF(AND(OR(F15="ЗМС",F15="МСМК",F15="МС",F15="КМС"),J15>=$Q$10),"КМС","-")))))) -> КМС | P15: =VLOOKUP(A15,Список!$A$2:$J$123,9) -> Маркичев Э.Ф.
A16: 31 | B16: 3 | C16: =VLOOKUP(A16,Список!$A$2:$J$123,3) -> Шамкаев Радик | E16: =VLOOKUP(A16,Список!$A$2:$J$123,4) -> 1990 | F16: =VLOOKUP(A16,Список!$A$2:$J$123,5) -> КМС | G16: =VLOOKUP(A16,Список!$A$2:$J$123,6) -> Оренбургская область | H16: =VLOOKUP(A16,Список!$A$2:$J$123,7) -> СШ №1 им. Л.Д. Ковалевского | I16: =VLOOKUP(A16,Список!$A$2:$J$123,8) -> 72.25 | J16: 47 | N16: =IF(B16=1,20,IF(B16=2,18,IF(B16=3,16,IF(B16>19,0,19-B16)))) -> 16 | O16: =IF(AND(NOT(OR(F16="МСМК",F16="ЗМС")),J16>=$O$10),"+МСМК",IF(AND(OR(F16="МСМК",F16="ЗМС"),J16>=$O$10),"МСМК",IF(AND(NOT(OR(F16="МСМК",F16="МС",F16="ЗМС")),J16>=$P$10),"+МС",IF(AND(OR(F16="МСМК",F16="МС",F16="ЗМС"),J16>=$P$10),"МС",IF(AND(NOT(OR(F16="ЗМС",F16="МСМК",F16="МС",F16="КМС")),J16>=$Q$10),"+КМС",IF(AND(OR(F16="ЗМС",F16="МСМК",F16="МС",F16="КМС"),J16>=$Q$10),"КМС","-")))))) -> - | P16: =VLOOKUP(A16,Список!$A$2:$J$123,9) -> Фунтиков Н.Н.
A17: 44 | B17: 4 | C17: =VLOOKUP(A17,Список!$A$2:$J$123,3) -> Ошмарин Никита | E17: =VLOOKUP(A17,Список!$A$2:$J$123,4) -> 2003 | F17: =VLOOKUP(A17,Список!$A$2:$J$123,5) -> КМС | G17: =VLOOKUP(A17,Список!$A$2:$J$123,6) -> Пермский край | H17: =VLOOKUP(A17,Список!$A$2:$J$123,7) -> МБУ ДО «ДЮСШ «Спарт» | I17: =VLOOKUP(A17,Список!$A$2:$J$123,8) -> 72.85 | J17: 38 | N17: =IF(B17=1,20,IF(B17=2,18,IF(B17=3,16,IF(B17>19,0,19-B17)))) -> 15 | O17: =IF(AND(NOT(OR(F17="МСМК",F17="ЗМС")),J17>=$O$10),"+МСМК",IF(AND(OR(F17="МСМК",F17="ЗМС"),J17>=$O$10),"МСМК",IF(AND(NOT(OR(F17="МСМК",F17="МС",F17="ЗМС")),J17>=$P$10),"+МС",IF(AND(OR(F17="МСМК",F17="МС",F17="ЗМС"),J17>=$P$10),"МС",IF(AND(NOT(OR(F17="ЗМС",F17="МСМК",F17="МС",F17="КМС")),J17>=$Q$10),"+КМС",IF(AND(OR(F17="ЗМС",F17="МСМК",F17="МС",F17="КМС"),J17>=$Q$10),"КМС","-")))))) -> - | P17: =VLOOKUP(A17,Список!$A$2:$J$123,9) -> Маматов Г.Т.
C20: Главный судья | I20: ='ДЦ 63'!$I$22 -> Ческис О.И., 1К (Пермский край)
C22: Главный секретарь | I22: ='ДЦ 63'!$I$24 -> Паклина М.В., ВК (Пермский край)
C24: Зам. главного судьи | I24: ='ДЦ 63'!$I$26 -> Паклин П.А., ВК (Пермский край)
C26: Зам. главного секретаря | I26: ='ДЦ 63'!$I$28 -> Мошев Д.И., 1К (Пермский край)

Sheet ДЦ 78
B1: Министерство спорта Российской Федерации.
B2: Общероссийская общественная организация "Всероссийская федерация гиревого спорта".
B3: ='ДЦ 63'!$B$3:$Q$3 -> Министерство физической культуры и спорта Пермского края
B4: ='ДЦ 63'!$B$4:$Q$4 -> Региональное отделение общероссийской общественной организации "ВФГС в Пермском крае"
B6: 12-14 апреля 2024 г. | E6: ПРОТОКОЛ | O6: Вес гирь 32 кг.
B7: г. Пермь | E7: Чемпионата Приволжского федерального округа | O7: Регламент времени - 10 мин.
E8: ='ДЦ 63'!$E$8:$N$8 -> ЕКП № 2065590017021409 | O8: Разрядные нормативы
B9: ='ДЦ 63'!$B$9:$D$9 -> Количество участников - 92 | E9: Толчок длинный цикл (мужчины) | O9: МСМК | P9: МС | Q9: КМС
B10: ='ДЦ 63'!$B$10:$D$10 -> Количество регионов - 10 | E10: Весовая категория 78 кг | O10: 79 | P10: 66 | Q10: 52
B12: Место | C12: Фамилия Имя | E12: Дата рождения | F12: Звание | G12: Команда | H12: ДСО, ведомство | I12: Соб. вес | J12: Толчок | K12: Рывок | M12: Сумма дв-рья | N12: Ком. очки | O12: Вып. разряд | P12: ФИО тренера(тренеров)
K13: Сумма | L13: Очки
A14: 91 | B14: 1 | C14: =VLOOKUP(A14,Список!$A$2:$J$123,3) -> Ляукин Кирилл | E14: =VLOOKUP(A14,Список!$A$2:$J$123,4) -> 1999 | F14: =VLOOKUP(A14,Список!$A$2:$J$123,5) -> МС | G14: =VLOOKUP(A14,Список!$A$2:$J$123,6) -> Республика Татарстан | H14: =VLOOKUP(A14,Список!$A$2:$J$123,7) -> РОО «ФГС РТ» | I14: =VLOOKUP(A14,Список!$A$2:$J$123,8) -> 77.95 | J14: 78 | N14: =IF(B14=1,20,IF(B14=2,18,IF(B14=3,16,IF(B14>19,0,19-B14)))) -> 20 | O14: =IF(AND(NOT(OR(F14="МСМК",F14="ЗМС")),J14>=$O$10),"+МСМК",IF(AND(OR(F14="МСМК",F14="ЗМС"),J14>=$O$10),"МСМК",IF(AND(NOT(OR(F14="МСМК",F14="МС",F14="ЗМС")),J14>=$P$10),"+МС",IF(AND(OR(F14="МСМК",F14="МС",F14="ЗМС"),J14>=$P$10),"МС",IF(AND(NOT(OR(F14="ЗМС",F14="МСМК",F14="МС",F14="КМС")),J14>=$Q$10),"+КМС",IF(AND(OR(F14="ЗМС",F14="МСМК",F14="МС",F14="КМС"),J14>=$Q$10),"КМС","-")))))) -> МС | P14: =VLOOKUP(A14,Список!$A$2:$J$123,9) -> Низамова А.А.
A15: 50 | B15: 2 | C15: =VLOOKUP(A15,Список!$A$2:$J$123,3) -> Порцев Роман | E15: =VLOOKUP(A15,Список!$A$2:$J$123,4) -> 1987 | F15: =VLOOKUP(A15,Список!$A$2:$J$123,5) -> МС | G15: =VLOOKUP(A15,Список!$A$2:$J$123,6) -> Пермский край | H15: =VLOOKUP(A15,Список!$A$2:$J$123,7) -> ДО ДС ДЮ «Прикамье» | I15: =VLOOKUP(A15,Список!$A$2:$J$123,8) -> 77.35 | J15: 71 | N15: =IF(B15=1,20,IF(B15=2,18,IF(B15=3,16,IF(B15>19,0,19-B15)))) -> 18 | O15: =IF(AND(NOT(OR(F15="МСМК",F15="ЗМС")),J15>=$O$10),"+МСМК",IF(AND(OR(F15="МСМК",F15="ЗМС"),J15>=$O$10),"МСМК",IF(AND(NOT(OR(F15="МСМК",F15="МС",F15="ЗМС")),J15>=$P$10),"+МС",IF(AND(OR(F15="МСМК",F15="МС",F15="ЗМС"),J15>=$P$10),"МС",IF(AND(NOT(OR(F15="ЗМС",F15="МСМК",F15="МС",F15="КМС")),J15>=$Q$10),"+КМС",IF(AND(OR(F15="ЗМС",F15="МСМК",F15="МС",F15="КМС"),J15>=$Q$10),"КМС","-")))))) -> МС | P15: =VLOOKUP(A15,Список!$A$2:$J$123,9) -> Мошев Д.И
A16: 21 | B16: 3 | C16: =VLOOKUP(A16,Список!$A$2:$J$123,3) -> Никитин Дмитрий | E16: =VLOOKUP(A16,Список!$A$2:$J$123,4) -> 2004 | F16: =VLOOKUP(A16,Список!$A$2:$J$123,5) -> МС | G16: =VLOOKUP(A16,Список!$A$2:$J$123,6) -> Самарская область | I16: =VLOOKUP(A16,Список!$A$2:$J$123,8) -> 77.75 | J16: 65 | N16: =IF(B16=1,20,IF(B16=2,18,IF(B16=3,16,IF(B16>19,0,19-B16)))) -> 16 | O16: =IF(AND(NOT(OR(F16="МСМК",F16="ЗМС")),J16>=$O$10),"+МСМК",IF(AND(OR(F16="МСМК",F16="ЗМС"),J16>=$O$10),"МСМК",IF(AND(NOT(OR(F16="МСМК",F16="МС",F16="ЗМС")),J16>=$P$10),"+МС",IF(AND(OR(F16="МСМК",F16="МС",F16="ЗМС"),J16>=$P$10),"МС",IF(AND(NOT(OR(F16="ЗМС",F16="МСМК",F16="МС",F16="КМС")),J16>=$Q$10),"+КМС",IF(AND(OR(F16="ЗМС",F16="МСМК",F16="МС",F16="КМС"),J16>=$Q$10),"КМС","-")))))) -> КМС | P16: =VLOOKUP(A16,Список!$A$2:$J$123,9) -> Балдин А.В.
A17: 77 | B17: 4 | C17: =VLOOKUP(A17,Список!$A$2:$J$123,3) -> Алцыбеев Никита | E17: =VLOOKUP(A17,Список!$A$2:$J$123,4) -> 2003 | F17: =VLOOKUP(A17,Список!$A$2:$J$123,5) -> МС | G17: =VLOOKUP(A17,Список!$A$2:$J$123,6) -> Кировская область | H17: =VLOOKUP(A17,Список!$A$2:$J$123,7) -> КОГАУ «СШОР «Юность» | I17: =VLOOKUP(A17,Список!$A$2:$J$123,8) -> 77.95 | J17: 64 | N17: =IF(B17=1,20,IF(B17=2,18,IF(B17=3,16,IF(B17>19,0,19-B17)))) -> 15 | O17: =IF(AND(NOT(OR(F17="МСМК",F17="ЗМС")),J17>=$O$10),"+МСМК",IF(AND(OR(F17="МСМК",F17="ЗМС"),J17>=$O$10),"МСМК",IF(AND(NOT(OR(F17="МСМК",F17="МС",F17="ЗМС")),J17>=$P$10),"+МС",IF(AND(OR(F17="МСМК",F17="МС",F17="ЗМС"),J17>=$P$10),"МС",IF(AND(NOT(OR(F17="ЗМС",F17="МСМК",F17="МС",F17="КМС")),J17>=$Q$10),"+КМС",IF(AND(OR(F17="ЗМС",F17="МСМК",F17="МС",F17="КМС"),J17>=$Q$10),"КМС","-")))))) -> КМС | P17: =VLOOKUP(A17,Список!$A$2:$J$123,9) -> Малков Е.И.
A18: 22 | B18: 5 | C18: =VLOOKUP(A18,Список!$A$2:$J$123,3) -> Акульшин Алексей | E18: =VLOOKUP(A18,Список!$A$2:$J$123,4) -> 1994 | F18: =VLOOKUP(A18,Список!$A$2:$J$123,5) -> МС | G18: =VLOOKUP(A18,Список!$A$2:$J$123,6) -> Оренбургская область | H18: =VLOOKUP(A18,Список!$A$2:$J$123,7) -> СШ №1 им. Л.Д. Ковалевского | I18: =VLOOKUP(A18,Список!$A$2:$J$123,8) -> 77.8 | J18: 60 | N18: =IF(B18=1,20,IF(B18=2,18,IF(B18=3,16,IF(B18>19,0,19-B18)))) -> 14 | O18: =IF(AND(NOT(OR(F18="МСМК",F18="ЗМС")),J18>=$O$10),"+МСМК",IF(AND(OR(F18="МСМК",F18="ЗМС"),J18>=$O$10),"МСМК",IF(AND(NOT(OR(F18="МСМК",F18="МС",F18="ЗМС")),J18>=$P$10),"+МС",IF(AND(OR(F18="МСМК",F18="МС",F18="ЗМС"),J18>=$P$10),"МС",IF(AND(NOT(OR(F18="ЗМС",F18="МСМК",F18="МС",F18="КМС")),J18>=$Q$10),"+КМС",IF(AND(OR(F18="ЗМС",F18="МСМК",F18="МС",F18="КМС"),J18>=$Q$10),"КМС","-")))))) -> КМС | P18: =VLOOKUP(A18,Список!$A$2:$J$123,9) -> Фунтиков Н.Н.
A19: 42 | B19: 6 | C19: =VLOOKUP(A19,Список!$A$2:$J$123,3) -> Лесников Михаил | E19: =VLOOKUP(A19,Список!$A$2:$J$123,4) -> 2007 | F19: =VLOOKUP(A19,Список!$A$2:$J$123,5) -> КМС | G19: =VLOOKUP(A19,Список!$A$2:$J$123,6) -> Пермский край | H19: =VLOOKUP(A19,Список!$A$2:$J$123,7) -> МБУ ДО «ДЮСШ «Спарт» | I19: =VLOOKUP(A19,Список!$A$2:$J$123,8) -> 75.75 | J19: 35 | N19: =IF(B19=1,20,IF(B19=2,18,IF(B19=3,16,IF(B19>19,0,19-B19)))) -> 13 | O19: =IF(AND(NOT(OR(F19="МСМК",F19="ЗМС")),J19>=$O$10),"+МСМК",IF(AND(OR(F19="МСМК",F19="ЗМС"),J19>=$O$10),"МСМК",IF(AND(NOT(OR(F19="МСМК",F19="МС",F19="ЗМС")),J19>=$P$10),"+МС",IF(AND(OR(F19="МСМК",F19="МС",F19="ЗМС"),J19>=$P$10),"МС",IF(AND(NOT(OR(F19="ЗМС",F19="МСМК",F19="МС",F19="КМС")),J19>=$Q$10),"+КМС",IF(AND(OR(F19="ЗМС",F19="МСМК",F19="МС",F19="КМС"),J19>=$Q$10),"КМС","-")))))) -> - | P19: =VLOOKUP(A19,Список!$A$2:$J$123,9) -> Маматов Г.Т.
C20: =VLOOKUP(A20,Список!$A$2:$J$123,3) -> #N/A | E20: =VLOOKUP(A20,Список!$A$2:$J$123,4) -> #N/A | F20: =VLOOKUP(A20,Список!$A$2:$J$123,5) -> #N/A | G20: =VLOOKUP(A20,Список!$A$2:$J$123,6) -> #N/A | H20: =VLOOKUP(A20,Список!$A$2:$J$123,7) -> #N/A | I20: =VLOOKUP(A20,Список!$A$2:$J$123,8) -> #N/A | N20: =IF(B20=1,20,IF(B20=2,18,IF(B20=3,16,IF(B20>19,0,19-B20)))) -> 19 | O20: =IF(AND(NOT(OR(F20="МСМК",F20="ЗМС")),J20>=$O$10),"+МСМК",IF(AND(OR(F20="МСМК",F20="ЗМС"),J20>=$O$10),"МСМК",IF(AND(NOT(OR(F20="МСМК",F20="МС",F20="ЗМС")),J20>=$P$10),"+МС",IF(AND(OR(F20="МСМК",F20="МС",F20="ЗМС"),J20>=$P$10),"МС",IF(AND(NOT(OR(F20="ЗМС",F20="МСМК",F20="МС",F20="КМС")),J20>=$Q$10),"+КМС",IF(AND(OR(F20="ЗМС",F20="МСМК",F20="МС",F20="КМС"),J20>=$Q$10),"КМС","-")))))) -> #N/A | P20: =VLOOKUP(A20,Список!$A$2:$J$123,9) -> #N/A
C21: =VLOOKUP(A21,Список!$A$2:$J$123,3) -> #N/A | E21: =VLOOKUP(A21,Список!$A$2:$J$123,4) -> #N/A | F21: =VLOOKUP(A21,Список!$A$2:$J$123,5) -> #N/A | G21: =VLOOKUP(A21,Список!$A$2:$J$123,6) -> #N/A | H21: =VLOOKUP(A21,Список!$A$2:$J$123,7) -> #N/A | I21: =VLOOKUP(A21,Список!$A$2:$J$123,8) -> #N/A | N21: =IF(B21=1,20,IF(B21=2,18,IF(B21=3,16,IF(B21>19,0,19-B21)))) -> 19 | O21: =IF(AND(NOT(OR(F21="МСМК",F21="ЗМС")),J21>=$O$10),"+МСМК",IF(AND(OR(F21="МСМК",F21="ЗМС"),J21>=$O$10),"МСМК",IF(AND(NOT(OR(F21="МСМК",F21="МС",F21="ЗМС")),J21>=$P$10),"+МС",IF(AND(OR(F21="МСМК",F21="МС",F21="ЗМС"),J21>=$P$10),"МС",IF(AND(NOT(OR(F21="ЗМС",F21="МСМК",F21="МС",F21="КМС")),J21>=$Q$10),"+КМС",IF(AND(OR(F21="ЗМС",F21="МСМК",F21="МС",F21="КМС"),J21>=$Q$10),"КМС","-")))))) -> #N/A | P21: =VLOOKUP(A21,Список!$A$2:$J$123,9) -> #N/A
C22: =VLOOKUP(A22,Список!$A$2:$J$123,3) -> #N/A | E22: =VLOOKUP(A22,Список!$A$2:$J$123,4) -> #N/A | F22: =VLOOKUP(A22,Список!$A$2:$J$123,5) -> #N/A | G22: =VLOOKUP(A22,Список!$A$2:$J$123,6) -> #N/A | H22: =VLOOKUP(A22,Список!$A$2:$J$123,7) -> #N/A | I22: =VLOOKUP(A22,Список!$A$2:$J$123,8) -> #N/A | N22: =IF(B22=1,20,IF(B22=2,18,IF(B22=3,16,IF(B22>19,0,19-B22)))) -> 19 | O22: =IF(AND(NOT(OR(F22="МСМК",F22="ЗМС")),J22>=$O$10),"+МСМК",IF(AND(OR(F22="МСМК",F22="ЗМС"),J22>=$O$10),"МСМК",IF(AND(NOT(OR(F22="МСМК",F22="МС",F22="ЗМС")),J22>=$P$10),"+МС",IF(AND(OR(F22="МСМК",F22="МС",F22="ЗМС"),J22>=$P$10),"МС",IF(AND(NOT(OR(F22="ЗМС",F22="МСМК",F22="МС",F22="КМС")),J22>=$Q$10),"+КМС",IF(AND(OR(F22="ЗМС",F22="МСМК",F22="МС",F22="КМС"),J22>=$Q$10),"КМС","-")))))) -> #N/A | P22: =VLOOKUP(A22,Список!$A$2:$J$123,9) -> #N/A
C25: Главный судья | I25: ='ДЦ 63'!$I$22 -> Ческис О.И., 1К (Пермский край)
C27: Главный секретарь | I27: ='ДЦ 63'!$I$24 -> Паклина М.В., ВК (Пермский край)
C29: Зам. главного судьи | I29: ='ДЦ 63'!$I$26 -> Паклин П.А., ВК (Пермский край)
C31: Зам. главного секретаря | I31: ='ДЦ 63'!$I$28 -> Мошев Д.И., 1К (Пермский край)

Sheet ДЦ 85
B1: Министерство спорта Российской Федерации.
B2: Общероссийская общественная организация "Всероссийская федерация гиревого спорта".
B3: ='ДЦ 63'!$B$3:$Q$3 -> Министерство физической культуры и спорта Пермского края
B4: ='ДЦ 63'!$B$4:$Q$4 -> Региональное отделение общероссийской общественной организации "ВФГС в Пермском крае"
B6: 12-14 апреля 2024 г. | E6: ПРОТОКОЛ | O6: Вес гирь 32 кг.
B7: г. Пермь | E7: Чемпионата Приволжского федерального округа | O7: Регламент времени - 10 мин.
E8: ='ДЦ 63'!$E$8:$N$8 -> ЕКП № 2065590017021409 | O8: Разрядные нормативы
B9: ='ДЦ 63'!$B$9:$D$9 -> Количество участников - 92 | E9: Толчок длинный цикл (мужчины) | O9: МСМК | P9: МС | Q9: КМС
B10: ='ДЦ 63'!$B$10:$D$10 -> Количество регионов - 10 | E10: Весовая категория 85 кг | O10: 82 | P10: 69 | Q10: 55
B12: Место | C12: Фамилия Имя | E12: Дата рождения | F12: Звание | G12: Команда | H12: ДСО, ведомство | I12: Соб. вес | J12: Толчок | K12: Рывок | M12: Сумма дв-рья | N12: Ком. очки | O12: Вып. разряд | P12: ФИО тренера(тренеров)
K13: Сумма | L13: Очки
A14: 24 | B14: 1 | C14: =VLOOKUP(A14,Список!$A$2:$J$123,3) -> Заварзин Павел | E14: =VLOOKUP(A14,Список!$A$2:$J$123,4) -> 2000 | F14: =VLOOKUP(A14,Список!$A$2:$J$123,5) -> МС | G14: =VLOOKUP(A14,Список!$A$2:$J$123,6) -> Оренбургская область | H14: =VLOOKUP(A14,Список!$A$2:$J$123,7) -> СШ №1 им. Л.Д. Ковалевского | I14: =VLOOKUP(A14,Список!$A$2:$J$123,8) -> 82.3 | J14: 72 | N14: =IF(B14=1,20,IF(B14=2,18,IF(B14=3,16,IF(B14>19,0,19-B14)))) -> 20 | O14: =IF(AND(NOT(OR(F14="МСМК",F14="ЗМС")),J14>=$O$10),"+МСМК",IF(AND(OR(F14="МСМК",F14="ЗМС"),J14>=$O$10),"МСМК",IF(AND(NOT(OR(F14="МСМК",F14="МС",F14="ЗМС")),J14>=$P$10),"+МС",IF(AND(OR(F14="МСМК",F14="МС",F14="ЗМС"),J14>=$P$10),"МС",IF(AND(NOT(OR(F14="ЗМС",F14="МСМК",F14="МС",F14="КМС")),J14>=$Q$10),"+КМС",IF(AND(OR(F14="ЗМС",F14="МСМК",F14="МС",F14="КМС"),J14>=$Q$10),"КМС","-")))))) -> МС | P14: =VLOOKUP(A14,Список!$A$2:$J$123,9) -> Павлов С.П.
A15: 4 | B15: 2 | C15: =VLOOKUP(A15,Список!$A$2:$J$123,3) -> Разживин Андрей | E15: =VLOOKUP(A15,Список!$A$2:$J$123,4) -> 1986 | F15: =VLOOKUP(A15,Список!$A$2:$J$123,5) -> МСМК | G15: =VLOOKUP(A15,Список!$A$2:$J$123,6) -> Нижегородская область | I15: =VLOOKUP(A15,Список!$A$2:$J$123,8) -> 83.15 | J15: 69 | N15: =IF(B15=1,20,IF(B15=2,18,IF(B15=3,16,IF(B15>19,0,19-B15)))) -> 18 | O15: =IF(AND(NOT(OR(F15="МСМК",F15="ЗМС")),J15>=$O$10),"+МСМК",IF(AND(OR(F15="МСМК",F15="ЗМС"),J15>=$O$10),"МСМК",IF(AND(NOT(OR(F15="МСМК",F15="МС",F15="ЗМС")),J15>=$P$10),"+МС",IF(AND(OR(F15="МСМК",F15="МС",F15="ЗМС"),J15>=$P$10),"МС",IF(AND(NOT(OR(F15="ЗМС",F15="МСМК",F15="МС",F15="КМС")),J15>=$Q$10),"+КМС",IF(AND(OR(F15="ЗМС",F15="МСМК",F15="МС",F15="КМС"),J15>=$Q$10),"КМС","-")))))) -> МС | P15: =VLOOKUP(A15,Список!$A$2:$J$123,9) -> самостоятельно
A16: 27 | B16: 3 | C16: =VLOOKUP(A16,Список!$A$2:$J$123,3) -> Пешков Виталий | E16: =VLOOKUP(A16,Список!$A$2:$J$123,4) -> 1998 | F16: =VLOOKUP(A16,Список!$A$2:$J$123,5) -> МС | G16: =VLOOKUP(A16,Список!$A$2:$J$123,6) -> Оренбургская область | H16: =VLOOKUP(A16,Список!$A$2:$J$123,7) -> СШ №1 им. Л.Д. Ковалевского | I16: =VLOOKUP(A16,Список!$A$2:$J$123,8) -> 82 | J16: 63 | N16: =IF(B16=1,20,IF(B16=2,18,IF(B16=3,16,IF(B16>19,0,19-B16)))) -> 16 | O16: =IF(AND(NOT(OR(F16="МСМК",F16="ЗМС")),J16>=$O$10),"+МСМК",IF(AND(OR(F16="МСМК",F16="ЗМС"),J16>=$O$10),"МСМК",IF(AND(NOT(OR(F16="МСМК",F16="МС",F16="ЗМС")),J16>=$P$10),"+МС",IF(AND(OR(F16="МСМК",F16="МС",F16="ЗМС"),J16>=$P$10),"МС",IF(AND(NOT(OR(F16="ЗМС",F16="МСМК",F16="МС",F16="КМС")),J16>=$Q$10),"+КМС",IF(AND(OR(F16="ЗМС",F16="МСМК",F16="МС",F16="КМС"),J16>=$Q$10),"КМС","-")))))) -> КМС | P16: =VLOOKUP(A16,Список!$A$2:$J$123,9) -> Лавринов В.А.
A17: 79 | B17: 4 | C17: =VLOOKUP(A17,Список!$A$2:$J$123,3) -> Кашин Кирилл | E17: =VLOOKUP(A17,Список!$A$2:$J$123,4) -> 2003 | F17: =VLOOKUP(A17,Список!$A$2:$J$123,5) -> КМС | G17: =VLOOKUP(A17,Список!$A$2:$J$123,6) -> Кировская область | H17: =VLOOKUP(A17,Список!$A$2:$J$123,7) -> КОГАУ «СШОР «Юность» | I17: =VLOOKUP(A17,Список!$A$2:$J$123,8) -> 82.35 | J17: 59 | N17: =IF(B17=1,20,IF(B17=2,18,IF(B17=3,16,IF(B17>19,0,19-B17)))) -> 15 | O17: =IF(AND(NOT(OR(F17="МСМК",F17="ЗМС")),J17>=$O$10),"+МСМК",IF(AND(OR(F17="МСМК",F17="ЗМС"),J17>=$O$10),"МСМК",IF(AND(NOT(OR(F17="МСМК",F17="МС",F17="ЗМС")),J17>=$P$10),"+МС",IF(AND(OR(F17="МСМК",F17="МС",F17="ЗМС"),J17>=$P$10),"МС",IF(AND(NOT(OR(F17="ЗМС",F17="МСМК",F17="МС",F17="КМС")),J17>=$Q$10),"+КМС",IF(AND(OR(F17="ЗМС",F17="МСМК",F17="МС",F17="КМС"),J17>=$Q$10),"КМС","-")))))) -> КМС | P17: =VLOOKUP(A17,Список!$A$2:$J$123,9) -> Малков Е.И.
A18: 47 | B18: 5 | C18: =VLOOKUP(A18,Список!$A$2:$J$123,3) -> Крестьянинов Виктор | E18: =VLOOKUP(A18,Список!$A$2:$J$123,4) -> 2000 | F18: =VLOOKUP(A18,Список!$A$2:$J$123,5) -> МС | G18: =VLOOKUP(A18,Список!$A$2:$J$123,6) -> Пермский край | H18: =VLOOKUP(A18,Список!$A$2:$J$123,7) -> ДО ДС ДЮ «Прикамье» | I18: =VLOOKUP(A18,Список!$A$2:$J$123,8) -> 83.8 | J18: 45 | N18: =IF(B18=1,20,IF(B18=2,18,IF(B18=3,16,IF(B18>19,0,19-B18)))) -> 14 | O18: =IF(AND(NOT(OR(F18="МСМК",F18="ЗМС")),J18>=$O$10),"+МСМК",IF(AND(OR(F18="МСМК",F18="ЗМС"),J18>=$O$10),"МСМК",IF(AND(NOT(OR(F18="МСМК",F18="МС",F18="ЗМС")),J18>=$P$10),"+МС",IF(AND(OR(F18="МСМК",F18="МС",F18="ЗМС"),J18>=$P$10),"МС",IF(AND(NOT(OR(F18="ЗМС",F18="МСМК",F18="МС",F18="КМС")),J18>=$Q$10),"+КМС",IF(AND(OR(F18="ЗМС",F18="МСМК",F18="МС",F18="КМС"),J18>=$Q$10),"КМС","-")))))) -> - | P18: =VLOOKUP(A18,Список!$A$2:$J$123,9) -> Мошев Д.И., Панфилов Г.Н.
C19: =VLOOKUP(A19,Список!$A$2:$J$123,3) -> #N/A | E19: =VLOOKUP(A19,Список!$A$2:$J$123,4) -> #N/A | F19: =VLOOKUP(A19,Список!$A$2:$J$123,5) -> #N/A | G19: =VLOOKUP(A19,Список!$A$2:$J$123,6) -> #N/A | H19: =VLOOKUP(A19,Список!$A$2:$J$123,7) -> #N/A | I19: =VLOOKUP(A19,Список!$A$2:$J$123,8) -> #N/A | N19: =IF(B19=1,20,IF(B19=2,18,IF(B19=3,16,IF(B19>19,0,19-B19)))) -> 19 | O19: =IF(AND(NOT(OR(F19="МСМК",F19="ЗМС")),J19>=$O$10),"+МСМК",IF(AND(OR(F19="МСМК",F19="ЗМС"),J19>=$O$10),"МСМК",IF(AND(NOT(OR(F19="МСМК",F19="МС",F19="ЗМС")),J19>=$P$10),"+МС",IF(AND(OR(F19="МСМК",F19="МС",F19="ЗМС"),J19>=$P$10),"МС",IF(AND(NOT(OR(F19="ЗМС",F19="МСМК",F19="МС",F19="КМС")),J19>=$Q$10),"+КМС",IF(AND(OR(F19="ЗМС",F19="МСМК",F19="МС",F19="КМС"),J19>=$Q$10),"КМС","-")))))) -> #N/A | P19: =VLOOKUP(A19,Список!$A$2:$J$123,9) -> #N/A
C20: =VLOOKUP(A20,Список!$A$2:$J$123,3) -> #N/A | E20: =VLOOKUP(A20,Список!$A$2:$J$123,4) -> #N/A | F20: =VLOOKUP(A20,Список!$A$2:$J$123,5) -> #N/A | G20: =VLOOKUP(A20,Список!$A$2:$J$123,6) -> #N/A | H20: =VLOOKUP(A20,Список!$A$2:$J$123,7) -> #N/A | I20: =VLOOKUP(A20,Список!$A$2:$J$123,8) -> #N/A | N20: =IF(B20=1,20,IF(B20=2,18,IF(B20=3,16,IF(B20>19,0,19-B20)))) -> 19 | O20: =IF(AND(NOT(OR(F20="МСМК",F20="ЗМС")),J20>=$O$10),"+МСМК",IF(AND(OR(F20="МСМК",F20="ЗМС"),J20>=$O$10),"МСМК",IF(AND(NOT(OR(F20="МСМК",F20="МС",F20="ЗМС")),J20>=$P$10),"+МС",IF(AND(OR(F20="МСМК",F20="МС",F20="ЗМС"),J20>=$P$10),"МС",IF(AND(NOT(OR(F20="ЗМС",F20="МСМК",F20="МС",F20="КМС")),J20>=$Q$10),"+КМС",IF(AND(OR(F20="ЗМС",F20="МСМК",F20="МС",F20="КМС"),J20>=$Q$10),"КМС","-")))))) -> #N/A | P20: =VLOOKUP(A20,Список!$A$2:$J$123,9) -> #N/A
C21: =VLOOKUP(A21,Список!$A$2:$J$123,3) -> #N/A | E21: =VLOOKUP(A21,Список!$A$2:$J$123,4) -> #N/A | F21: =VLOOKUP(A21,Список!$A$2:$J$123,5) -> #N/A | G21: =VLOOKUP(A21,Список!$A$2:$J$123,6) -> #N/A | H21: =VLOOKUP(A21,Список!$A$2:$J$123,7) -> #N/A | I21: =VLOOKUP(A21,Список!$A$2:$J$123,8) -> #N/A | N21: =IF(B21=1,20,IF(B21=2,18,IF(B21=3,16,IF(B21>19,0,19-B21)))) -> 19 | O21: =IF(AND(NOT(OR(F21="МСМК",F21="ЗМС")),J21>=$O$10),"+МСМК",IF(AND(OR(F21="МСМК",F21="ЗМС"),J21>=$O$10),"МСМК",IF(AND(NOT(OR(F21="МСМК",F21="МС",F21="ЗМС")),J21>=$P$10),"+МС",IF(AND(OR(F21="МСМК",F21="МС",F21="ЗМС"),J21>=$P$10),"МС",IF(AND(NOT(OR(F21="ЗМС",F21="МСМК",F21="МС",F21="КМС")),J21>=$Q$10),"+КМС",IF(AND(OR(F21="ЗМС",F21="МСМК",F21="МС",F21="КМС"),J21>=$Q$10),"КМС","-")))))) -> #N/A | P21: =VLOOKUP(A21,Список!$A$2:$J$123,9) -> #N/A
C25: Главный судья | I25: ='ДЦ 63'!$I$22 -> Ческис О.И., 1К (Пермский край)
C27: Главный секретарь | I27: ='ДЦ 63'!$I$24 -> Паклина М.В., ВК (Пермский край)
C29: Зам. главного судьи | I29: ='ДЦ 63'!$I$26 -> Паклин П.А., ВК (Пермский край)
C31: Зам. главного секретаря | I31: ='ДЦ 63'!$I$28 -> Мошев Д.И., 1К (Пермский край)

Sheet ДЦ 95
B1: Министерство спорта Российской Федерации.
B2: Общероссийская общественная организация "Всероссийская федерация гиревого спорта".
B3: ='ДЦ 63'!$B$3:$Q$3 -> Министерство физической культуры и спорта Пермского края
B4: ='ДЦ 63'!$B$4:$Q$4 -> Региональное отделение общероссийской общественной организации "ВФГС в Пермском крае"
B6: 12-14 апреля 2024 г. | E6: ПРОТОКОЛ | O6: Вес гирь 32 кг.
B7: г. Пермь | E7: Чемпионата Приволжского федерального округа | O7: Регламент времени - 10 мин.
E8: ='ДЦ 63'!$E$8:$N$8 -> ЕКП № 2065590017021409 | O8: Разрядные нормативы
B9: ='ДЦ 63'!$B$9:$D$9 -> Количество участников - 92 | E9: Толчок длинный цикл (мужчины) | O9: МСМК | P9: МС | Q9: КМС
B10: ='ДЦ 63'!$B$10:$D$10 -> Количество регионов - 10 | E10: Весовая категория 95 кг | O10: 84 | P10: 72 | Q10: 57
B12: Место | C12: Фамилия Имя | E12: Дата рождения | F12: Звание | G12: Команда | H12: ДСО, ведомство | I12: Соб. вес | J12: Толчок | K12: Рывок | M12: Сумма дв-рья | N12: Ком. очки | O12: Вып. разряд | P12: ФИО тренера(тренеров)
K13: Сумма | L13: Очки
A14: 75 | B14: 1 | C14: =VLOOKUP(A14,Список!$A$2:$J$123,3) -> Клепиков Артём | E14: =VLOOKUP(A14,Список!$A$2:$J$123,4) -> 1998 | F14: =VLOOKUP(A14,Список!$A$2:$J$123,5) -> МСМК | G14: =VLOOKUP(A14,Список!$A$2:$J$123,6) -> Кировская область | H14: =VLOOKUP(A14,Список!$A$2:$J$123,7) -> КОГАУ «СШОР «Юность» | I14: =VLOOKUP(A14,Список!$A$2:$J$123,8) -> 91.65 | J14: 80 | N14: =IF(B14=1,20,IF(B14=2,18,IF(B14=3,16,IF(B14>19,0,19-B14)))) -> 20 | O14: =IF(AND(NOT(OR(F14="МСМК",F14="ЗМС")),J14>=$O$10),"+МСМК",IF(AND(OR(F14="МСМК",F14="ЗМС"),J14>=$O$10),"МСМК",IF(AND(NOT(OR(F14="МСМК",F14="МС",F14="ЗМС")),J14>=$P$10),"+МС",IF(AND(OR(F14="МСМК",F14="МС",F14="ЗМС"),J14>=$P$10),"МС",IF(AND(NOT(OR(F14="ЗМС",F14="МСМК",F14="МС",F14="КМС")),J14>=$Q$10),"+КМС",IF(AND(OR(F14="ЗМС",F14="МСМК",F14="МС",F14="КМС"),J14>=$Q$10),"КМС","-")))))) -> МС | P14: =VLOOKUP(A14,Список!$A$2:$J$123,9) -> Малков Е.И.
A15: 40 | B15: 2 | C15: =VLOOKUP(A15,Список!$A$2:$J$123,3) -> Попов Севастьян | E15: =VLOOKUP(A15,Список!$A$2:$J$123,4) -> 2005 | F15: =VLOOKUP(A15,Список!$A$2:$J$123,5) -> КМС | G15: =VLOOKUP(A15,Список!$A$2:$J$123,6) -> Пермский край | H15: =VLOOKUP(A15,Список!$A$2:$J$123,7) -> МБУ ДО «ДЮСШ «Спарт» | I15: =VLOOKUP(A15,Список!$A$2:$J$123,8) -> 85.65 | J15: 58 | N15: =IF(B15=1,20,IF(B15=2,18,IF(B15=3,16,IF(B15>19,0,19-B15)))) -> 18 | O15: =IF(AND(NOT(OR(F15="МСМК",F15="ЗМС")),J15>=$O$10),"+МСМК",IF(AND(OR(F15="МСМК",F15="ЗМС"),J15>=$O$10),"МСМК",IF(AND(NOT(OR(F15="МСМК",F15="МС",F15="ЗМС")),J15>=$P$10),"+МС",IF(AND(OR(F15="МСМК",F15="МС",F15="ЗМС"),J15>=$P$10),"МС",IF(AND(NOT(OR(F15="ЗМС",F15="МСМК",F15="МС",F15="КМС")),J15>=$Q$10),"+КМС",IF(AND(OR(F15="ЗМС",F15="МСМК",F15="МС",F15="КМС"),J15>=$Q$10),"КМС","-")))))) -> КМС | P15: =VLOOKUP(A15,Список!$A$2:$J$123,9) -> Маматов Г.Т., Мартынов Д.И.
A16: 69 | B16: 3 | C16: =VLOOKUP(A16,Список!$A$2:$J$123,3) -> Булдаков Никита | E16: =VLOOKUP(A16,Список!$A$2:$J$123,4) -> 1997 | F16: =VLOOKUP(A16,Список!$A$2:$J$123,5) -> МС | G16: =VLOOKUP(A16,Список!$A$2:$J$123,6) -> Удмуртская республика | I16: =VLOOKUP(A16,Список!$A$2:$J$123,8) -> 90.45 | J16: 50 | N16: =IF(B16=1,20,IF(B16=2,18,IF(B16=3,16,IF(B16>19,0,19-B16)))) -> 16 | O16: =IF(AND(NOT(OR(F16="МСМК",F16="ЗМС")),J16>=$O$10),"+МСМК",IF(AND(OR(F16="МСМК",F16="ЗМС"),J16>=$O$10),"МСМК",IF(AND(NOT(OR(F16="МСМК",F16="МС",F16="ЗМС")),J16>=$P$10),"+МС",IF(AND(OR(F16="МСМК",F16="МС",F16="ЗМС"),J16>=$P$10),"МС",IF(AND(NOT(OR(F16="ЗМС",F16="МСМК",F16="МС",F16="КМС")),J16>=$Q$10),"+КМС",IF(AND(OR(F16="ЗМС",F16="МСМК",F16="МС",F16="КМС"),J16>=$Q$10),"КМС","-")))))) -> - | P16: =VLOOKUP(A16,Список!$A$2:$J$123,9) -> Веретенников С.А.
C17: =VLOOKUP(A17,Список!$A$2:$J$123,3) -> #N/A | E17: =VLOOKUP(A17,Список!$A$2:$J$123,4) -> #N/A | F17: =VLOOKUP(A17,Список!$A$2:$J$123,5) -> #N/A | G17: =VLOOKUP(A17,Список!$A$2:$J$123,6) -> #N/A | H17: =VLOOKUP(A17,Список!$A$2:$J$123,7) -> #N/A | I17: =VLOOKUP(A17,Список!$A$2:$J$123,8) -> #N/A | N17: =IF(B17=1,20,IF(B17=2,18,IF(B17=3,16,IF(B17>19,0,19-B17)))) -> 19 | O17: =IF(AND(NOT(OR(F17="МСМК",F17="ЗМС")),J17>=$O$10),"+МСМК",IF(AND(OR(F17="МСМК",F17="ЗМС"),J17>=$O$10),"МСМК",IF(AND(NOT(OR(F17="МСМК",F17="МС",F17="ЗМС")),J17>=$P$10),"+МС",IF(AND(OR(F17="МСМК",F17="МС",F17="ЗМС"),J17>=$P$10),"МС",IF(AND(NOT(OR(F17="ЗМС",F17="МСМК",F17="МС",F17="КМС")),J17>=$Q$10),"+КМС",IF(AND(OR(F17="ЗМС",F17="МСМК",F17="МС",F17="КМС"),J17>=$Q$10),"КМС","-")))))) -> #N/A | P17: =VLOOKUP(A17,Список!$A$2:$J$123,9) -> #N/A
C18: =VLOOKUP(A18,Список!$A$2:$J$123,3) -> #N/A | E18: =VLOOKUP(A18,Список!$A$2:$J$123,4) -> #N/A | F18: =VLOOKUP(A18,Список!$A$2:$J$123,5) -> #N/A | G18: =VLOOKUP(A18,Список!$A$2:$J$123,6) -> #N/A | H18: =VLOOKUP(A18,Список!$A$2:$J$123,7) -> #N/A | I18: =VLOOKUP(A18,Список!$A$2:$J$123,8) -> #N/A | N18: =IF(B18=1,20,IF(B18=2,18,IF(B18=3,16,IF(B18>19,0,19-B18)))) -> 19 | O18: =IF(AND(NOT(OR(F18="МСМК",F18="ЗМС")),J18>=$O$10),"+МСМК",IF(AND(OR(F18="МСМК",F18="ЗМС"),J18>=$O$10),"МСМК",IF(AND(NOT(OR(F18="МСМК",F18="МС",F18="ЗМС")),J18>=$P$10),"+МС",IF(AND(OR(F18="МСМК",F18="МС",F18="ЗМС"),J18>=$P$10),"МС",IF(AND(NOT(OR(F18="ЗМС",F18="МСМК",F18="МС",F18="КМС")),J18>=$Q$10),"+КМС",IF(AND(OR(F18="ЗМС",F18="МСМК",F18="МС",F18="КМС"),J18>=$Q$10),"КМС","-")))))) -> #N/A | P18: =VLOOKUP(A18,Список!$A$2:$J$123,9) -> #N/A
C22: Главный судья | I22: ='ДЦ 63'!$I$22 -> Ческис О.И., 1К (Пермский край)
C24: Главный секретарь | I24: ='ДЦ 63'!$I$24 -> Паклина М.В., ВК (Пермский край)
C26: Зам. главного судьи | I26: ='ДЦ 63'!$I$26 -> Паклин П.А., ВК (Пермский край)
C28: Зам. главного секретаря | I28: ='ДЦ 63'!$I$28 -> Мошев Д.И., 1К (Пермский край)

Sheet ДЦ 95+
B1: Министерство спорта Российской Федерации.
B2: Общероссийская общественная организация "Всероссийская федерация гиревого спорта".
B3: ='ДЦ 63'!$B$3:$Q$3 -> Министерство физической культуры и спорта Пермского края
B4: ='ДЦ 63'!$B$4:$Q$4 -> Региональное отделение общероссийской общественной организации "ВФГС в Пермском крае"
B6: 12-14 апреля 2024 г. | E6: ПРОТОКОЛ | O6: Вес гирь 32 кг.
B7: г. Пермь | E7: Чемпионата Приволжского федерального округа | O7: Регламент времени - 10 мин.
E8: ='ДЦ 63'!$E$8:$N$8 -> ЕКП № 2065590017021409 | O8: Разрядные нормативы
B9: ='ДЦ 63'!$B$9:$D$9 -> Количество участников - 92 | E9: Толчок длинный цикл (мужчины) | O9: МСМК | P9: МС | Q9: КМС
B10: ='ДЦ 63'!$B$10:$D$10 -> Количество регионов - 10 | E10: Весовая категория 95+ кг | O10: 88 | P10: 75 | Q10: 62
B12: Место | C12: Фамилия Имя | E12: Дата рождения | F12: Звание | G12: Команда | H12: ДСО, ведомство | I12: Соб. вес | J12: Толчок | K12: Рывок | M12: Сумма дв-рья | N12: Ком. очки | O12: Вып. разряд | P12: ФИО тренера(тренеров)
K13: Сумма | L13: Очки
A14: 64 | B14: 1 | C14: =VLOOKUP(A14,Список!$A$2:$J$123,3) -> Константинов Александр | E14: =VLOOKUP(A14,Список!$A$2:$J$123,4) -> 2003 | F14: =VLOOKUP(A14,Список!$A$2:$J$123,5) -> КМС | G14: =VLOOKUP(A14,Список!$A$2:$J$123,6) -> Чувашская республика | I14: =VLOOKUP(A14,Список!$A$2:$J$123,8) -> 114.8 | J14: 61 | N14: =IF(B14=1,20,IF(B14=2,18,IF(B14=3,16,IF(B14>19,0,19-B14)))) -> 20 | O14: =IF(AND(NOT(OR(F14="МСМК",F14="ЗМС")),J14>=$O$10),"+МСМК",IF(AND(OR(F14="МСМК",F14="ЗМС"),J14>=$O$10),"МСМК",IF(AND(NOT(OR(F14="МСМК",F14="МС",F14="ЗМС")),J14>=$P$10),"+МС",IF(AND(OR(F14="МСМК",F14="МС",F14="ЗМС"),J14>=$P$10),"МС",IF(AND(NOT(OR(F14="ЗМС",F14="МСМК",F14="МС",F14="КМС")),J14>=$Q$10),"+КМС",IF(AND(OR(F14="ЗМС",F14="МСМК",F14="МС",F14="КМС"),J14>=$Q$10),"КМС","-")))))) -> - | P14: =VLOOKUP(A14,Список!$A$2:$J$123,9) -> Глинкин Б.Н
A15: 57 | B15: 2 | C15: =VLOOKUP(A15,Список!$A$2:$J$123,3) -> Носков Андрей | E15: =VLOOKUP(A15,Список!$A$2:$J$123,4) -> 1993 | F15: =VLOOKUP(A15,Список!$A$2:$J$123,5) -> КМС | G15: =VLOOKUP(A15,Список!$A$2:$J$123,6) -> Пермский край | H15: =VLOOKUP(A15,Список!$A$2:$J$123,7) -> ДО ДС ДЮ «Прикамье» | I15: =VLOOKUP(A15,Список!$A$2:$J$123,8) -> 98.35 | J15: 22 | N15: =IF(B15=1,20,IF(B15=2,18,IF(B15=3,16,IF(B15>19,0,19-B15)))) -> 18 | O15: =IF(AND(NOT(OR(F15="МСМК",F15="ЗМС")),J15>=$O$10),"+МСМК",IF(AND(OR(F15="МСМК",F15="ЗМС"),J15>=$O$10),"МСМК",IF(AND(NOT(OR(F15="МСМК",F15="МС",F15="ЗМС")),J15>=$P$10),"+МС",IF(AND(OR(F15="МСМК",F15="МС",F15="ЗМС"),J15>=$P$10),"МС",IF(AND(NOT(OR(F15="ЗМС",F15="МСМК",F15="МС",F15="КМС")),J15>=$Q$10),"+КМС",IF(AND(OR(F15="ЗМС",F15="МСМК",F15="МС",F15="КМС"),J15>=$Q$10),"КМС","-")))))) -> - | P15: =VLOOKUP(A15,Список!$A$2:$J$123,9) -> Мошев Д.И
C16: =VLOOKUP(A16,Список!$A$2:$J$123,3) -> #N/A | E16: =VLOOKUP(A16,Список!$A$2:$J$123,4) -> #N/A | F16: =VLOOKUP(A16,Список!$A$2:$J$123,5) -> #N/A | G16: =VLOOKUP(A16,Список!$A$2:$J$123,6) -> #N/A | H16: =VLOOKUP(A16,Список!$A$2:$J$123,7) -> #N/A | I16: =VLOOKUP(A16,Список!$A$2:$J$123,8) -> #N/A | N16: =IF(B16=1,20,IF(B16=2,18,IF(B16=3,16,IF(B16>19,0,19-B16)))) -> 19 | O16: =IF(AND(NOT(OR(F16="МСМК",F16="ЗМС")),J16>=$O$10),"+МСМК",IF(AND(OR(F16="МСМК",F16="ЗМС"),J16>=$O$10),"МСМК",IF(AND(NOT(OR(F16="МСМК",F16="МС",F16="ЗМС")),J16>=$P$10),"+МС",IF(AND(OR(F16="МСМК",F16="МС",F16="ЗМС"),J16>=$P$10),"МС",IF(AND(NOT(OR(F16="ЗМС",F16="МСМК",F16="МС",F16="КМС")),J16>=$Q$10),"+КМС",IF(AND(OR(F16="ЗМС",F16="МСМК",F16="МС",F16="КМС"),J16>=$Q$10),"КМС","-")))))) -> #N/A | P16: =VLOOKUP(A16,Список!$A$2:$J$123,9) -> #N/A
C17: =VLOOKUP(A17,Список!$A$2:$J$123,3) -> #N/A | E17: =VLOOKUP(A17,Список!$A$2:$J$123,4) -> #N/A | F17: =VLOOKUP(A17,Список!$A$2:$J$123,5) -> #N/A | G17: =VLOOKUP(A17,Список!$A$2:$J$123,6) -> #N/A | H17: =VLOOKUP(A17,Список!$A$2:$J$123,7) -> #N/A | I17: =VLOOKUP(A17,Список!$A$2:$J$123,8) -> #N/A | N17: =IF(B17=1,20,IF(B17=2,18,IF(B17=3,16,IF(B17>19,0,19-B17)))) -> 19 | O17: =IF(AND(NOT(OR(F17="МСМК",F17="ЗМС")),J17>=$O$10),"+МСМК",IF(AND(OR(F17="МСМК",F17="ЗМС"),J17>=$O$10),"МСМК",IF(AND(NOT(OR(F17="МСМК",F17="МС",F17="ЗМС")),J17>=$P$10),"+МС",IF(AND(OR(F17="МСМК",F17="МС",F17="ЗМС"),J17>=$P$10),"МС",IF(AND(NOT(OR(F17="ЗМС",F17="МСМК",F17="МС",F17="КМС")),J17>=$Q$10),"+КМС",IF(AND(OR(F17="ЗМС",F17="МСМК",F17="МС",F17="КМС"),J17>=$Q$10),"КМС","-")))))) -> #N/A | P17: =VLOOKUP(A17,Список!$A$2:$J$123,9) -> #N/A
C18: =VLOOKUP(A18,Список!$A$2:$J$123,3) -> #N/A | E18: =VLOOKUP(A18,Список!$A$2:$J$123,4) -> #N/A | F18: =VLOOKUP(A18,Список!$A$2:$J$123,5) -> #N/A | G18: =VLOOKUP(A18,Список!$A$2:$J$123,6) -> #N/A | H18: =VLOOKUP(A18,Список!$A$2:$J$123,7) -> #N/A | I18: =VLOOKUP(A18,Список!$A$2:$J$123,8) -> #N/A | N18: =IF(B18=1,20,IF(B18=2,18,IF(B18=3,16,IF(B18>19,0,19-B18)))) -> 19 | O18: =IF(AND(NOT(OR(F18="МСМК",F18="ЗМС")),J18>=$O$10),"+МСМК",IF(AND(OR(F18="МСМК",F18="ЗМС"),J18>=$O$10),"МСМК",IF(AND(NOT(OR(F18="МСМК",F18="МС",F18="ЗМС")),J18>=$P$10),"+МС",IF(AND(OR(F18="МСМК",F18="МС",F18="ЗМС"),J18>=$P$10),"МС",IF(AND(NOT(OR(F18="ЗМС",F18="МСМК",F18="МС",F18="КМС")),J18>=$Q$10),"+КМС",IF(AND(OR(F18="ЗМС",F18="МСМК",F18="МС",F18="КМС"),J18>=$Q$10),"КМС","-")))))) -> #N/A | P18: =VLOOKUP(A18,Список!$A$2:$J$123,9) -> #N/A
C21: Главный судья | I21: ='ДЦ 63'!$I$22 -> Ческис О.И., 1К (Пермский край)
C23: Главный секретарь | I23: ='ДЦ 63'!$I$24 -> Паклина М.В., ВК (Пермский край)
C25: Зам. главного судьи | I25: ='ДЦ 63'!$I$26 -> Паклин П.А., ВК (Пермский край)
C27: Зам. главного секретаря | I27: ='ДЦ 63'!$I$28 -> Мошев Д.И., 1К (Пермский край)

Sheet ДЦЖ 58
B1: Министерство спорта Российской Федерации.
B2: Общероссийская общественная организация "Всероссийская федерация гиревого спорта".
B3: ='ДЦ 63'!$B$3:$Q$3 -> Министерство физической культуры и спорта Пермского края
B4: ='ДЦ 63'!$B$4:$Q$4 -> Региональное отделение общероссийской общественной организации "ВФГС в Пермском крае"
B6: 12-14 апреля 2024 г. | E6: ПРОТОКОЛ | O6: Вес гирь 32 кг.
B7: г. Пермь | E7: Чемпионата Приволжского федерального округа | O7: Регламент времени - 10 мин.
E8: ='ДЦ 63'!$E$8:$N$8 -> ЕКП № 2065590017021409 | O8: Разрядные нормативы
B9: ='ДЦ 63'!$B$9:$D$9 -> Количество участников - 92 | E9: Толчок длинный цикл (женщины) | O9: МСМК | P9: МС | Q9: КМС
B10: ='ДЦ 63'!$B$10:$D$10 -> Количество регионов - 10 | E10: Весовая категория 58 кг | O10: 50 | P10: 40 | Q10: 30
B12: Место | C12: Фамилия Имя | E12: Дата рождения | F12: Звание | G12: Команда | H12: ДСО, ведомство | I12: Соб. вес | J12: Толчок | K12: Рывок | M12: Сумма дв-рья | N12: Ком. очки | O12: Вып. разряд | P12: ФИО тренера(тренеров)
K13: Сумма | L13: Очки
A14: 28 | B14: 1 | C14: =VLOOKUP(A14,Список!$A$2:$J$123,3) -> Сатлыкова Эльвира | E14: =VLOOKUP(A14,Список!$A$2:$J$123,4) -> 2000 | F14: =VLOOKUP(A14,Список!$A$2:$J$123,5) -> МС | G14: =VLOOKUP(A14,Список!$A$2:$J$123,6) -> Оренбургская область | H14: =VLOOKUP(A14,Список!$A$2:$J$123,7) -> СШ №1 им. Л.Д. Ковалевского | I14: =VLOOKUP(A14,Список!$A$2:$J$123,8) -> 57.8 | J14: 55 | N14: =IF(B14=1,20,IF(B14=2,18,IF(B14=3,16,IF(B14>19,0,19-B14)))) -> 20 | O14: =IF(AND(NOT(OR(F14="МСМК",F14="ЗМС")),J14>=$O$10),"+МСМК",IF(AND(OR(F14="МСМК",F14="ЗМС"),J14>=$O$10),"МСМК",IF(AND(NOT(OR(F14="МСМК",F14="МС",F14="ЗМС")),J14>=$P$10),"+МС",IF(AND(OR(F14="МСМК",F14="МС",F14="ЗМС"),J14>=$P$10),"МС",IF(AND(NOT(OR(F14="ЗМС",F14="МСМК",F14="МС",F14="КМС")),J14>=$Q$10),"+КМС",IF(AND(OR(F14="ЗМС",F14="МСМК",F14="МС",F14="КМС"),J14>=$Q$10),"КМС","-")))))) -> +МСМК | P14: =VLOOKUP(A14,Список!$A$2:$J$123,9) -> Павлов С.П.
A15: 97 | B15: 2 | C15: =VLOOKUP(A15,Список!$A$2:$J$123,3) -> Пузанкова Анастасия | E15: =VLOOKUP(A15,Список!$A$2:$J$123,4) -> 2006 | F15: =VLOOKUP(A15,Список!$A$2:$J$123,5) -> КМС | G15: =VLOOKUP(A15,Список!$A$2:$J$123,6) -> Республика Татарстан | H15: =VLOOKUP(A15,Список!$A$2:$J$123,7) -> МБУ ДО СШ «Татнефть Олимп» Чистопольского района РТ | I15: =VLOOKUP(A15,Список!$A$2:$J$123,8) -> 57.55 | J15: 10 | N15: =IF(B15=1,20,IF(B15=2,18,IF(B15=3,16,IF(B15>19,0,19-B15)))) -> 18 | O15: =IF(AND(NOT(OR(F15="МСМК",F15="ЗМС")),J15>=$O$10),"+МСМК",IF(AND(OR(F15="МСМК",F15="ЗМС"),J15>=$O$10),"МСМК",IF(AND(NOT(OR(F15="МСМК",F15="МС",F15="ЗМС")),J15>=$P$10),"+МС",IF(AND(OR(F15="МСМК",F15="МС",F15="ЗМС"),J15>=$P$10),"МС",IF(AND(NOT(OR(F15="ЗМС",F15="МСМК",F15="МС",F15="КМС")),J15>=$Q$10),"+КМС",IF(AND(OR(F15="ЗМС",F15="МСМК",F15="МС",F15="КМС"),J15>=$Q$10),"КМС","-")))))) -> - | P15: =VLOOKUP(A15,Список!$A$2:$J$123,9) -> Гиниатуллин А.З.
C18: Главный судья | I18: ='ДЦ 63'!$I$22 -> Ческис О.И., 1К (Пермский край)
C20: Главный секретарь | I20: ='ДЦ 63'!$I$24 -> Паклина М.В., ВК (Пермский край)
C22: Зам. главного судьи | I22: ='ДЦ 63'!$I$26 -> Паклин П.А., ВК (Пермский край)
C24: Зам. главного секретаря | I24: ='ДЦ 63'!$I$28 -> Мошев Д.И., 1К (Пермский край)

Sheet ДЦЖ 63 
B1: Министерство спорта Российской Федерации.
B2: Общероссийская общественная организация "Всероссийская федерация гиревого спорта".
B3: ='ДЦ 63'!$B$3:$Q$3 -> Министерство физической культуры и спорта Пермского края
B4: ='ДЦ 63'!$B$4:$Q$4 -> Региональное отделение общероссийской общественной организации "ВФГС в Пермском крае"
B6: 12-14 апреля 2024 г. | E6: ПРОТОКОЛ | O6: Вес гирь 32 кг.
B7: г. Пермь | E7: Чемпионата Приволжского федерального округа | O7: Регламент времени - 10 мин.
E8: ='ДЦ 63'!$E$8:$N$8 -> ЕКП № 2065590017021409 | O8: Разрядные нормативы
B9: ='ДЦ 63'!$B$9:$D$9 -> Количество участников - 92 | E9: Толчок длинный цикл (женщины) | O9: МСМК | P9: МС | Q9: КМС
B10: ='ДЦ 63'!$B$10:$D$10 -> Количество регионов - 10 | E10: Весовая категория 63 кг | O10: 59 | P10: 44 | Q10: 35
B12: Место | C12: Фамилия Имя | E12: Дата рождения | F12: Звание | G12: Команда | H12: ДСО, ведомство | I12: Соб. вес | J12: Толчок | K12: Рывок | M12: Сумма дв-рья | N12: Ком. очки | O12: Вып. разряд | P12: ФИО тренера(тренеров)
K13: Сумма | L13: Очки
C14: =VLOOKUP(A14,Список!$A$2:$J$123,3) -> #N/A | E14: =VLOOKUP(A14,Список!$A$2:$J$123,4) -> #N/A | F14: =VLOOKUP(A14,Список!$A$2:$J$123,5) -> #N/A | G14: =VLOOKUP(A14,Список!$A$2:$J$123,6) -> #N/A | H14: =VLOOKUP(A14,Список!$A$2:$J$123,7) -> #N/A | I14: =VLOOKUP(A14,Список!$A$2:$J$123,8) -> #N/A | N14: =IF(B14=1,20,IF(B14=2,18,IF(B14=3,16,IF(B14>19,0,19-B14)))) -> 19 | O14: =IF(AND(NOT(OR(F14="МСМК",F14="ЗМС")),J14>=$O$10),"+МСМК",IF(AND(OR(F14="МСМК",F14="ЗМС"),J14>=$O$10),"МСМК",IF(AND(NOT(OR(F14="МСМК",F14="МС",F14="ЗМС")),J14>=$P$10),"+МС",IF(AND(OR(F14="МСМК",F14="МС",F14="ЗМС"),J14>=$P$10),"МС",IF(AND(NOT(OR(F14="ЗМС",F14="МСМК",F14="МС",F14="КМС")),J14>=$Q$10),"+КМС",IF(AND(OR(F14="ЗМС",F14="МСМК",F14="МС",F14="КМС"),J14>=$Q$10),"КМС","-")))))) -> #N/A | P14: =VLOOKUP(A14,Список!$A$2:$J$123,9) -> #N/A
C15: =VLOOKUP(A15,Список!$A$2:$J$123,3) -> #N/A | E15: =VLOOKUP(A15,Список!$A$2:$J$123,4) -> #N/A | F15: =VLOOKUP(A15,Список!$A$2:$J$123,5) -> #N/A | G15: =VLOOKUP(A15,Список!$A$2:$J$123,6) -> #N/A | H15: =VLOOKUP(A15,Список!$A$2:$J$123,7) -> #N/A | I15: =VLOOKUP(A15,Список!$A$2:$J$123,8) -> #N/A | N15: =IF(B15=1,20,IF(B15=2,18,IF(B15=3,16,IF(B15>19,0,19-B15)))) -> 19 | O15: =IF(AND(NOT(OR(F15="МСМК",F15="ЗМС")),J15>=$O$10),"+МСМК",IF(AND(OR(F15="МСМК",F15="ЗМС"),J15>=$O$10),"МСМК",IF(AND(NOT(OR(F15="МСМК",F15="МС",F15="ЗМС")),J15>=$P$10),"+МС",IF(AND(OR(F15="МСМК",F15="МС",F15="ЗМС"),J15>=$P$10),"МС",IF(AND(NOT(OR(F15="ЗМС",F15="МСМК",F15="МС",F15="КМС")),J15>=$Q$10),"+КМС",IF(AND(OR(F15="ЗМС",F15="МСМК",F15="МС",F15="КМС"),J15>=$Q$10),"КМС","-")))))) -> #N/A | P15: =VLOOKUP(A15,Список!$A$2:$J$123,9) -> #N/A
C18: Главный судья | I18: ='ДЦ 63'!$I$22 -> Ческис О.И., 1К (Пермский край)
C20: Главный секретарь | I20: ='ДЦ 63'!$I$24 -> Паклина М.В., ВК (Пермский край)
C22: Зам. главного судьи | I22: ='ДЦ 63'!$I$26 -> Паклин П.А., ВК (Пермский край)
C24: Зам. главного секретаря | I24: ='ДЦ 63'!$I$28 -> Мошев Д.И., 1К (Пермский край)

Sheet ДЦЖ 68
B1: Министерство спорта Российской Федерации.
B2: Общероссийская общественная организация "Всероссийская федерация гиревого спорта".
B3: ='ДЦ 63'!$B$3:$Q$3 -> Министерство физической культуры и спорта Пермского края
B4: ='ДЦ 63'!$B$4:$Q$4 -> Региональное отделение общероссийской общественной организации "ВФГС в Пермском крае"
B6: 12-14 апреля 2024 г. | E6: ПРОТОКОЛ | O6: Вес гирь 32 кг.
B7: г. Пермь | E7: Чемпионата Приволжского федерального округа | O7: Регламент времени - 10 мин.
E8: ='ДЦ 63'!$E$8:$N$8 -> ЕКП № 2065590017021409 | O8: Разрядные нормативы
B9: ='ДЦ 63'!$B$9:$D$9 -> Количество участников - 92 | E9: Толчок длинный цикл (женщины) | O9: МСМК | P9: МС | Q9: КМС
B10: ='ДЦ 63'!$B$10:$D$10 -> Количество регионов - 10 | E10: Весовая категория 68 кг | O10: 62 | P10: 52 | Q10: 40
B12: Место | C12: Фамилия Имя | E12: Дата рождения | F12: Звание | G12: Команда | H12: ДСО, ведомство | I12: Соб. вес | J12: Толчок | K12: Рывок | M12: Сумма дв-рья | N12: Ком. очки | O12: Вып. разряд | P12: ФИО тренера(тренеров)
K13: Сумма | L13: Очки
A14: 85 | B14: 1 | C14: =VLOOKUP(A14,Список!$A$2:$J$123,3) -> Матвеева Елена | E14: =VLOOKUP(A14,Список!$A$2:$J$123,4) -> 1974 | F14: =VLOOKUP(A14,Список!$A$2:$J$123,5) -> МСМК | G14: =VLOOKUP(A14,Список!$A$2:$J$123,6) -> Кировская область | H14: =VLOOKUP(A14,Список!$A$2:$J$123,7) -> КОГАУ «СШОР «Юность» | I14: =VLOOKUP(A14,Список!$A$2:$J$123,8) -> 63.3 | J14: 46 | N14: =IF(B14=1,20,IF(B14=2,18,IF(B14=3,16,IF(B14>19,0,19-B14)))) -> 20 | O14: =IF(AND(NOT(OR(F14="МСМК",F14="ЗМС")),J14>=$O$10),"+МСМК",IF(AND(OR(F14="МСМК",F14="ЗМС"),J14>=$O$10),"МСМК",IF(AND(NOT(OR(F14="МСМК",F14="МС",F14="ЗМС")),J14>=$P$10),"+МС",IF(AND(OR(F14="МСМК",F14="МС",F14="ЗМС"),J14>=$P$10),"МС",IF(AND(NOT(OR(F14="ЗМС",F14="МСМК",F14="МС",F14="КМС")),J14>=$Q$10),"+КМС",IF(AND(OR(F14="ЗМС",F14="МСМК",F14="МС",F14="КМС"),J14>=$Q$10),"КМС","-")))))) -> КМС | P14: =VLOOKUP(A14,Список!$A$2:$J$123,9) -> Малков Е.И.
A15: 59 | B15: 2 | C15: =VLOOKUP(A15,Список!$A$2:$J$123,3) -> Порываева Татьяна | E15: =VLOOKUP(A15,Список!$A$2:$J$123,4) -> 1990 | F15: =VLOOKUP(A15,Список!$A$2:$J$123,5) -> КМС | G15: =VLOOKUP(A15,Список!$A$2:$J$123,6) -> Пермский край | H15: =VLOOKUP(A15,Список!$A$2:$J$123,7) -> ДО ДС ДЮ «Прикамье» | I15: =VLOOKUP(A15,Список!$A$2:$J$123,8) -> 66.15 | J15: 2 | N15: =IF(B15=1,20,IF(B15=2,18,IF(B15=3,16,IF(B15>19,0,19-B15)))) -> 18 | O15: =IF(AND(NOT(OR(F15="МСМК",F15="ЗМС")),J15>=$O$10),"+МСМК",IF(AND(OR(F15="МСМК",F15="ЗМС"),J15>=$O$10),"МСМК",IF(AND(NOT(OR(F15="МСМК",F15="МС",F15="ЗМС")),J15>=$P$10),"+МС",IF(AND(OR(F15="МСМК",F15="МС",F15="ЗМС"),J15>=$P$10),"МС",IF(AND(NOT(OR(F15="ЗМС",F15="МСМК",F15="МС",F15="КМС")),J15>=$Q$10),"+КМС",IF(AND(OR(F15="ЗМС",F15="МСМК",F15="МС",F15="КМС"),J15>=$Q$10),"КМС","-")))))) -> - | P15: =VLOOKUP(A15,Список!$A$2:$J$123,9) -> Низовкин А.А.
C16: =VLOOKUP(A16,Список!$A$2:$J$123,3) -> #N/A | E16: =VLOOKUP(A16,Список!$A$2:$J$123,4) -> #N/A | F16: =VLOOKUP(A16,Список!$A$2:$J$123,5) -> #N/A | G16: =VLOOKUP(A16,Список!$A$2:$J$123,6) -> #N/A | H16: =VLOOKUP(A16,Список!$A$2:$J$123,7) -> #N/A | I16: =VLOOKUP(A16,Список!$A$2:$J$123,8) -> #N/A | N16: =IF(B16=1,20,IF(B16=2,18,IF(B16=3,16,IF(B16>19,0,19-B16)))) -> 19 | O16: =IF(AND(NOT(OR(F16="МСМК",F16="ЗМС")),J16>=$O$10),"+МСМК",IF(AND(OR(F16="МСМК",F16="ЗМС"),J16>=$O$10),"МСМК",IF(AND(NOT(OR(F16="МСМК",F16="МС",F16="ЗМС")),J16>=$P$10),"+МС",IF(AND(OR(F16="МСМК",F16="МС",F16="ЗМС"),J16>=$P$10),"МС",IF(AND(NOT(OR(F16="ЗМС",F16="МСМК",F16="МС",F16="КМС")),J16>=$Q$10),"+КМС",IF(AND(OR(F16="ЗМС",F16="МСМК",F16="МС",F16="КМС"),J16>=$Q$10),"КМС","-")))))) -> #N/A | P16: =VLOOKUP(A16,Список!$A$2:$J$123,9) -> #N/A
C17: =VLOOKUP(A17,Список!$A$2:$J$123,3) -> #N/A | E17: =VLOOKUP(A17,Список!$A$2:$J$123,4) -> #N/A | F17: =VLOOKUP(A17,Список!$A$2:$J$123,5) -> #N/A | G17: =VLOOKUP(A17,Список!$A$2:$J$123,6) -> #N/A | H17: =VLOOKUP(A17,Список!$A$2:$J$123,7) -> #N/A | I17: =VLOOKUP(A17,Список!$A$2:$J$123,8) -> #N/A | N17: =IF(B17=1,20,IF(B17=2,18,IF(B17=3,16,IF(B17>19,0,19-B17)))) -> 19 | O17: =IF(AND(NOT(OR(F17="МСМК",F17="ЗМС")),J17>=$O$10),"+МСМК",IF(AND(OR(F17="МСМК",F17="ЗМС"),J17>=$O$10),"МСМК",IF(AND(NOT(OR(F17="МСМК",F17="МС",F17="ЗМС")),J17>=$P$10),"+МС",IF(AND(OR(F17="МСМК",F17="МС",F17="ЗМС"),J17>=$P$10),"МС",IF(AND(NOT(OR(F17="ЗМС",F17="МСМК",F17="МС",F17="КМС")),J17>=$Q$10),"+КМС",IF(AND(OR(F17="ЗМС",F17="МСМК",F17="МС",F17="КМС"),J17>=$Q$10),"КМС","-")))))) -> #N/A | P17: =VLOOKUP(A17,Список!$A$2:$J$123,9) -> #N/A
C20: Главный судья | I20: ='ДЦ 63'!$I$22 -> Ческис О.И., 1К (Пермский край)
C22: Главный секретарь | I22: ='ДЦ 63'!$I$24 -> Паклина М.В., ВК (Пермский край)
C24: Зам. главного судьи | I24: ='ДЦ 63'!$I$26 -> Паклин П.А., ВК (Пермский край)
C26: Зам. главного секретаря | I26: ='ДЦ 63'!$I$28 -> Мошев Д.И., 1К (Пермский край)

Sheet ДЦЖ 68+
B1: Министерство спорта Российской Федерации.
B2: Общероссийская общественная организация "Всероссийская федерация гиревого спорта".
B3: ='ДЦ 63'!$B$3:$Q$3 -> Министерство физической культуры и спорта Пермского края
B4: ='ДЦ 63'!$B$4:$Q$4 -> Региональное отделение общероссийской общественной организации "ВФГС в Пермском крае"
B6: 12-14 апреля 2024 г. | E6: ПРОТОКОЛ | O6: Вес гирь 32 кг.
B7: г. Пермь | E7: Чемпионата Приволжского федерального округа | O7: Регламент времени - 10 мин.
E8: ='ДЦ 63'!$E$8:$N$8 -> ЕКП № 2065590017021409 | O8: Разрядные нормативы
B9: ='ДЦ 63'!$B$9:$D$9 -> Количество участников - 92 | E9: Толчок длинный цикл (женщины) | O9: МСМК | P9: МС | Q9: КМС
B10: ='ДЦ 63'!$B$10:$D$10 -> Количество регионов - 10 | E10: Весовая категория 68+ кг | O10: 72 | P10: 56 | Q10: 45
B12: Место | C12: Фамилия Имя | E12: Дата рождения | F12: Звание | G12: Команда | H12: ДСО, ведомство | I12: Соб. вес | J12: Толчок | K12: Рывок | M12: Сумма дв-рья | N12: Ком. очки | O12: Вып. разряд | P12: ФИО тренера(тренеров)
K13: Сумма | L13: Очки
A14: 29 | B14: 1 | C14: =VLOOKUP(A14,Список!$A$2:$J$123,3) -> Кузьмичева Ксения | E14: =VLOOKUP(A14,Список!$A$2:$J$123,4) -> 2004 | F14: =VLOOKUP(A14,Список!$A$2:$J$123,5) -> КМС | G14: =VLOOKUP(A14,Список!$A$2:$J$123,6) -> Оренбургская область | H14: =VLOOKUP(A14,Список!$A$2:$J$123,7) -> СШ №1 им. Л.Д. Ковалевского | I14: =VLOOKUP(A14,Список!$A$2:$J$123,8) -> 89.35 | J14: 40 | N14: =IF(B14=1,20,IF(B14=2,18,IF(B14=3,16,IF(B14>19,0,19-B14)))) -> 20 | O14: =IF(AND(NOT(OR(F14="МСМК",F14="ЗМС")),J14>=$O$10),"+МСМК",IF(AND(OR(F14="МСМК",F14="ЗМС"),J14>=$O$10),"МСМК",IF(AND(NOT(OR(F14="МСМК",F14="МС",F14="ЗМС")),J14>=$P$10),"+МС",IF(AND(OR(F14="МСМК",F14="МС",F14="ЗМС"),J14>=$P$10),"МС",IF(AND(NOT(OR(F14="ЗМС",F14="МСМК",F14="МС",F14="КМС")),J14>=$Q$10),"+КМС",IF(AND(OR(F14="ЗМС",F14="МСМК",F14="МС",F14="КМС"),J14>=$Q$10),"КМС","-")))))) -> - | P14: =VLOOKUP(A14,Список!$A$2:$J$123,9) -> Павлов С.П.
A15: 86 | B15: 2 | C15: =VLOOKUP(A15,Список!$A$2:$J$123,3) -> Вершинина Дарья | E15: =VLOOKUP(A15,Список!$A$2:$J$123,4) -> 2009 | F15: =VLOOKUP(A15,Список!$A$2:$J$123,5) -> КМС | G15: =VLOOKUP(A15,Список!$A$2:$J$123,6) -> Кировская область | H15: =VLOOKUP(A15,Список!$A$2:$J$123,7) -> КОГАУ «СШОР «Юность» | I15: =VLOOKUP(A15,Список!$A$2:$J$123,8) -> 76.25 | J15: 23 | N15: =IF(B15=1,20,IF(B15=2,18,IF(B15=3,16,IF(B15>19,0,19-B15)))) -> 18 | O15: =IF(AND(NOT(OR(F15="МСМК",F15="ЗМС")),J15>=$O$10),"+МСМК",IF(AND(OR(F15="МСМК",F15="ЗМС"),J15>=$O$10),"МСМК",IF(AND(NOT(OR(F15="МСМК",F15="МС",F15="ЗМС")),J15>=$P$10),"+МС",IF(AND(OR(F15="МСМК",F15="МС",F15="ЗМС"),J15>=$P$10),"МС",IF(AND(NOT(OR(F15="ЗМС",F15="МСМК",F15="МС",F15="КМС")),J15>=$Q$10),"+КМС",IF(AND(OR(F15="ЗМС",F15="МСМК",F15="МС",F15="КМС"),J15>=$Q$10),"КМС","-")))))) -> - | P15: =VLOOKUP(A15,Список!$A$2:$J$123,9) -> Малков Е.И.
