Workbook
Name _13Excel_BuiltIn_Print_Area_2: #REF!
Name _13Excel_BuiltIn_Print_Area_2: #REF!
Name _13Excel_BuiltIn_Print_Area_2: #REF!
Name _13Excel_BuiltIn_Print_Area_2: #REF!
Name _13Excel_BuiltIn_Print_Area_2: #REF!
Name _13Excel_BuiltIn_Print_Area_2: #REF!
Name _13Excel_BuiltIn_Print_Area_2: #REF!
Name _13Excel_BuiltIn_Print_Area_2: #REF!
Name _13Excel_BuiltIn_Print_Area_2: #REF!
Name _13Excel_BuiltIn_Print_Area_2: #REF!
Name _13Excel_BuiltIn_Print_Area_2: #REF!
Name _13Excel_BuiltIn_Print_Area_2: #REF!
Name _26Excel_BuiltIn_Print_Area_3: #REF!
Name _26Excel_BuiltIn_Print_Area_3: #REF!
Name _26Excel_BuiltIn_Print_Area_3: #REF!
Name _26Excel_BuiltIn_Print_Area_3: #REF!
Name _26Excel_BuiltIn_Print_Area_3: #REF!
Name _26Excel_BuiltIn_Print_Area_3: #REF!
Name _26Excel_BuiltIn_Print_Area_3: #REF!
Name _26Excel_BuiltIn_Print_Area_3: #REF!
Name _26Excel_BuiltIn_Print_Area_3: #REF!
Name _26Excel_BuiltIn_Print_Area_3: #REF!
Name _26Excel_BuiltIn_Print_Area_3: #REF!
Name _26Excel_BuiltIn_Print_Area_3: #REF!
Name дв58: #REF!
Name дв58: #REF!
Name дв58: #REF!
Name дв58: #REF!
Name дв58: #REF!
Name дв58: #REF!
Name дв58: #REF!
Name дв58: #REF!
Name дв58: #REF!
Name дв58: #REF!
Name дв58: #REF!
Name дв58: #REF!
Name дв581: #REF!
Name дв581: #REF!
Name дв581: #REF!
Name дв581: #REF!
Name дв581: #REF!
Name дв581: #REF!
Name дв581: #REF!
Name дв581: #REF!
Name дв581: #REF!
Name дв581: #REF!
Name дв581: #REF!
Name дв581: #REF!

Sheet ДЦ 63
B1: Министерство спорта Российской Федерации.
B2: Общероссийская общественная организация "Всероссийская федерация гиревого спорта".
B3: Министерство физической культуры и спорта Пермского края
B4: Региональное отделение общероссийской общественной организации "ВФГС в Пермском крае"
B6: 12-14 апреля 2024 г. | E6: ПРОТОКОЛ | O6: Вес гирь 32 кг.
B7: г. Пермь | E7: Чемпионата Приволжского федерального округа | O7: Регламент времени - 10 мин.
E8: ЕКП № 2065590017021409 | O8: Разрядные нормативы
B9: Количество участников - 92 | E9: Толчок длинный цикл (мужчины) | O9: МСМК | P9: МС | Q9: КМС
B10: Количество регионов - 10 | E10: Весовая категория 63 кг | O10: 59 | P10: 44 | Q10: 35
B12: Место | C12: Фамилия Имя | E12: Дата рождения | F12: Звание | G12: Команда | H12: ДСО, ведомство | I12: Соб. вес | J12: Толчок | K12: Рывок | M12: Сумма дв-рья | N12: Ком. очки | O12: Вып. разряд | P12: ФИО тренера(тренеров)
K13: Сумма | L13: Очки
A14: 23 | B14: 1 | C14: =VLOOKUP(A14,Список!$A$2:$J$123,3) -> Курунов Анатолий | E14: =VLOOKUP(A14,Список!$A$2:$J$123,4) -> 1999 | F14: =VLOOKUP(A14,Список!$A$2:$J$123,5) -> МС | G14: =VLOOKUP(A14,Список!$A$2:$J$123,6) -> Оренбургская область | H14: =VLOOKUP(A14,Список!$A$2:$J$123,7) -> СШ №1 им. Л.Д. Ковалевского | I14: =VLOOKUP(A14,Список!$A$2:$J$123,8) -> 62.55 | J14: 50 | N14: =IF(B14=1,20,IF(B14=2,18,IF(B14=3,16,IF(B14>19,0,19-B14)))) -> 20 | O14: =IF(AND(NOT(OR(F14="МСМК",F14="ЗМС")),J14>=$O$10),"+МСМК",IF(AND(OR(F14="МСМК",F14="ЗМС"),J14>=$O$10),"МСМК",IF(AND(NOT(OR(F14="МСМК",F14="МС",F14="ЗМС")),J14>=$P$10),"+МС",IF(AND(OR(F14="МСМК",F14="МС",F14="ЗМС"),J14>=$P$10),"МС",IF(AND(NOT(OR(F14="ЗМС",F14="МСМК",F14="МС",F14="КМС")),J14>=$Q$10),"+КМС",IF(AND(OR(F14="ЗМС",F14="МСМК",F14="МС",F14="КМС"),J14>=$Q$10),"КМС","-")))))) -> МС | P14: =VLOOKUP(A14,Список!$A$2:$J$123,9) -> Павлов С.П.
A15: 1 | B15: 2 | C15: =VLOOKUP(A15,Список!$A$2:$J$123,3) -> Маркичев Максим | E15: =VLOOKUP(A15,Список!$A$2:$J$123,4) -> 1997 | F15: =VLOOKUP(A15,Список!$A$2:$J$123,5) -> КМС | G15: =VLOOKUP(A15,Список!$A$2:$J$123,6) -> Нижегородская область | I15: =VLOOKUP(A15,Список!$A$2:$J$123,8) -> 62.45 | J15: 45 | N15: =IF(B15=1,20,IF(B15=2,18,IF(B15=3,16,IF(B15>19,0,19-B15)))) -> 18 | O15: =IF(AND(NOT(OR(F15="МСМК",F15="ЗМС")),J15>=$O$10),"+МСМК",IF(AND(OR(F15="МСМК",F15="ЗМС"),J15>=$O$10),"МСМК",IF(AND(NOT(OR(F15="МСМК",F15="МС",F15="ЗМС")),J15>=$P$10),"+МС",IF(AND(OR(F15="МСМК",F15="МС",F15="ЗМС"),J15>=$P$10),"МС",IF(AND(NOT(OR(F15="ЗМС",F15="МСМК",F15="МС",F15="КМС")),J15>=$Q$10),"+КМС",IF(AND(OR(F15="ЗМС",F15="МСМК",F15="МС",F15="КМС"),J15>=$Q$10),"КМС","-")))))) -> +МС | P15: =VLOOKUP(A15,Список!$A$2:$J$123,9) -> Маркичев Э.Ф.
A16: 45 | B16: 3 | C16: =VLOOKUP(A16,Список!$A$2:$J$123,3) -> Половников Павел | E16: =VLOOKUP(A16,Список!$A$2:$J$123,4) -> 2002 | F16: =VLOOKUP(A16,Список!$A$2:$J$123,5) -> КМС | G16: =VLOOKUP(A16,Список!$A$2:$J$123,6) -> Пермский край | H16: =VLOOKUP(A16,Список!$A$2:$J$123,7) -> МБУ ДО «ДЮСШ «Спарт» | I16: =VLOOKUP(A16,Список!$A$2:$J$123,8) -> 59.3 | J16: 35 | N16: =IF(B16=1,20,IF(B16=2,18,IF(B16=3,16,IF(B16>19,0,19-B16)))) -> 16 | O16: =IF(AND(NOT(OR(F16="МСМК",F16="ЗМС")),J16>=$O$10),"+МСМК",IF(AND(OR(F16="МСМК",F16="ЗМС"),J16>=$O$10),"МСМК",IF(AND(NOT(OR(F16="МСМК",F16="МС",F16="ЗМС")),J16>=$P$10),"+МС",IF(AND(OR(F16="МСМК",F16="МС",F16="ЗМС"),J16>=$P$10),"МС",IF(AND(NOT(OR(F16="ЗМС",F16="МСМК",F16="МС",F16="КМС")),J16>=$Q$10),"+КМС",IF(AND(OR(F16="ЗМС",F16="МСМК",F16="МС",F16="КМС"),J16>=$Q$10),"КМС","-")))))) -> КМС | P16: =VLOOKUP(A16,Список!$A$2:$J$123,9) -> Маматов Г.Т.
A17: 51 | B17: 4 | C17: =VLOOKUP(A17,Список!$A$2:$J$123,3) -> Холов Хусейн | E17: =VLOOKUP(A17,Список!$A$2:$J$123,4) -> 2001 | F17: =VLOOKUP(A17,Список!$A$2:$J$123,5) -> КМС | G17: =VLOOKUP(A17,Список!$A$2:$J$123,6) -> Пермский край | H17: =VLOOKUP(A17,Список!$A$2:$J$123,7) -> ДО ДС ДЮ «Прикамье» | I17: =VLOOKUP(A17,Список!$A$2:$J$123,8) -> 62.55 | J17: 27 | N17: =IF(B17=1,20,IF(B17=2,18,IF(B17=3,16,IF(B17>19,0,19-B17)))) -> 15 | O17: =IF(AND(NOT(OR(F17="МСМК",F17="ЗМС")),J17>=$O$10),"+МСМК",IF(AND(OR(F17="МСМК",F17="ЗМС"),J17>=$O$10),"МСМК",IF(AND(NOT(OR(F17="МСМК",F17="МС",F17="ЗМС")),J17>=$P$10),"+МС",IF(AND(OR(F17="МСМК",F17="МС",F17="ЗМС"),J17>=$P$10),"МС",IF(AND(NOT(OR(F17="ЗМС",F17="МСМК",F17="МС",F17="КМС")),J17>=$Q$10),"+КМС",IF(AND(OR(F17="ЗМС",F17="МСМК",F17="МС",F17="КМС"),J17>=$Q$10),"КМС","-")))))) -> - | P17: =VLOOKUP(A17,Список!$A$2:$J$123,9) -> Мошев Д.И
A18: 58 | B18: 5 | C18: =VLOOKUP(A18,Список!$A$2:$J$123,3) -> Попов Кирилл | E18: =VLOOKUP(A18,Список!$A$2:$J$123,4) -> 2008 | F18: =VLOOKUP(A18,Список!$A$2:$J$123,5) -> КМС | G18: =VLOOKUP(A18,Список!$A$2:$J$123,6) -> Пермский край | H18: =VLOOKUP(A18,Список!$A$2:$J$123,7) -> МБУ ДО «ДЮСШ «Спарт» | I18: =VLOOKUP(A18,Список!$A$2:$J$123,8) -> 60.8 | J18: 21 | N18: =IF(B18=1,20,IF(B18=2,18,IF(B18=3,16,IF(B18>19,0,19-B18)))) -> 14 | O18: =IF(AND(NOT(OR(F18="МСМК",F18="ЗМС")),J18>=$O$10),"+МСМК",IF(AND(OR(F18="МСМК",F18="ЗМС"),J18>=$O$10),"МСМК",IF(AND(NOT(OR(F18="МСМК",F18="МС",F18="ЗМС")),J18>=$P$10),"+МС",IF(AND(OR(F18="МСМК",F18="МС",F18="ЗМС"),J18>=$P$10),"МС",IF(AND(NOT(OR(F18="ЗМС",F18="МСМК",F18="МС",F18="КМС")),J18>=$Q$10),"+КМС",IF(AND(OR(F18="ЗМС",F18="МСМК",F18="МС",F18="КМС"),J18>=$Q$10),"КМС","-")))))) -> - | P18: =VLOOKUP(A18,Список!$A$2:$J$123,9) -> Маматов Г.Т.
A19: 56 | B19: 6 | C19: =VLOOKUP(A19,Список!$A$2:$J$123,3) -> Останин Даниил | E19: =VLOOKUP(A19,Список!$A$2:$J$123,4) -> 2005 | F19: =VLOOKUP(A19,Список!$A$2:$J$123,5) -> КМС | G19: =VLOOKUP(A19,Список!$A$2:$J$123,6) -> Пермский край | H19: =VLOOKUP(A19,Список!$A$2:$J$123,7) -> ДО ДС ДЮ «Прикамье» | I19: =VLOOKUP(A19,Список!$A$2:$J$123,8) -> 57.05 | J19: 13 | N19: =IF(B19=1,20,IF(B19=2,18,IF(B19=3,16,IF(B19>19,0,19-B19)))) -> 13 | O19: =IF(AND(NOT(OR(F19="МСМК",F19="ЗМС")),J19>=$O$10),"+МСМК",IF(AND(OR(F19="МСМК",F19="ЗМС"),J19>=$O$10),"МСМК",IF(AND(NOT(OR(F19="МСМК",F19="МС",F19="ЗМС")),J19>=$P$10),"+МС",IF(AND(OR(F19="МСМК",F19="МС",F19="ЗМС"),J19>=$P$10),"МС",IF(AND(NOT(OR(F19="ЗМС",F19="МСМК",F19="МС",F19="КМС")),J19>=$Q$10),"+КМС",IF(AND(OR(F19="ЗМС",F19="МСМК",F19="МС",F19="КМС"),J19>=$Q$10),"КМС","-")))))) -> - | P19: =VLOOKUP(A19,Список!$A$2:$J$123,9) -> Мошев Д.И
C22: Главный судья | I22: Ческис О.И., 1К (Пермский край)
C24: Главный секретарь | I24: Паклина М.В., ВК (Пермский край)
C26: Зам. главного судьи | I26: Паклин П.А., ВК (Пермский край)
C28: Зам. главного секретаря | I28: Мошев Д.И., 1К (Пермский край)

Sheet ДЦ 68
B1: Министерство спорта Российской Федерации.
B2: Общероссийская общественная организация "Всероссийская федерация гиревого спорта".
B3: ='ДЦ 63'!$B$3:$Q$3 -> Министерство физической культуры и спорта Пермского края
B4: ='ДЦ 63'!$B$4:$Q$4 -> Региональное отделение общероссийской общественной организации "ВФГС в Пермском крае"
B6: 12-14 апреля 2024 г. | E6: ПРОТОКОЛ | O6: Вес гирь 32 кг.
B7: г. Пермь | E7: Чемпионата Приволжского федерального округа | O7: Регламент времени - 10 мин.
E8: ='ДЦ 63'!$E$8:$N$8 -> ЕКП № 2065590017021409 | O8: Разрядные нормативы
B9: ='ДЦ 63'!$B$9:$D$9 -> Количество участников - 92 | E9: Толчок длинный цикл (мужчины) | O9: МСМК | P9: МС | Q9: КМС
B10: ='ДЦ 63'!$B$10:$D$10 -> Количество регионов - 10 | E10: Весовая категория 68 кг | O10: 72 | P10: 56 | Q10: 45
B12: Место | C12: Фамилия Имя | E12: Дата рождения | F12: Звание | G12: Команда | H12: ДСО, ведомство | I12: Соб. вес | J12: Толчок | K12: Рывок | M12: Сумма дв-рья | N12: Ком. очки | O12: Вып. разряд | P12: ФИО тренера(тренеров)
K13: Сумма | L13: Очки
A14: 76 | B14: 1 | C14: =VLOOKUP(A14,Список!$A$2:$J$123,3) -> Новоселов Андрей | E14: =VLOOKUP(A14,Список!$A$2:$J$123,4) -> 2004 | F14: =VLOOKUP(A14,Список!$A$2:$J$123,5) -> МС | G14: =VLOOKUP(A14,Список!$A$2:$J$123,6) -> Кировская область | H14: =VLOOKUP(A14,Список!$A$2:$J$123,7) -> КОГАУ «СШОР «Юность» | I14: =VLOOKUP(A14,Список!$A$2:$J$123,8) -> 68 | J14: 64 | N14: =IF(B14=1,20,IF(B14=2,18,IF(B14=3,16,IF(B14>19,0,19-B14)))) -> 20 | O14: =IF(AND(NOT(OR(F14="МСМК",F14="ЗМС")),J14>=$O$10),"+МСМК",IF(AND(OR(F14="МСМК",F14="ЗМС"),J14>=$O$10),"МСМК",IF(AND(NOT(OR(F14="МСМК",F14="МС",F14="ЗМС")),J14>=$P$10),"+МС",IF(AND(OR(F14="МСМК",F14="МС",F14="ЗМС"),J14>=$P$10),"МС",IF(AND(NOT(OR(F14="ЗМС",F14="МСМК",F14="МС",F14="КМС")),J14>=$Q$10),"+КМС",IF(AND(OR(F14="ЗМС",F14="МСМК",F14="МС",F14="КМС"),J14>=$Q$10),"КМС","-")))))) -> МС | P14: =VLOOKUP(A14,Список!$A$2:$J$123,9) -> Малков Е.И.
A15: 41 | B15: 2 | C15: =VLOOKUP(A15,Список!$A$2:$J$123,3) -> Ярусов Константин | E15: =VLOOKUP(A15,Список!$A$2:$J$123,4) -> 2006 | F15: =VLOOKUP(A15,Список!$A$2:$J$123,5) -> КМС | G15: =VLOOKUP(A15,Список!$A$2:$J$123,6) -> Пермский край | H15: =VLOOKUP(A15,Список!$A$2:$J$123,7) -> МБУ ДО «ДЮСШ «Спарт» | I15: =VLOOKUP(A15,Список!$A$2:$J$123,8) -> 67 | J15: 41 | N15: =IF(B15=1,20,IF(B15=2,18,IF(B15=3,16,IF(B15>19,0,19-B15)))) -> 18 | O15: =IF(AND(NOT(OR(F15="МСМК",F15="ЗМС")),J15>=$O$10),"+МСМК",IF(AND(OR(F15="МСМК",F15="ЗМС"),J15>=$O$10),"МСМК",IF(AND(NOT(OR(F15="МСМК",F15="МС",F15="ЗМС")),J15>=$P$10),"+МС",IF(AND(OR(F15="МСМК",F15="МС",F15="ЗМС"),J15>=$P$10),"МС",IF(AND(NOT(OR(F15="ЗМС",F15="МСМК",F15="МС",F15="КМС")),J15>=$Q$10),"+КМС",IF(AND(OR(F15="ЗМС",F15="МСМК",F15="МС",F15="КМС"),J15>=$Q$10),"КМС","-")))))) -> - | P15: =VLOOKUP(A15,Список!$A$2:$J$123,9) -> Маматов Г.Т.
A16: 25 | B16: 3 | C16: =VLOOKUP(A16,Список!$A$2:$J$123,3) -> Киякин Александр | E16: =VLOOKUP(A16,Список!$A$2:$J$123,4) -> 2001 | F16: =VLOOKUP(A16,Список!$A$2:$J$123,5) -> МС | G16: =VLOOKUP(A16,Список!$A$2:$J$123,6) -> Оренбургская область | H16: =VLOOKUP(A16,Список!$A$2:$J$123,7) -> СШ №1 им. Л.Д. Ковалевского | I16: =VLOOKUP(A16,Список!$A$2:$J$123,8) -> 67.5 | J16: 28 | N16: =IF(B16=1,20,IF(B16=2,18,IF(B16=3,16,IF(B16>19,0,19-B16)))) -> 16 | O16: =IF(AND(NOT(OR(F16="МСМК",F16="ЗМС")),J16>=$O$10),"+МСМК",IF(AND(OR(F16="МСМК",F16="ЗМС"),J16>=$O$10),"МСМК",IF(AND(NOT(OR(F16="МСМК",F16="МС",F16="ЗМС")),J16>=$P$10),"+МС",IF(AND(OR(F16="МСМК",F16="МС",F16="ЗМС"),J16>=$P$10),"МС",IF(AND(NOT(OR(F16="ЗМС",F16="МСМК",F16="МС",F16="КМС")),J16>=$Q$10),"+КМС",IF(AND(OR(F16="ЗМС",F16="МСМК",F16="МС",F16="КМС"),J16>=$Q$10),"КМС","-")))))) -> - | P16: =VLOOKUP(A16,Список!$A$2:$J$123,9) -> Павлов С.П.
D19: Главный судья | J19: ='ДЦ 63'!$I$22 -> Ческис О.И., 1К (Пермский край)
D21: Главный секретарь | J21: ='ДЦ 63'!$I$24 -> Паклина М.В., ВК (Пермский край)
D23: Зам. главного судьи | J23: ='ДЦ 63'!$I$26 -> Паклин П.А., ВК (Пермский край)
D25: Зам. главного секретаря | J25: ='ДЦ 63'!$I$28 -> Мошев Д.И., 1К (Пермский край)

Sheet ДЦ 73
B1: Министерство спорта Российской Федерации.
B2: Общероссийская общественная организация "Всероссийская федерация гиревого спорта".
B3: ='ДЦ 63'!$B$3:$Q$3 -> Министерство физической культуры и спорта Пермского края
B4: ='ДЦ 63'!$B$4:$Q$4 -> Региональное отделение общероссийской общественной организации "ВФГС в Пермском крае"
B6: 12-14 апреля 2024 г. | E6: ПРОТОКОЛ | O6: Вес гирь 32 кг.
B7: г. Пермь | E7: Чемпионата Приволжского федерального округа | O7: Регламент времени - 10 мин.
E8: ='ДЦ 63'!$E$8:$N$8 -> ЕКП № 2065590017021409 | O8: Разрядные нормативы
B9: ='ДЦ 63'!$B$9:$D$9 -> Количество участников - 92 | E9: Толчок длинный цикл (мужчины) | O9: МСМК | P9: МС | Q9: КМС
B10: ='ДЦ 63'!$B$10:$D$10 -> Количество регионов - 10 | E10: Весовая категория 73 кг | O10: 76 | P10: 62 | Q10: 48
B12: Место | C12: Фамилия Имя | E12: Дата рождения | F12: Звание | G12: Команда | H12: ДСО, ведомство | I12: Соб. вес | J12: Толчок | K12: Рывок | M12: Сумма дв-рья | N12: Ком. очки | O12: Вып. разряд | P12: ФИО тренера(тренеров)
K13: Сумма | L13: Очки
A14: 78 | B14: 1 | C14: =VLOOKUP(A14,Список!$A$2:$J$123,3) -> Перминов Максим | E14: =VLOOKUP(A14,Список!$A$2:$J$123,4) -> 1994 | F14: =VLOOKUP(A14,Список!$A$2:$J$123,5) -> КМС | G14: =VLOOKUP(A14,Список!$A$2:$J$123,6) -> Кировская область | H14: =VLOOKUP(A14,Список!$A$2:$J$123,7) -> КОГАУ «СШОР «Юность» | I14: =VLOOKUP(A14,Список!$A$2:$J$123,8) -> 72.45 | J14: 58 | N14: =IF(B14=1,20,IF(B14=2,18,IF(B14=3,16,IF(B14>19,0,19-B14)))) -> 20 | O14: =IF(AND(NOT(OR(F14="МСМК",F14="ЗМС")),J14>=$O$10),"+МСМК",IF(AND(OR(F14="МСМК",F14="ЗМС"),J14>=$O$10),"МСМК",IF(AND(NOT(OR(F14="МСМК",F14="МС",F14="ЗМС")),J14>=$P$10),"+МС",IF(AND(OR(F14="МСМК",F14="МС",F14="ЗМС"),J14>=$P$10),"МС",IF(AND(NOT(OR(F14="ЗМС",F14="МСМК",F14="МС",F14="КМС")),J14>=$Q$10),"+КМС",IF(AND(OR(F14="ЗМС",F14="МСМК",F14="МС",F14="КМС"),J14>=$Q$10),"КМС","-")))))) -> КМС | P14: =VLOOKUP(A14,Список!$A$2:$J$123,9) -> Малков Е.И.
A15: 2 | B15: 2 | C15: =VLOOKUP(A15,Список!$A$2:$J$123,3) -> Крюков Дмитрий | E15: =VLOOKUP(A15,Список!$A$2:$J$123,4) -> 1993 | F15: =VLOOKUP(A15,Список!$A$2:$J$123,5) -> КМС | G15: =VLOOKUP(A15,Список!$A$2:$J$123,6) -> Нижегородская область | I15: =VLOOKUP(A15,Список!$A$2:$J$123,8) -> 72.35 | J15: 48 | N15: =IF(B15=1,20,IF(B15=2,18,IF(B15=3,16,IF(B15>19,0,19-B15)))) -> 18 | O15: =IF(AND(NOT(OR(F15="МСМК",F15="ЗМС")),J15>=$O$10),"+МСМК",IF(AND(OR(F15="МСМК",F15="ЗМС"),J15>=$O$10),"МСМК",IF(AND(NOT(OR(F15="МСМК",F15="МС",F15="ЗМС")),J15>=$P$10),"+МС",IF(AND(OR(F15="МСМК",F15="МС",F15="ЗМС"),J15>=$P$10),"МС",IF(AND(NOT(OR(F15="ЗМС",F15="МСМК",F15="МС",F15="КМС")),J15>=$Q$10),"+КМС",IF(AND(OR(F15="ЗМС",F15="МСМК",F15="МС",F15="КМС"),J15>=$Q$10),"КМС","-")))))) -> КМС | P15: =VLOOKUP(A15,Список!$A$2:$J$123,9) -> Маркичев Э.Ф.
A16: 31 | B16: 3 | C16: =VLOOKUP(A16,Список!$A$2:$J$123,3) -> Шамкаев Радик | E16: =VLOOKUP(A16,Список!$A$2:$J$123,4) -> 1990 | F16: =VLOOKUP(A16,Список!$A$2:$J$123,5) -> КМС | G16: =VLOOKUP(A16,Список!$A$2:$J$123,6) -> Оренбургская область | H16: =VLOOKUP(A16,Список!$A$2:$J$123,7) -> СШ №1 им. Л.Д. Ковалевского | I16: =VLOOKUP(A16,Список!$A$2:$J$123,8) -> 72.25 | J16: 47 | N16: =IF(B16=1,20,IF(B16=2,18,IF(B16=3,16,IF(B16>19,0,19-B16)))) -> 16 | O16: =IF(AND(NOT(OR(F16="МСМК",F16="ЗМС")),J16>=$O$10),"+МСМК",IF(AND(OR(F16="МСМК",F16="ЗМС"),J16>=$O$10),"МСМК",IF(AND(NOT(OR(F16="МСМК",F16="МС",F16="ЗМС")),J16>=$P$10),"+МС",IF(AND(OR(F16="МСМК",F16="МС",F16="ЗМС"),J16>=$P$10),"МС",IF(AND(NOT(OR(F16="ЗМС",F16="МСМК",F16="МС",F16="КМС")),J16>=$Q$10),"+КМС",IF(AND(OR(F16="ЗМС",F16="МСМК",F16="МС",F16="КМС"),J16>=$Q$10),"КМС","-")))))) -> - | P16: =VLOOKUP(A16,Список!$A$2:$J$123,9) -> Фунтиков Н.Н.
A17: 44 | B17: 4 | C17: =VLOOKUP(A17,Список!$A$2:$J$123,3) -> Ошмарин Никита | E17: =VLOOKUP(A17,Список!$A$2:$J$123,4) -> 2003 | F17: =VLOOKUP(A17,Список!$A$2:$J$123,5) -> КМС | G17: =VLOOKUP(A17,Список!$A$2:$J$123,6) -> Пермский край | H17: =VLOOKUP(A17,Список!$A$2:$J$123,7) -> МБУ ДО «ДЮСШ «Спарт» | I17: =VLOOKUP(A17,Список!$A$2:$J$123,8) -> 72.85 | J17: 38 | N17: =IF(B17=1,20,IF(B17=2,18,IF(B17=3,16,IF(B17>19,0,19-B17)))) -> 15 | O17: =IF(AND(NOT(OR(F17="МСМК",F17="ЗМС")),J17>=$O$10),"+МСМК",IF(AND(OR(F17="МСМК",F17="ЗМС"),J17>=$O$10),"МСМК",IF(AND(NOT(OR(F17="МСМК",F17="МС",F17="ЗМС")),J17>=$P$10),"+МС",IF(AND(OR(F17="МСМК",F17="МС",F17="ЗМС"),J17>=$P$10),"МС",IF(AND(NOT(OR(F17="ЗМС",F17="МСМК",F17="МС",F17="КМС")),J17>=$Q$10),"+КМС",IF(AND(OR(F17="ЗМС",F17="МСМК",F17="МС",F17="КМС"),J17>=$Q$10),"КМС","-")))))) -> - | P17: =VLOOKUP(A17,Список!$A$2:$J$123,9) -> Маматов Г.Т.
C20: Главный судья | I20: ='ДЦ 63'!$I$22 -> Ческис О.И., 1К (Пермский край)
C22: Главный секретарь | I22: ='ДЦ 63'!$I$24 -> Паклина М.В., ВК (Пермский край)
C24: Зам. главного судьи | I24: ='ДЦ 63'!$I$26 -> Паклин П.А., ВК (Пермский край)
C26: Зам. главного секретаря | I26: ='ДЦ 63'!$I$28 -> Мошев Д.И., 1К (Пермский край)

Sheet ДЦ 78
B1: Министерство спорта Российской Федерации.
B2: Общероссийская общественная организация "Всероссийская федерация гиревого спорта".
B3: ='ДЦ 63'!$B$3:$Q$3 -> Министерство физической культуры и спорта Пермского края
B4: ='ДЦ 63'!$B$4:$Q$4 -> Региональное отделение общероссийской общественной организации "ВФГС в Пермском крае"
B6: 12-14 апреля 2024 г. | E6: ПРОТОКОЛ | O6: Вес гирь 32 кг.
B7: г. Пермь | E7: Чемпионата Приволжского федерального округа | O7: Регламент времени - 10 мин.
E8: ='ДЦ 63'!$E$8:$N$8 -> ЕКП № 2065590017021409 | O8: Разрядные нормативы
B9: ='ДЦ 63'!$B$9:$D$9 -> Количество участников - 92 | E9: Толчок длинный цикл (мужчины) | O9: МСМК | P9: МС | Q9: КМС
B10: ='ДЦ 63'!$B$10:$D$10 -> Количество регионов - 10 | E10: Весовая категория 78 кг | O10: 79 | P10: 66 | Q10: 52
B12: Место | C12: Фамилия Имя | E12: Дата рождения | F12: Звание | G12: Команда | H12: ДСО, ведомство | I12: Соб. вес | J12: Толчок | K12: Рывок | M12: Сумма дв-рья | N12: Ком. очки | O12: Вып. разряд | P12: ФИО тренера(тренеров)
K13: Сумма | L13: Очки
A14: 91 | B14: 1 | C14: =VLOOKUP(A14,Список!$A$2:$J$123,3) -> Ляукин Кирилл | E14: =VLOOKUP(A14,Список!$A$2:$J$123,4) -> 1999 | F14: =VLOOKUP(A14,Список!$A$2:$J$123,5) -> МС | G14: =VLOOKUP(A14,Список!$A$2:$J$123,6) -> Республика Татарстан | H14: =VLOOKUP(A14,Список!$A$2:$J$123,7) -> РОО «ФГС РТ» | I14: =VLOOKUP(A14,Список!$A$2:$J$123,8) -> 77.95 | J14: 78 | N14: =IF(B14=1,20,IF(B14=2,18,IF(B14=3,16,IF(B14>19,0,19-B14)))) -> 20 | O14: =IF(AND(NOT(OR(F14="МСМК",F14="ЗМС")),J14>=$O$10),"+МСМК",IF(AND(OR(F14="МСМК",F14="ЗМС"),J14>=$O$10),"МСМК",IF(AND(NOT(OR(F14="МСМК",F14="МС",F14="ЗМС")),J14>=$P$10),"+МС",IF(AND(OR(F14="МСМК",F14="МС",F14="ЗМС"),J14>=$P$10),"МС",IF(AND(NOT(OR(F14="ЗМС",F14="МСМК",F14="МС",F14="КМС")),J14>=$Q$10),"+КМС",IF(AND(OR(F14="ЗМС",F14="МСМК",F14="МС",F14="КМС"),J14>=$Q$10),"КМС","-")))))) -> МС | P14: =VLOOKUP(A14,Список!$A$2:$J$123,9) -> Низамова А.А.
A15: 50 | B15: 2 | C15: =VLOOKUP(A15,Список!$A$2:$J$123,3) -> Порцев Роман | E15: =VLOOKUP(A15,Список!$A$2:$J$123,4) -> 1987 | F15: =VLOOKUP(A15,Список!$A$2:$J$123,5) -> МС | G15: =VLOOKUP(A15,Список!$A$2:$J$123,6) -> Пермский край | H15: =VLOOKUP(A15,Список!$A$2:$J$123,7) -> ДО ДС ДЮ «Прикамье» | I15: =VLOOKUP(A15,Список!$A$2:$J$123,8) -> 77.35 | J15: 71 | N15: =IF(B15=1,20,IF(B15=2,18,IF(B15=3,16,IF(B15>19,0,19-B15)))) -> 18 | O15: =IF(AND(NOT(OR(F15="МСМК",F15="ЗМС")),J15>=$O$10),"+МСМК",IF(AND(OR(F15="МСМК",F15="ЗМС"),J15>=$O$10),"МСМК",IF(AND(NOT(OR(F15="МСМК",F15="МС",F15="ЗМС")),J15>=$P$10),"+МС",IF(AND(OR(F15="МСМК",F15="МС",F15="ЗМС"),J15>=$P$10),"МС",IF(AND(NOT(OR(F15="ЗМС",F15="МСМК",F15="МС",F15="КМС")),J15>=$Q$10),"+КМС",IF(AND(OR(F15="ЗМС",F15="МСМК",F15="МС",F15="КМС"),J15>=$Q$10),"КМС","-")))))) -> МС | P15: =VLOOKUP(A15,Список!$A$2:$J$123,9) -> Мошев Д.И
A16: 21 | B16: 3 | C16: =VLOOKUP(A16,Список!$A$2:$J$123,3) -> Никитин Дмитрий | E16: =VLOOKUP(A16,Список!$A$2:$J$123,4) -> 2004 | F16: =VLOOKUP(A16,Список!$A$2:$J$123,5) -> МС | G16: =VLOOKUP(A16,Список!$A$2:$J$123,6) -> Самарская область | I16: =VLOOKUP(A16,Список!$A$2:$J$123,8) -> 77.75 | J16: 65 | N16: =IF(B16=1,20,IF(B16=2,18,IF(B16=3,16,IF(B16>19,0,19-B16)))) -> 16 | O16: =IF(AND(NOT(OR(F16="МСМК",F16="ЗМС")),J16>=$O$10),"+МСМК",IF(AND(OR(F16="МСМК",F16="ЗМС"),J16>=$O$10),"МСМК",IF(AND(NOT(OR(F16="МСМК",F16="МС",F16="ЗМС")),J16>=$P$10),"+МС",IF(AND(OR(F16="МСМК",F16="МС",F16="ЗМС"),J16>=$P$10),"МС",IF(AND(NOT(OR(F16="ЗМС",F16="МСМК",F16="МС",F16="КМС")),J16>=$Q$10),"+КМС",IF(AND(OR(F16="ЗМС",F16="МСМК",F16="МС",F16="КМС"),J16>=$Q$10),"КМС","-")))))) -> КМС | P16: =VLOOKUP(A16,Список!$A$2:$J$123,9) -> Балдин А.В.
A17: 77 | B17: 4 | C17: =VLOOKUP(A17,Список!$A$2:$J$123,3) -> Алцыбеев Никита | E17: =VLOOKUP(A17,Список!$A$2:$J$123,4) -> 2003 | F17: =VLOOKUP(A17,Список!$A$2:$J$123,5) -> МС | G17: =VLOOKUP(A17,Список!$A$2:$J$123,6) -> Кировская область | H17: =VLOOKUP(A17,Список!$A$2:$J$123,7) -> КОГАУ «СШОР «Юность» | I17: =VLOOKUP(A17,Список!$A$2:$J$123,8) -> 77.95 | J17: 64 | N17: =IF(B17=1,20,IF(B17=2,18,IF(B17=3,16,IF(B17>19,0,19-B17)))) -> 15 | O17: =IF(AND(NOT(OR(F17="МСМК",F17="ЗМС")),J17>=$O$10),"+МСМК",IF(AND(OR(F17="МСМК",F17="ЗМС"),J17>=$O$10),"МСМК",IF(AND(NOT(OR(F17="МСМК",F17="МС",F17="ЗМС")),J17>=$P$10),"+МС",IF(AND(OR(F17="МСМК",F17="МС",F17="ЗМС"),J17>=$P$10),"МС",IF(AND(NOT(OR(F17="ЗМС",F17="МСМК",F17="МС",F17="КМС")),J17>=$Q$10),"+КМС",IF(AND(OR(F17="ЗМС",F17="МСМК",F17="МС",F17="КМС"),J17>=$Q$10),"КМС","-")))))) -> КМС | P17: =VLOOKUP(A17,Список!$A$2:$J$123,9) -> Малков Е.И.
A18: 22 | B18: 5 | C18: =VLOOKUP(A18,Список!$A$2:$J$123,3) -> Акульшин Алексей | E18: =VLOOKUP(A18,Список!$A$2:$J$123,4) -> 1994 | F18: =VLOOKUP(A18,Список!$A$2:$J$123,5) -> МС | G18: =VLOOKUP(A18,Список!$A$2:$J$123,6) -> Оренбургская область | H18: =VLOOKUP(A18,Список!$A$2:$J$123,7) -> СШ №1 им. Л.Д. Ковалевского | I18: =VLOOKUP(A18,Список!$A$2:$J$123,8) -> 77.8 | J18: 60 | N18: =IF(B18=1,20,IF(B18=2,18,IF(B18=3,16,IF(B18>19,0,19-B18)))) -> 14 | O18: =IF(AND(NOT(OR(F18="МСМК",F18="ЗМС")),J18>=$O$10),"+МСМК",IF(AND(OR(F18="МСМК",F18="ЗМС"),J18>=$O$10),"МСМК",IF(AND(NOT(OR(F18="МСМК",F18="МС",F18="ЗМС")),J18>=$P$10),"+МС",IF(AND(OR(F18="МСМК",F18="МС",F18="ЗМС"),J18>=$P$10),"МС",IF(AND(NOT(OR(F18="ЗМС",F18="МСМК",F18="МС",F18="КМС")),J18>=$Q$10),"+КМС",IF(AND(OR(F18="ЗМС",F18="МСМК",F18="МС",F18="КМС"),J18>=$Q$10),"КМС","-")))))) -> КМС | P18: =VLOOKUP(A18,Список!$A$2:$J$123,9) -> Фунтиков Н.Н.
A19: 42 | B19: 6 | C19: =VLOOKUP(A19,Список!$A$2:$J$123,3) -> Лесников Михаил | E19: =VLOOKUP(A19,Список!$A$2:$J$123,4) -> 2007 | F19: =VLOOKUP(A19,Список!$A$2:$J$123,5) -> КМС | G19: =VLOOKUP(A19,Список!$A$2:$J$123,6) -> Пермский край | H19: =VLOOKUP(A19,Список!$A$2:$J$123,7) -> МБУ ДО «ДЮСШ «Спарт» | I19: =VLOOKUP(A19,Список!$A$2:$J$123,8) -> 75.75 | J19: 35 | N19: =IF(B19=1,20,IF(B19=2,18,IF(B19=3,16,IF(B19>19,0,19-B19)))) -> 13 | O19: =IF(AND(NOT(OR(F19="МСМК",F19="ЗМС")),J19>=$O$10),"+МСМК",IF(AND(OR(F19="МСМК",F19="ЗМС"),J19>=$O$10),"МСМК",IF(AND(NOT(OR(F19="МСМК",F19="МС",F19="ЗМС")),J19>=$P$10),"+МС",IF(AND(OR(F19="МСМК",F19="МС",F19="ЗМС"),J19>=$P$10),"МС",IF(AND(NOT(OR(F19="ЗМС",F19="МСМК",F19="МС",F19="КМС")),J19>=$Q$10),"+КМС",IF(AND(OR(F19="ЗМС",F19="МСМК",F19="МС",F19="КМС"),J19>=$Q$10),"КМС","-")))))) -> - | P19: =VLOOKUP(A19,Список!$A$2:$J$123,9) -> Маматов Г.Т.
C20: =VLOOKUP(A20,Список!$A$2:$J$123,3) -> #N/A | E20: =VLOOKUP(A20,Список!$A$2:$J$123,4) -> #N/A | F20: =VLOOKUP(A20,Список!$A$2:$J$123,5) -> #N/A | G20: =VLOOKUP(A20,Список!$A$2:$J$123,6) -> #N/A | H20: =VLOOKUP(A20,Список!$A$2:$J$123,7) -> #N/A | I20: =VLOOKUP(A20,Список!$A$2:$J$123,8) -> #N/A | N20: =IF(B20=1,20,IF(B20=2,18,IF(B20=3,16,IF(B20>19,0,19-B20)))) -> 19 | O20: =IF(AND(NOT(OR(F20="МСМК",F20="ЗМС")),J20>=$O$10),"+МСМК",IF(AND(OR(F20="МСМК",F20="ЗМС"),J20>=$O$10),"МСМК",IF(AND(NOT(OR(F20="МСМК",F20="МС",F20="ЗМС")),J20>=$P$10),"+МС",IF(AND(OR(F20="МСМК",F20="МС",F20="ЗМС"),J20>=$P$10),"МС",IF(AND(NOT(OR(F20="ЗМС",F20="МСМК",F20="МС",F20="КМС")),J20>=$Q$10),"+КМС",IF(AND(OR(F20="ЗМС",F20="МСМК",F20="МС",F20="КМС"),J20>=$Q$10),"КМС","-")))))) -> #N/A | P20: =VLOOKUP(A20,Список!$A$2:$J$123,9) -> #N/A
C21: =VLOOKUP(A21,Список!$A$2:$J$123,3) -> #N/A | E21: =VLOOKUP(A21,Список!$A$2:$J$123,4) -> #N/A | F21: =VLOOKUP(A21,Список!$A$2:$J$123,5) -> #N/A | G21: =VLOOKUP(A21,Список!$A$2:$J$123,6) -> #N/A | H21: =VLOOKUP(A21,Список!$A$2:$J$123,7) -> #N/A | I21: =VLOOKUP(A21,Список!$A$2:$J$123,8) -> #N/A | N21: =IF(B21=1,20,IF(B21=2,18,IF(B21=3,16,IF(B21>19,0,19-B21)))) -> 19 | O21: =IF(AND(NOT(OR(F21="МСМК",F21="ЗМС")),J21>=$O$10),"+МСМК",IF(AND(OR(F21="МСМК",F21="ЗМС"),J21>=$O$10),"МСМК",IF(AND(NOT(OR(F21="МСМК",F21="МС",F21="ЗМС")),J21>=$P$10),"+МС",IF(AND(OR(F21="МСМК",F21="МС",F21="ЗМС"),J21>=$P$10),"МС",IF(AND(NOT(OR(F21="ЗМС",F21="МСМК",F21="МС",F21="КМС")),J21>=$Q$10),"+КМС",IF(AND(OR(F21="ЗМС",F21="МСМК",F21="МС",F21="КМС"),J21>=$Q$10),"КМС","-")))))) -> #N/A | P21: =VLOOKUP(A21,Список!$A$2:$J$123,9) -> #N/A
C22: =VLOOKUP(A22,Список!$A$2:$J$123,3) -> #N/A | E22: =VLOOKUP(A22,Список!$A$2:$J$123,4) -> #N/A | F22: =VLOOKUP(A22,Список!$A$2:$J$123,5) -> #N/A | G22: =VLOOKUP(A22,Список!$A$2:$J$123,6) -> #N/A | H22: =VLOOKUP(A22,Список!$A$2:$J$123,7) -> #N/A | I22: =VLOOKUP(A22,Список!$A$2:$J$123,8) -> #N/A | N22: =IF(B22=1,20,IF(B22=2,18,IF(B22=3,16,IF(B22>19,0,19-B22)))) -> 19 | O22: =IF(AND(NOT(OR(F22="МСМК",F22="ЗМС")),J22>=$O$10),"+МСМК",IF(AND(OR(F22="МСМК",F22="ЗМС"),J22>=$O$10),"МСМК",IF(AND(NOT(OR(F22="МСМК",F22="МС",F22="ЗМС")),J22>=$P$10),"+МС",IF(AND(OR(F22="МСМК",F22="МС",F22="ЗМС"),J22>=$P$10),"МС",IF(AND(NOT(OR(F22="ЗМС",F22="МСМК",F22="МС",F22="КМС")),J22>=$Q$10),"+КМС",IF(AND(OR(F22="ЗМС",F22="МСМК",F22="МС",F22="КМС"),J22>=$Q$10),"КМС","-")))))) -> #N/A | P22: =VLOOKUP(A22,Список!$A$2:$J$123,9) -> #N/A
C25: Главный судья | I25: ='ДЦ 63'!$I$22 -> Ческис О.И., 1К (Пермский край)
C27: Главный секретарь | I27: ='ДЦ 63'!$I$24 -> Паклина М.В., ВК (Пермский край)
C29: Зам. главного судьи | I29: ='ДЦ 63'!$I$26 -> Паклин П.А., ВК (Пермский край)
C31: Зам. главного секретаря | I31: ='ДЦ 63'!$I$28 -> Мошев Д.И., 1К (Пермский край)

Sheet ДЦ 85
B1: Министерство спорта Российской Федерации.
B2: Общероссийская общественная организация "Всероссийская федерация гиревого спорта".
B3: ='ДЦ 63'!$B$3:$Q$3 -> Министерство физической культуры и спорта Пермского края
B4: ='ДЦ 63'!$B$4:$Q$4 -> Региональное отделение общероссийской общественной организации "ВФГС в Пермском крае"
B6: 12-14 апреля 2024 г. | E6: ПРОТОКОЛ | O6: Вес гирь 32 кг.
B7: г. Пермь | E7: Чемпионата Приволжского федерального округа | O7: Регламент времени - 10 мин.
E8: ='ДЦ 63'!$E$8:$N$8 -> ЕКП № 2065590017021409 | O8: Разрядные нормативы
B9: ='ДЦ 63'!$B$9:$D$9 -> Количество участников - 92 | E9: Толчок длинный цикл (мужчины) | O9: МСМК | P9: МС | Q9: КМС
B10: ='ДЦ 63'!$B$10:$D$10 -> Количество регионов - 10 | E10: Весовая категория 85 кг | O10: 82 | P10: 69 | Q10: 55
B12: Место | C12: Фамилия Имя | E12: Дата рождения | F12: Звание | G12: Команда | H12: ДСО, ведомство | I12: Соб. вес | J12: Толчок | K12: Рывок | M12: Сумма дв-рья | N12: Ком. очки | O12: Вып. разряд | P12: ФИО тренера(тренеров)
K13: Сумма | L13: Очки
A14: 24 | B14: 1 | C14: =VLOOKUP(A14,Список!$A$2:$J$123,3) -> Заварзин Павел | E14: =VLOOKUP(A14,Список!$A$2:$J$123,4) -> 2000 | F14: =VLOOKUP(A14,Список!$A$2:$J$123,5) -> МС | G14: =VLOOKUP(A14,Список!$A$2:$J$123,6) -> Оренбургская область | H14: =VLOOKUP(A14,Список!$A$2:$J$123,7) -> СШ №1 им. Л.Д. Ковалевского | I14: =VLOOKUP(A14,Список!$A$2:$J$123,8) -> 82.3 | J14: 72 | N14: =IF(B14=1,20,IF(B14=2,18,IF(B14=3,16,IF(B14>19,0,19-B14)))) -> 20 | O14: =IF(AND(NOT(OR(F14="МСМК",F14="ЗМС")),J14>=$O$10),"+МСМК",IF(AND(OR(F14="МСМК",F14="ЗМС"),J14>=$O$10),"МСМК",IF(AND(NOT(OR(F14="МСМК",F14="МС",F14="ЗМС")),J14>=$P$10),"+МС",IF(AND(OR(F14="МСМК",F14="МС",F14="ЗМС"),J14>=$P$10),"МС",IF(AND(NOT(OR(F14="ЗМС",F14="МСМК",F14="МС",F14="КМС")),J14>=$Q$10),"+КМС",IF(AND(OR(F14="ЗМС",F14="МСМК",F14="МС",F14="КМС"),J14>=$Q$10),"КМС","-")))))) -> МС | P14: =VLOOKUP(A14,Список!$A$2:$J$123,9) -> Павлов С.П.
A15: 4 | B15: 2 | C15: =VLOOKUP(A15,Список!$A$2:$J$123,3) -> Разживин Андрей | E15: =VLOOKUP(A15,Список!$A$2:$J$123,4) -> 1986 | F15: =VLOOKUP(A15,Список!$A$2:$J$123,5) -> МСМК | G15: =VLOOKUP(A15,Список!$A$2:$J$123,6) -> Нижегородская область | I15: =VLOOKUP(A15,Список!$A$2:$J$123,8) -> 83.15 | J15: 69 | N15: =IF(B15=1,20,IF(B15=2,18,IF(B15=3,16,IF(B15>19,0,19-B15)))) -> 18 | O15: =IF(AND(NOT(OR(F15="МСМК",F15="ЗМС")),J15>=$O$10),"+МСМК",IF(AND(OR(F15="МСМК",F15="ЗМС"),J15>=$O$10),"МСМК",IF(AND(NOT(OR(F15="МСМК",F15="МС",F15="ЗМС")),J15>=$P$10),"+МС",IF(AND(OR(F15="МСМК",F15="МС",F15="ЗМС"),J15>=$P$10),"МС",IF(AND(NOT(OR(F15="ЗМС",F15="МСМК",F15="МС",F15="КМС")),J15>=$Q$10),"+КМС",IF(AND(OR(F15="ЗМС",F15="МСМК",F15="МС",F15="КМС"),J15>=$Q$10),"КМС","-")))))) -> МС | P15: =VLOOKUP(A15,Список!$A$2:$J$123,9) -> самостоятельно
A16: 27 | B16: 3 | C16: =VLOOKUP(A16,Список!$A$2:$J$123,3) -> Пешков Виталий | E16: =VLOOKUP(A16,Список!$A$2:$J$123,4) -> 1998 | F16: =VLOOKUP(A16,Список!$A$2:$J$123,5) -> МС | G16: =VLOOKUP(A16,Список!$A$2:$J$123,6) -> Оренбургская область | H16: =VLOOKUP(A16,Список!$A$2:$J$123,7) -> СШ №1 им. Л.Д. Ковалевского | I16: =VLOOKUP(A16,Список!$A$2:$J$123,8) -> 82 | J16: 63 | N16: =IF(B16=1,20,IF(B16=2,18,IF(B16=3,16,IF(B16>19,0,19-B16)))) -> 16 | O16: =IF(AND(NOT(OR(F16="МСМК",F16="ЗМС")),J16>=$O$10),"+МСМК",IF(AND(OR(F16="МСМК",F16="ЗМС"),J16>=$O$10),"МСМК",IF(AND(NOT(OR(F16="МСМК",F16="МС",F16="ЗМС")),J16>=$P$10),"+МС",IF(AND(OR(F16="МСМК",F16="МС",F16="ЗМС"),J16>=$P$10),"МС",IF(AND(NOT(OR(F16="ЗМС",F16="МСМК",F16="МС",F16="КМС")),J16>=$Q$10),"+КМС",IF(AND(OR(F16="ЗМС",F16="МСМК",F16="МС",F16="КМС"),J16>=$Q$10),"КМС","-")))))) -> КМС | P16: =VLOOKUP(A16,Список!$A$2:$J$123,9) -> Лавринов В.А.
A17: 79 | B17: 4 | C17: =VLOOKUP(A17,Список!$A$2:$J$123,3) -> Кашин Кирилл | E17: =VLOOKUP(A17,Список!$A$2:$J$123,4) -> 2003 | F17: =VLOOKUP(A17,Список!$A$2:$J$123,5) -> КМС | G17: =VLOOKUP(A17,Список!$A$2:$J$123,6) -> Кировская область | H17: =VLOOKUP(A17,Список!$A$2:$J$123,7) -> КОГАУ «СШОР «Юность» | I17: =VLOOKUP(A17,Список!$A$2:$J$123,8) -> 82.35 | J17: 59 | N17: =IF(B17=1,20,IF(B17=2,18,IF(B17=3,16,IF(B17>19,0,19-B17)))) -> 15 | O17: =IF(AND(NOT(OR(F17="МСМК",F17="ЗМС")),J17>=$O$10),"+МСМК",IF(AND(OR(F17="МСМК",F17="ЗМС"),J17>=$O$10),"МСМК",IF(AND(NOT(OR(F17="МСМК",F17="МС",F17="ЗМС")),J17>=$P$10),"+МС",IF(AND(OR(F17="МСМК",F17="МС",F17="ЗМС"),J17>=$P$10),"МС",IF(AND(NOT(OR(F17="ЗМС",F17="МСМК",F17="МС",F17="КМС")),J17>=$Q$10),"+КМС",IF(AND(OR(F17="ЗМС",F17="МСМК",F17="МС",F17="КМС"),J17>=$Q$10),"КМС","-")))))) -> КМС | P17: =VLOOKUP(A17,Список!$A$2:$J$123,9) -> Малков Е.И.
A18: 47 | B18: 5 | C18: =VLOOKUP(A18,Список!$A$2:$J$123,3) -> Крестьянинов Виктор | E18: =VLOOKUP(A18,Список!$A$2:$J$123,4) -> 2000 | F18: =VLOOKUP(A18,Список!$A$2:$J$123,5) -> МС | G18: =VLOOKUP(A18,Список!$A$2:$J$123,6) -> Пермский край | H18: =VLOOKUP(A18,Список!$A$2:$J$123,7) -> ДО ДС ДЮ «Прикамье» | I18: =VLOOKUP(A18,Список!$A$2:$J$123,8) -> 83.8 | J18: 45 | N18: =IF(B18=1,20,IF(B18=2,18,IF(B18=3,16,IF(B18>19,0,19-B18)))) -> 14 | O18: =IF(AND(NOT(OR(F18="МСМК",F18="ЗМС")),J18>=$O$10),"+МСМК",IF(AND(OR(F18="МСМК",F18="ЗМС"),J18>=$O$10),"МСМК",IF(AND(NOT(OR(F18="МСМК",F18="МС",F18="ЗМС")),J18>=$P$10),"+МС",IF(AND(OR(F18="МСМК",F18="МС",F18="ЗМС"),J18>=$P$10),"МС",IF(AND(NOT(OR(F18="ЗМС",F18="МСМК",F18="МС",F18="КМС")),J18>=$Q$10),"+КМС",IF(AND(OR(F18="ЗМС",F18="МСМК",F18="МС",F18="КМС"),J18>=$Q$10),"КМС","-")))))) -> - | P18: =VLOOKUP(A18,Список!$A$2:$J$123,9) -> Мошев Д.И., Панфилов Г.Н.
C19: =VLOOKUP(A19,Список!$A$2:$J$123,3) -> #N/A | E19: =VLOOKUP(A19,Список!$A$2:$J$123,4) -> #N/A | F19: =VLOOKUP(A19,Список!$A$2:$J$123,5) -> #N/A | G19: =VLOOKUP(A19,Список!$A$2:$J$123,6) -> #N/A | H19: =VLOOKUP(A19,Список!$A$2:$J$123,7) -> #N/A | I19: =VLOOKUP(A19,Список!$A$2:$J$123,8) -> #N/A | N19: =IF(B19=1,20,IF(B19=2,18,IF(B19=3,16,IF(B19>19,0,19-B19)))) -> 19 | O19: =IF(AND(NOT(OR(F19="МСМК",F19="ЗМС")),J19>=$O$10),"+МСМК",IF(AND(OR(F19="МСМК",F19="ЗМС"),J19>=$O$10),"МСМК",IF(AND(NOT(OR(F19="МСМК",F19="МС",F19="ЗМС")),J19>=$P$10),"+МС",IF(AND(OR(F19="МСМК",F19="МС",F19="ЗМС"),J19>=$P$10),"МС",IF(AND(NOT(OR(F19="ЗМС",F19="МСМК",F19="МС",F19="КМС")),J19>=$Q$10),"+КМС",IF(AND(OR(F19="ЗМС",F19="МСМК",F19="МС",F19="КМС"),J19>=$Q$10),"КМС","-")))))) -> #N/A | P19: =VLOOKUP(A19,Список!$A$2:$J$123,9) -> #N/A
C20: =VLOOKUP(A20,Список!$A$2:$J$123,3) -> #N/A | E20: =VLOOKUP(A20,Список!$A$2:$J$123,4) -> #N/A | F20: =VLOOKUP(A20,Список!$A$2:$J$123,5) -> #N/A | G20: =VLOOKUP(A20,Список!$A$2:$J$123,6) -> #N/A | H20: =VLOOKUP(A20,Список!$A$2:$J$123,7) -> #N/A | I20: =VLOOKUP(A20,Список!$A$2:$J$123,8) -> #N/A | N20: =IF(B20=1,20,IF(B20=2,18,IF(B20=3,16,IF(B20>19,0,19-B20)))) -> 19 | O20: =IF(AND(NOT(OR(F20="МСМК",F20="ЗМС")),J20>=$O$10),"+МСМК",IF(AND(OR(F20="МСМК",F20="ЗМС"),J20>=$O$10),"МСМК",IF(AND(NOT(OR(F20="МСМК",F20="МС",F20="ЗМС")),J20>=$P$10),"+МС",IF(AND(OR(F20="МСМК",F20="МС",F20="ЗМС"),J20>=$P$10),"МС",IF(AND(NOT(OR(F20="ЗМС",F20="МСМК",F20="МС",F20="КМС")),J20>=$Q$10),"+КМС",IF(AND(OR(F20="ЗМС",F20="МСМК",F20="МС",F20="КМС"),J20>=$Q$10),"КМС","-")))))) -> #N/A | P20: =VLOOKUP(A20,Список!$A$2:$J$123,9) -> #N/A
C21: =VLOOKUP(A21,Список!$A$2:$J$123,3) -> #N/A | E21: =VLOOKUP(A21,Список!$A$2:$J$123,4) -> #N/A | F21: =VLOOKUP(A21,Список!$A$2:$J$123,5) -> #N/A | G21: =VLOOKUP(A21,Список!$A$2:$J$123,6) -> #N/A | H21: =VLOOKUP(A21,Список!$A$2:$J$123,7) -> #N/A | I21: =VLOOKUP(A21,Список!$A$2:$J$123,8) -> #N/A | N21: =IF(B21=1,20,IF(B21=2,18,IF(B21=3,16,IF(B21>19,0,19-B21)))) -> 19 | O21: =IF(AND(NOT(OR(F21="МСМК",F21="ЗМС")),J21>=$O$10),"+МСМК",IF(AND(OR(F21="МСМК",F21="ЗМС"),J21>=$O$10),"МСМК",IF(AND(NOT(OR(F21="МСМК",F21="МС",F21="ЗМС")),J21>=$P$10),"+МС",IF(AND(OR(F21="МСМК",F21="МС",F21="ЗМС"),J21>=$P$10),"МС",IF(AND(NOT(OR(F21="ЗМС",F21="МСМК",F21="МС",F21="КМС")),J21>=$Q$10),"+КМС",IF(AND(OR(F21="ЗМС",F21="МСМК",F21="МС",F21="КМС"),J21>=$Q$10),"КМС","-")))))) -> #N/A | P21: =VLOOKUP(A21,Список!$A$2:$J$123,9) -> #N/A
C25: Главный судья | I25: ='ДЦ 63'!$I$22 -> Ческис О.И., 1К (Пермский край)
C27: Главный секретарь | I27: ='ДЦ 63'!$I$24 -> Паклина М.В., ВК (Пермский край)
C29: Зам. главного судьи | I29: ='ДЦ 63'!$I$26 -> Паклин П.А., ВК (Пермский край)
C31: Зам. главного секретаря | I31: ='ДЦ 63'!$I$28 -> Мошев Д.И., 1К (Пермский край)

Sheet ДЦ 95
B1: Министерство спорта Российской Федерации.
B2: Общероссийская общественная организация "Всероссийская федерация гиревого спорта".
B3: ='ДЦ 63'!$B$3:$Q$3 -> Министерство физической культуры и спорта Пермского края
B4: ='ДЦ 63'!$B$4:$Q$4 -> Региональное отделение общероссийской общественной организации "ВФГС в Пермском крае"
B6: 12-14 апреля 2024 г. | E6: ПРОТОКОЛ | O6: Вес гирь 32 кг.
B7: г. Пермь | E7: Чемпионата Приволжского федерального округа | O7: Регламент времени - 10 мин.
E8: ='ДЦ 63'!$E$8:$N$8 -> ЕКП № 2065590017021409 | O8: Разрядные нормативы
B9: ='ДЦ 63'!$B$9:$D$9 -> Количество участников - 92 | E9: Толчок длинный цикл (мужчины) | O9: МСМК | P9: МС | Q9: КМС
B10: ='ДЦ 63'!$B$10:$D$10 -> Количество регионов - 10 | E10: Весовая категория 95 кг | O10: 84 | P10: 72 | Q10: 57
B12: Место | C12: Фамилия Имя | E12: Дата рождения | F12: Звание | G12: Команда | H12: ДСО, ведомство | I12: Соб. вес | J12: Толчок | K12: Рывок | M12: Сумма дв-рья | N12: Ком. очки | O12: Вып. разряд | P12: ФИО тренера(тренеров)
K13: Сумма | L13: Очки
A14: 75 | B14: 1 | C14: =VLOOKUP(A14,Список!$A$2:$J$123,3) -> Клепиков Артём | E14: =VLOOKUP(A14,Список!$A$2:$J$123,4) -> 1998 | F14: =VLOOKUP(A14,Список!$A$2:$J$123,5) -> МСМК | G14: =VLOOKUP(A14,Список!$A$2:$J$123,6) -> Кировская область | H14: =VLOOKUP(A14,Список!$A$2:$J$123,7) -> КОГАУ «СШОР «Юность» | I14: =VLOOKUP(A14,Список!$A$2:$J$123,8) -> 91.65 | J14: 80 | N14: =IF(B14=1,20,IF(B14=2,18,IF(B14=3,16,IF(B14>19,0,19-B14)))) -> 20 | O14: =IF(AND(NOT(OR(F14="МСМК",F14="ЗМС")),J14>=$O$10),"+МСМК",IF(AND(OR(F14="МСМК",F14="ЗМС"),J14>=$O$10),"МСМК",IF(AND(NOT(OR(F14="МСМК",F14="МС",F14="ЗМС")),J14>=$P$10),"+МС",IF(AND(OR(F14="МСМК",F14="МС",F14="ЗМС"),J14>=$P$10),"МС",IF(AND(NOT(OR(F14="ЗМС",F14="МСМК",F14="МС",F14="КМС")),J14>=$Q$10),"+КМС",IF(AND(OR(F14="ЗМС",F14="МСМК",F14="МС",F14="КМС"),J14>=$Q$10),"КМС","-")))))) -> МС | P14: =VLOOKUP(A14,Список!$A$2:$J$123,9) -> Малков Е.И.
A15: 40 | B15: 2 | C15: =VLOOKUP(A15,Список!$A$2:$J$123,3) -> Попов Севастьян | E15: =VLOOKUP(A15,Список!$A$2:$J$123,4) -> 2005 | F15: =VLOOKUP(A15,Список!$A$2:$J$123,5) -> КМС | G15: =VLOOKUP(A15,Список!$A$2:$J$123,6) -> Пермский край | H15: =VLOOKUP(A15,Список!$A$2:$J$123,7) -> МБУ ДО «ДЮСШ «Спарт» | I15: =VLOOKUP(A15,Список!$A$2:$J$123,8) -> 85.65 | J15: 58 | N15: =IF(B15=1,20,IF(B15=2,18,IF(B15=3,16,IF(B15>19,0,19-B15)))) -> 18 | O15: =IF(AND(NOT(OR(F15="МСМК",F15="ЗМС")),J15>=$O$10),"+МСМК",IF(AND(OR(F15="МСМК",F15="ЗМС"),J15>=$O$10),"МСМК",IF(AND(NOT(OR(F15="МСМК",F15="МС",F15="ЗМС")),J15>=$P$10),"+МС",IF(AND(OR(F15="МСМК",F15="МС",F15="ЗМС"),J15>=$P$10),"МС",IF(AND(NOT(OR(F15="ЗМС",F15="МСМК",F15="МС",F15="КМС")),J15>=$Q$10),"+КМС",IF(AND(OR(F15="ЗМС",F15="МСМК",F15="МС",F15="КМС"),J15>=$Q$10),"КМС","-")))))) -> КМС | P15: =VLOOKUP(A15,Список!$A$2:$J$123,9) -> Маматов Г.Т., Мартынов Д.И.
A16: 69 | B16: 3 | C16: =VLOOKUP(A16,Список!$A$2:$J$123,3) -> Булдаков Никита | E16: =VLOOKUP(A16,Список!$A$2:$J$123,4) -> 1997 | F16: =VLOOKUP(A16,Список!$A$2:$J$123,5) -> МС | G16: =VLOOKUP(A16,Список!$A$2:$J$123,6) -> Удмуртская республика | I16: =VLOOKUP(A16,Список!$A$2:$J$123,8) -> 90.45 | J16: 50 | N16: =IF(B16=1,20,IF(B16=2,18,IF(B16=3,16,IF(B16>19,0,19-B16)))) -> 16 | O16: =IF(AND(NOT(OR(F16="МСМК",F16="ЗМС")),J16>=$O$10),"+МСМК",IF(AND(OR(F16="МСМК",F16="ЗМС"),J16>=$O$10),"МСМК",IF(AND(NOT(OR(F16="МСМК",F16="МС",F16="ЗМС")),J16>=$P$10),"+МС",IF(AND(OR(F16="МСМК",F16="МС",F16="ЗМС"),J16>=$P$10),"МС",IF(AND(NOT(OR(F16="ЗМС",F16="МСМК",F16="МС",F16="КМС")),J16>=$Q$10),"+КМС",IF(AND(OR(F16="ЗМС",F16="МСМК",F16="МС",F16="КМС"),J16>=$Q$10),"КМС","-")))))) -> - | P16: =VLOOKUP(A16,Список!$A$2:$J$123,9) -> Веретенников С.А.
C17: =VLOOKUP(A17,Список!$A$2:$J$123,3) -> #N/A | E17: =VLOOKUP(A17,Список!$A$2:$J$123,4) -> #N/A | F17: =VLOOKUP(A17,Список!$A$2:$J$123,5) -> #N/A | G17: =VLOOKUP(A17,Список!$A$2:$J$123,6) -> #N/A | H17: =VLOOKUP(A17,Список!$A$2:$J$123,7) -> #N/A | I17: =VLOOKUP(A17,Список!$A$2:$J$123,8) -> #N/A | N17: =IF(B17=1,20,IF(B17=2,18,IF(B17=3,16,IF(B17>19,0,19-B17)))) -> 19 | O17: =IF(AND(NOT(OR(F17="МСМК",F17="ЗМС")),J17>=$O$10),"+МСМК",IF(AND(OR(F17="МСМК",F17="ЗМС"),J17>=$O$10),"МСМК",IF(AND(NOT(OR(F17="МСМК",F17="МС",F17="ЗМС")),J17>=$P$10),"+МС",IF(AND(OR(F17="МСМК",F17="МС",F17="ЗМС"),J17>=$P$10),"МС",IF(AND(NOT(OR(F17="ЗМС",F17="МСМК",F17="МС",F17="КМС")),J17>=$Q$10),"+КМС",IF(AND(OR(F17="ЗМС",F17="МСМК",F17="МС",F17="КМС"),J17>=$Q$10),"КМС","-")))))) -> #N/A | P17: =VLOOKUP(A17,Список!$A$2:$J$123,9) -> #N/A
C18: =VLOOKUP(A18,Список!$A$2:$J$123,3) -> #N/A | E18: =VLOOKUP(A18,Список!$A$2:$J$123,4) -> #N/A | F18: =VLOOKUP(A18,Список!$A$2:$J$123,5) -> #N/A | G18: =VLOOKUP(A18,Список!$A$2:$J$123,6) -> #N/A | H18: =VLOOKUP(A18,Список!$A$2:$J$123,7) -> #N/A | I18: =VLOOKUP(A18,Список!$A$2:$J$123,8) -> #N/A | N18: =IF(B18=1,20,IF(B18=2,18,IF(B18=3,16,IF(B18>19,0,19-B18)))) -> 19 | O18: =IF(AND(NOT(OR(F18="МСМК",F18="ЗМС")),J18>=$O$10),"+МСМК",IF(AND(OR(F18="МСМК",F18="ЗМС"),J18>=$O$10),"МСМК",IF(AND(NOT(OR(F18="МСМК",F18="МС",F18="ЗМС")),J18>=$P$10),"+МС",IF(AND(OR(F18="МСМК",F18="МС",F18="ЗМС"),J18>=$P$10),"МС",IF(AND(NOT(OR(F18="ЗМС",F18="МСМК",F18="МС",F18="КМС")),J18>=$Q$10),"+КМС",IF(AND(OR(F18="ЗМС",F18="МСМК",F18="МС",F18="КМС"),J18>=$Q$10),"КМС","-")))))) -> #N/A | P18: =VLOOKUP(A18,Список!$A$2:$J$123,9) -> #N/A
C22: Главный судья | I22: ='ДЦ 63'!$I$22 -> Ческис О.И., 1К (Пермский край)
C24: Главный секретарь | I24: ='ДЦ 63'!$I$24 -> Паклина М.В., ВК (Пермский край)
C26: Зам. главного судьи | I26: ='ДЦ 63'!$I$26 -> Паклин П.А., ВК (Пермский край)
C28: Зам. главного секретаря | I28: ='ДЦ 63'!$I$28 -> Мошев Д.И., 1К (Пермский край)

Sheet ДЦ 95+
B1: Министерство спорта Российской Федерации.
B2: Общероссийская общественная организация "Всероссийская федерация гиревого спорта".
B3: ='ДЦ 63'!$B$3:$Q$3 -> Министерство физической культуры и спорта Пермского края
B4: ='ДЦ 63'!$B$4:$Q$4 -> Региональное отделение общероссийской общественной организации "ВФГС в Пермском крае"
B6: 12-14 апреля 2024 г. | E6: ПРОТОКОЛ | O6: Вес гирь 32 кг.
B7: г. Пермь | E7: Чемпионата Приволжского федерального округа | O7: Регламент времени - 10 мин.
E8: ='ДЦ 63'!$E$8:$N$8 -> ЕКП № 2065590017021409 | O8: Разрядные нормативы
B9: ='ДЦ 63'!$B$9:$D$9 -> Количество участников - 92 | E9: Толчок длинный цикл (мужчины) | O9: МСМК | P9: МС | Q9: КМС
B10: ='ДЦ 63'!$B$10:$D$10 -> Количество регионов - 10 | E10: Весовая категория 95+ кг | O10: 88 | P10: 75 | Q10: 62
B12: Место | C12: Фамилия Имя | E12: Дата рождения | F12: Звание | G12: Команда | H12: ДСО, ведомство | I12: Соб. вес | J12: Толчок | K12: Рывок | M12: Сумма дв-рья | N12: Ком. очки | O12: Вып. разряд | P12: ФИО тренера(тренеров)
K13: Сумма | L13: Очки
A14: 64 | B14: 1 | C14: =VLOOKUP(A14,Список!$A$2:$J$123,3) -> Константинов Александр | E14: =VLOOKUP(A14,Список!$A$2:$J$123,4) -> 2003 | F14: =VLOOKUP(A14,Список!$A$2:$J$123,5) -> КМС | G14: =VLOOKUP(A14,Список!$A$2:$J$123,6) -> Чувашская республика | I14: =VLOOKUP(A14,Список!$A$2:$J$123,8) -> 114.8 | J14: 61 | N14: =IF(B14=1,20,IF(B14=2,18,IF(B14=3,16,IF(B14>19,0,19-B14)))) -> 20 | O14: =IF(AND(NOT(OR(F14="МСМК",F14="ЗМС")),J14>=$O$10),"+МСМК",IF(AND(OR(F14="МСМК",F14="ЗМС"),J14>=$O$10),"МСМК",IF(AND(NOT(OR(F14="МСМК",F14="МС",F14="ЗМС")),J14>=$P$10),"+МС",IF(AND(OR(F14="МСМК",F14="МС",F14="ЗМС"),J14>=$P$10),"МС",IF(AND(NOT(OR(F14="ЗМС",F14="МСМК",F14="МС",F14="КМС")),J14>=$Q$10),"+КМС",IF(AND(OR(F14="ЗМС",F14="МСМК",F14="МС",F14="КМС"),J14>=$Q$10),"КМС","-")))))) -> - | P14: =VLOOKUP(A14,Список!$A$2:$J$123,9) -> Глинкин Б.Н
A15: 57 | B15: 2 | C15: =VLOOKUP(A15,Список!$A$2:$J$123,3) -> Носков Андрей | E15: =VLOOKUP(A15,Список!$A$2:$J$123,4) -> 1993 | F15: =VLOOKUP(A15,Список!$A$2:$J$123,5) -> КМС | G15: =VLOOKUP(A15,Список!$A$2:$J$123,6) -> Пермский край | H15: =VLOOKUP(A15,Список!$A$2:$J$123,7) -> ДО ДС ДЮ «Прикамье» | I15: =VLOOKUP(A15,Список!$A$2:$J$123,8) -> 98.35 | J15: 22 | N15: =IF(B15=1,20,IF(B15=2,18,IF(B15=3,16,IF(B15>19,0,19-B15)))) -> 18 | O15: =IF(AND(NOT(OR(F15="МСМК",F15="ЗМС")),J15>=$O$10),"+МСМК",IF(AND(OR(F15="МСМК",F15="ЗМС"),J15>=$O$10),"МСМК",IF(AND(NOT(OR(F15="МСМК",F15="МС",F15="ЗМС")),J15>=$P$10),"+МС",IF(AND(OR(F15="МСМК",F15="МС",F15="ЗМС"),J15>=$P$10),"МС",IF(AND(NOT(OR(F15="ЗМС",F15="МСМК",F15="МС",F15="КМС")),J15>=$Q$10),"+КМС",IF(AND(OR(F15="ЗМС",F15="МСМК",F15="МС",F15="КМС"),J15>=$Q$10),"КМС","-")))))) -> - | P15: =VLOOKUP(A15,Список!$A$2:$J$123,9) -> Мошев Д.И
C16: =VLOOKUP(A16,Список!$A$2:$J$123,3) -> #N/A | E16: =VLOOKUP(A16,Список!$A$2:$J$123,4) -> #N/A | F16: =VLOOKUP(A16,Список!$A$2:$J$123,5) -> #N/A | G16: =VLOOKUP(A16,Список!$A$2:$J$123,6) -> #N/A | H16: =VLOOKUP(A16,Список!$A$2:$J$123,7) -> #N/A | I16: =VLOOKUP(A16,Список!$A$2:$J$123,8) -> #N/A | N16: =IF(B16=1,20,IF(B16=2,18,IF(B16=3,16,IF(B16>19,0,19-B16)))) -> 19 | O16: =IF(AND(NOT(OR(F16="МСМК",F16="ЗМС")),J16>=$O$10),"+МСМК",IF(AND(OR(F16="МСМК",F16="ЗМС"),J16>=$O$10),"МСМК",IF(AND(NOT(OR(F16="МСМК",F16="МС",F16="ЗМС")),J16>=$P$10),"+МС",IF(AND(OR(F16="МСМК",F16="МС",F16="ЗМС"),J16>=$P$10),"МС",IF(AND(NOT(OR(F16="ЗМС",F16="МСМК",F16="МС",F16="КМС")),J16>=$Q$10),"+КМС",IF(AND(OR(F16="ЗМС",F16="МСМК",F16="МС",F16="КМС"),J16>=$Q$10),"КМС","-")))))) -> #N/A | P16: =VLOOKUP(A16,Список!$A$2:$J$123,9) -> #N/A
C17: =VLOOKUP(A17,Список!$A$2:$J$123,3) -> #N/A | E17: =VLOOKUP(A17,Список!$A$2:$J$123,4) -> #N/A | F17: =VLOOKUP(A17,Список!$A$2:$J$123,5) -> #N/A | G17: =VLOOKUP(A17,Список!$A$2:$J$123,6) -> #N/A | H17: =VLOOKUP(A17,Список!$A$2:$J$123,7) -> #N/A | I17: =VLOOKUP(A17,Список!$A$2:$J$123,8) -> #N/A | N17: =IF(B17=1,20,IF(B17=2,18,IF(B17=3,16,IF(B17>19,0,19-B17)))) -> 19 | O17: =IF(AND(NOT(OR(F17="МСМК",F17="ЗМС")),J17>=$O$10),"+МСМК",IF(AND(OR(F17="МСМК",F17="ЗМС"),J17>=$O$10),"МСМК",IF(AND(NOT(OR(F17="МСМК",F17="МС",F17="ЗМС")),J17>=$P$10),"+МС",IF(AND(OR(F17="МСМК",F17="МС",F17="ЗМС"),J17>=$P$10),"МС",IF(AND(NOT(OR(F17="ЗМС",F17="МСМК",F17="МС",F17="КМС")),J17>=$Q$10),"+КМС",IF(AND(OR(F17="ЗМС",F17="МСМК",F17="МС",F17="КМС"),J17>=$Q$10),"КМС","-")))))) -> #N/A | P17: =VLOOKUP(A17,Список!$A$2:$J$123,9) -> #N/A
C18: =VLOOKUP(A18,Список!$A$2:$J$123,3) -> #N/A | E18: =VLOOKUP(A18,Список!$A$2:$J$123,4) -> #N/A | F18: =VLOOKUP(A18,Список!$A$2:$J$123,5) -> #N/A | G18: =VLOOKUP(A18,Список!$A$2:$J$123,6) -> #N/A | H18: =VLOOKUP(A18,Список!$A$2:$J$123,7) -> #N/A | I18: =VLOOKUP(A18,Список!$A$2:$J$123,8) -> #N/A | N18: =IF(B18=1,20,IF(B18=2,18,IF(B18=3,16,IF(B18>19,0,19-B18)))) -> 19 | O18: =IF(AND(NOT(OR(F18="МСМК",F18="ЗМС")),J18>=$O$10),"+МСМК",IF(AND(OR(F18="МСМК",F18="ЗМС"),J18>=$O$10),"МСМК",IF(AND(NOT(OR(F18="МСМК",F18="МС",F18="ЗМС")),J18>=$P$10),"+МС",IF(AND(OR(F18="МСМК",F18="МС",F18="ЗМС"),J18>=$P$10),"МС",IF(AND(NOT(OR(F18="ЗМС",F18="МСМК",F18="МС",F18="КМС")),J18>=$Q$10),"+КМС",IF(AND(OR(F18="ЗМС",F18="МСМК",F18="МС",F18="КМС"),J18>=$Q$10),"КМС","-")))))) -> #N/A | P18: =VLOOKUP(A18,Список!$A$2:$J$123,9) -> #N/A
C21: Главный судья | I21: ='ДЦ 63'!$I$22 -> Ческис О.И., 1К (Пермский край)
C23: Главный секретарь | I23: ='ДЦ 63'!$I$24 -> Паклина М.В., ВК (Пермский край)
C25: Зам. главного судьи | I25: ='ДЦ 63'!$I$26 -> Паклин П.А., ВК (Пермский край)
C27: Зам. главного секретаря | I27: ='ДЦ 63'!$I$28 -> Мошев Д.И., 1К (Пермский край)

Sheet ДЦЖ 58
B1: Министерство спорта Российской Федерации.
B2: Общероссийская общественная организация "Всероссийская федерация гиревого спорта".
B3: ='ДЦ 63'!$B$3:$Q$3 -> Министерство физической культуры и спорта Пермского края
B4: ='ДЦ 63'!$B$4:$Q$4 -> Региональное отделение общероссийской общественной организации "ВФГС в Пермском крае"
B6: 12-14 апреля 2024 г. | E6: ПРОТОКОЛ | O6: Вес гирь 32 кг.
B7: г. Пермь | E7: Чемпионата Приволжского федерального округа | O7: Регламент времени - 10 мин.
E8: ='ДЦ 63'!$E$8:$N$8 -> ЕКП № 2065590017021409 | O8: Разрядные нормативы
B9: ='ДЦ 63'!$B$9:$D$9 -> Количество участников - 92 | E9: Толчок длинный цикл (женщины) | O9: МСМК | P9: МС | Q9: КМС
B10: ='ДЦ 63'!$B$10:$D$10 -> Количество регионов - 10 | E10: Весовая категория 58 кг | O10: 50 | P10: 40 | Q10: 30
B12: Место | C12: Фамилия Имя | E12: Дата рождения | F12: Звание | G12: Команда | H12: ДСО, ведомство | I12: Соб. вес | J12: Толчок | K12: Рывок | M12: Сумма дв-рья | N12: Ком. очки | O12: Вып. разряд | P12: ФИО тренера(тренеров)
K13: Сумма | L13: Очки
A14: 28 | B14: 1 | C14: =VLOOKUP(A14,Список!$A$2:$J$123,3) -> Сатлыкова Эльвира | E14: =VLOOKUP(A14,Список!$A$2:$J$123,4) -> 2000 | F14: =VLOOKUP(A14,Список!$A$2:$J$123,5) -> МС | G14: =VLOOKUP(A14,Список!$A$2:$J$123,6) -> Оренбургская область | H14: =VLOOKUP(A14,Список!$A$2:$J$123,7) -> СШ №1 им. Л.Д. Ковалевского | I14: =VLOOKUP(A14,Список!$A$2:$J$123,8) -> 57.8 | J14: 55 | N14: =IF(B14=1,20,IF(B14=2,18,IF(B14=3,16,IF(B14>19,0,19-B14)))) -> 20 | O14: =IF(AND(NOT(OR(F14="МСМК",F14="ЗМС")),J14>=$O$10),"+МСМК",IF(AND(OR(F14="МСМК",F14="ЗМС"),J14>=$O$10),"МСМК",IF(AND(NOT(OR(F14="МСМК",F14="МС",F14="ЗМС")),J14>=$P$10),"+МС",IF(AND(OR(F14="МСМК",F14="МС",F14="ЗМС"),J14>=$P$10),"МС",IF(AND(NOT(OR(F14="ЗМС",F14="МСМК",F14="МС",F14="КМС")),J14>=$Q$10),"+КМС",IF(AND(OR(F14="ЗМС",F14="МСМК",F14="МС",F14="КМС"),J14>=$Q$10),"КМС","-")))))) -> +МСМК | P14: =VLOOKUP(A14,Список!$A$2:$J$123,9) -> Павлов С.П.
A15: 97 | B15: 2 | C15: =VLOOKUP(A15,Список!$A$2:$J$123,3) -> Пузанкова Анастасия | E15: =VLOOKUP(A15,Список!$A$2:$J$123,4) -> 2006 | F15: =VLOOKUP(A15,Список!$A$2:$J$123,5) -> КМС | G15: =VLOOKUP(A15,Список!$A$2:$J$123,6) -> Республика Татарстан | H15: =VLOOKUP(A15,Список!$A$2:$J$123,7) -> МБУ ДО СШ «Татнефть Олимп» Чистопольского района РТ | I15: =VLOOKUP(A15,Список!$A$2:$J$123,8) -> 57.55 | J15: 10 | N15: =IF(B15=1,20,IF(B15=2,18,IF(B15=3,16,IF(B15>19,0,19-B15)))) -> 18 | O15: =IF(AND(NOT(OR(F15="МСМК",F15="ЗМС")),J15>=$O$10),"+МСМК",IF(AND(OR(F15="МСМК",F15="ЗМС"),J15>=$O$10),"МСМК",IF(AND(NOT(OR(F15="МСМК",F15="МС",F15="ЗМС")),J15>=$P$10),"+МС",IF(AND(OR(F15="МСМК",F15="МС",F15="ЗМС"),J15>=$P$10),"МС",IF(AND(NOT(OR(F15="ЗМС",F15="МСМК",F15="МС",F15="КМС")),J15>=$Q$10),"+КМС",IF(AND(OR(F15="ЗМС",F15="МСМК",F15="МС",F15="КМС"),J15>=$Q$10),"КМС","-")))))) -> - | P15: =VLOOKUP(A15,Список!$A$2:$J$123,9) -> Гиниатуллин А.З.
C18: Главный судья | I18: ='ДЦ 63'!$I$22 -> Ческис О.И., 1К (Пермский край)
C20: Главный секретарь | I20: ='ДЦ 63'!$I$24 -> Паклина М.В., ВК (Пермский край)
C22: Зам. главного судьи | I22: ='ДЦ 63'!$I$26 -> Паклин П.А., ВК (Пермский край)
C24: Зам. главного секретаря | I24: ='ДЦ 63'!$I$28 -> Мошев Д.И., 1К (Пермский край)

Sheet ДЦЖ 63 
B1: Министерство спорта Российской Федерации.
B2: Общероссийская общественная организация "Всероссийская федерация гиревого спорта".
B3: ='ДЦ 63'!$B$3:$Q$3 -> Министерство физической культуры и спорта Пермского края
B4: ='ДЦ 63'!$B$4:$Q$4 -> Региональное отделение общероссийской общественной организации "ВФГС в Пермском крае"
B6: 12-14 апреля 2024 г. | E6: ПРОТОКОЛ | O6: Вес гирь 32 кг.
B7: г. Пермь | E7: Чемпионата Приволжского федерального округа | O7: Регламент времени - 10 мин.
E8: ='ДЦ 63'!$E$8:$N$8 -> ЕКП № 2065590017021409 | O8: Разрядные нормативы
B9: ='ДЦ 63'!$B$9:$D$9 -> Количество участников - 92 | E9: Толчок длинный цикл (женщины) | O9: МСМК | P9: МС | Q9: КМС
B10: ='ДЦ 63'!$B$10:$D$10 -> Количество регионов - 10 | E10: Весовая категория 63 кг | O10: 59 | P10: 44 | Q10: 35
B12: Место | C12: Фамилия Имя | E12: Дата рождения | F12: Звание | G12: Команда | H12: ДСО, ведомство | I12: Соб. вес | J12: Толчок | K12: Рывок | M12: Сумма дв-рья | N12: Ком. очки | O12: Вып. разряд | P12: ФИО тренера(тренеров)
K13: Сумма | L13: Очки
C14: =VLOOKUP(A14,Список!$A$2:$J$123,3) -> #N/A | E14: =VLOOKUP(A14,Список!$A$2:$J$123,4) -> #N/A | F14: =VLOOKUP(A14,Список!$A$2:$J$123,5) -> #N/A | G14: =VLOOKUP(A14,Список!$A$2:$J$123,6) -> #N/A | H14: =VLOOKUP(A14,Список!$A$2:$J$123,7) -> #N/A | I14: =VLOOKUP(A14,Список!$A$2:$J$123,8) -> #N/A | N14: =IF(B14=1,20,IF(B14=2,18,IF(B14=3,16,IF(B14>19,0,19-B14)))) -> 19 | O14: =IF(AND(NOT(OR(F14="МСМК",F14="ЗМС")),J14>=$O$10),"+МСМК",IF(AND(OR(F14="МСМК",F14="ЗМС"),J14>=$O$10),"МСМК",IF(AND(NOT(OR(F14="МСМК",F14="МС",F14="ЗМС")),J14>=$P$10),"+МС",IF(AND(OR(F14="МСМК",F14="МС",F14="ЗМС"),J14>=$P$10),"МС",IF(AND(NOT(OR(F14="ЗМС",F14="МСМК",F14="МС",F14="КМС")),J14>=$Q$10),"+КМС",IF(AND(OR(F14="ЗМС",F14="МСМК",F14="МС",F14="КМС"),J14>=$Q$10),"КМС","-")))))) -> #N/A | P14: =VLOOKUP(A14,Список!$A$2:$J$123,9) -> #N/A
C15: =VLOOKUP(A15,Список!$A$2:$J$123,3) -> #N/A | E15: =VLOOKUP(A15,Список!$A$2:$J$123,4) -> #N/A | F15: =VLOOKUP(A15,Список!$A$2:$J$123,5) -> #N/A | G15: =VLOOKUP(A15,Список!$A$2:$J$123,6) -> #N/A | H15: =VLOOKUP(A15,Список!$A$2:$J$123,7) -> #N/A | I15: =VLOOKUP(A15,Список!$A$2:$J$123,8) -> #N/A | N15: =IF(B15=1,20,IF(B15=2,18,IF(B15=3,16,IF(B15>19,0,19-B15)))) -> 19 | O15: =IF(AND(NOT(OR(F15="МСМК",F15="ЗМС")),J15>=$O$10),"+МСМК",IF(AND(OR(F15="МСМК",F15="ЗМС"),J15>=$O$10),"МСМК",IF(AND(NOT(OR(F15="МСМК",F15="МС",F15="ЗМС")),J15>=$P$10),"+МС",IF(AND(OR(F15="МСМК",F15="МС",F15="ЗМС"),J15>=$P$10),"МС",IF(AND(NOT(OR(F15="ЗМС",F15="МСМК",F15="МС",F15="КМС")),J15>=$Q$10),"+КМС",IF(AND(OR(F15="ЗМС",F15="МСМК",F15="МС",F15="КМС"),J15>=$Q$10),"КМС","-")))))) -> #N/A | P15: =VLOOKUP(A15,Список!$A$2:$J$123,9) -> #N/A
C18: Главный судья | I18: ='ДЦ 63'!$I$22 -> Ческис О.И., 1К (Пермский край)
C20: Главный секретарь | I20: ='ДЦ 63'!$I$24 -> Паклина М.В., ВК (Пермский край)
C22: Зам. главного судьи | I22: ='ДЦ 63'!$I$26 -> Паклин П.А., ВК (Пермский край)
C24: Зам. главного секретаря | I24: ='ДЦ 63'!$I$28 -> Мошев Д.И., 1К (Пермский край)

Sheet ДЦЖ 68
B1: Министерство спорта Российской Федерации.
B2: Общероссийская общественная организация "Всероссийская федерация гиревого спорта".
B3: ='ДЦ 63'!$B$3:$Q$3 -> Министерство физической культуры и спорта Пермского края
B4: ='ДЦ 63'!$B$4:$Q$4 -> Региональное отделение общероссийской общественной организации "ВФГС в Пермском крае"
B6: 12-14 апреля 2024 г. | E6: ПРОТОКОЛ | O6: Вес гирь 32 кг.
B7: г. Пермь | E7: Чемпионата Приволжского федерального округа | O7: Регламент времени - 10 мин.
E8: ='ДЦ 63'!$E$8:$N$8 -> ЕКП № 2065590017021409 | O8: Разрядные нормативы
B9: ='ДЦ 63'!$B$9:$D$9 -> Количество участников - 92 | E9: Толчок длинный цикл (женщины) | O9: МСМК | P9: МС | Q9: КМС
B10: ='ДЦ 63'!$B$10:$D$10 -> Количество регионов - 10 | E10: Весовая категория 68 кг | O10: 62 | P10: 52 | Q10: 40
B12: Место | C12: Фамилия Имя | E12: Дата рождения | F12: Звание | G12: Команда | H12: ДСО, ведомство | I12: Соб. вес | J12: Толчок | K12: Рывок | M12: Сумма дв-рья | N12: Ком. очки | O12: Вып. разряд | P12: ФИО тренера(тренеров)
K13: Сумма | L13: Очки
A14: 85 | B14: 1 | C14: =VLOOKUP(A14,Список!$A$2:$J$123,3) -> Матвеева Елена | E14: =VLOOKUP(A14,Список!$A$2:$J$123,4) -> 1974 | F14: =VLOOKUP(A14,Список!$A$2:$J$123,5) -> МСМК | G14: =VLOOKUP(A14,Список!$A$2:$J$123,6) -> Кировская область | H14: =VLOOKUP(A14,Список!$A$2:$J$123,7) -> КОГАУ «СШОР «Юность» | I14: =VLOOKUP(A14,Список!$A$2:$J$123,8) -> 63.3 | J14: 46 | N14: =IF(B14=1,20,IF(B14=2,18,IF(B14=3,16,IF(B14>19,0,19-B14)))) -> 20 | O14: =IF(AND(NOT(OR(F14="МСМК",F14="ЗМС")),J14>=$O$10),"+МСМК",IF(AND(OR(F14="МСМК",F14="ЗМС"),J14>=$O$10),"МСМК",IF(AND(NOT(OR(F14="МСМК",F14="МС",F14="ЗМС")),J14>=$P$10),"+МС",IF(AND(OR(F14="МСМК",F14="МС",F14="ЗМС"),J14>=$P$10),"МС",IF(AND(NOT(OR(F14="ЗМС",F14="МСМК",F14="МС",F14="КМС")),J14>=$Q$10),"+КМС",IF(AND(OR(F14="ЗМС",F14="МСМК",F14="МС",F14="КМС"),J14>=$Q$10),"КМС","-")))))) -> КМС | P14: =VLOOKUP(A14,Список!$A$2:$J$123,9) -> Малков Е.И.
A15: 59 | B15: 2 | C15: =VLOOKUP(A15,Список!$A$2:$J$123,3) -> Порываева Татьяна | E15: =VLOOKUP(A15,Список!$A$2:$J$123,4) -> 1990 | F15: =VLOOKUP(A15,Список!$A$2:$J$123,5) -> КМС | G15: =VLOOKUP(A15,Список!$A$2:$J$123,6) -> Пермский край | H15: =VLOOKUP(A15,Список!$A$2:$J$123,7) -> ДО ДС ДЮ «Прикамье» | I15: =VLOOKUP(A15,Список!$A$2:$J$123,8) -> 66.15 | J15: 2 | N15: =IF(B15=1,20,IF(B15=2,18,IF(B15=3,16,IF(B15>19,0,19-B15)))) -> 18 | O15: =IF(AND(NOT(OR(F15="МСМК",F15="ЗМС")),J15>=$O$10),"+МСМК",IF(AND(OR(F15="МСМК",F15="ЗМС"),J15>=$O$10),"МСМК",IF(AND(NOT(OR(F15="МСМК",F15="МС",F15="ЗМС")),J15>=$P$10),"+МС",IF(AND(OR(F15="МСМК",F15="МС",F15="ЗМС"),J15>=$P$10),"МС",IF(AND(NOT(OR(F15="ЗМС",F15="МСМК",F15="МС",F15="КМС")),J15>=$Q$10),"+КМС",IF(AND(OR(F15="ЗМС",F15="МСМК",F15="МС",F15="КМС"),J15>=$Q$10),"КМС","-")))))) -> - | P15: =VLOOKUP(A15,Список!$A$2:$J$123,9) -> Низовкин А.А.
C16: =VLOOKUP(A16,Список!$A$2:$J$123,3) -> #N/A | E16: =VLOOKUP(A16,Список!$A$2:$J$123,4) -> #N/A | F16: =VLOOKUP(A16,Список!$A$2:$J$123,5) -> #N/A | G16: =VLOOKUP(A16,Список!$A$2:$J$123,6) -> #N/A | H16: =VLOOKUP(A16,Список!$A$2:$J$123,7) -> #N/A | I16: =VLOOKUP(A16,Список!$A$2:$J$123,8) -> #N/A | N16: =IF(B16=1,20,IF(B16=2,18,IF(B16=3,16,IF(B16>19,0,19-B16)))) -> 19 | O16: =IF(AND(NOT(OR(F16="МСМК",F16="ЗМС")),J16>=$O$10),"+МСМК",IF(AND(OR(F16="МСМК",F16="ЗМС"),J16>=$O$10),"МСМК",IF(AND(NOT(OR(F16="МСМК",F16="МС",F16="ЗМС")),J16>=$P$10),"+МС",IF(AND(OR(F16="МСМК",F16="МС",F16="ЗМС"),J16>=$P$10),"МС",IF(AND(NOT(OR(F16="ЗМС",F16="МСМК",F16="МС",F16="КМС")),J16>=$Q$10),"+КМС",IF(AND(OR(F16="ЗМС",F16="МСМК",F16="МС",F16="КМС"),J16>=$Q$10),"КМС","-")))))) -> #N/A | P16: =VLOOKUP(A16,Список!$A$2:$J$123,9) -> #N/A
C17: =VLOOKUP(A17,Список!$A$2:$J$123,3) -> #N/A | E17: =VLOOKUP(A17,Список!$A$2:$J$123,4) -> #N/A | F17: =VLOOKUP(A17,Список!$A$2:$J$123,5) -> #N/A | G17: =VLOOKUP(A17,Список!$A$2:$J$123,6) -> #N/A | H17: =VLOOKUP(A17,Список!$A$2:$J$123,7) -> #N/A | I17: =VLOOKUP(A17,Список!$A$2:$J$123,8) -> #N/A | N17: =IF(B17=1,20,IF(B17=2,18,IF(B17=3,16,IF(B17>19,0,19-B17)))) -> 19 | O17: =IF(AND(NOT(OR(F17="МСМК",F17="ЗМС")),J17>=$O$10),"+МСМК",IF(AND(OR(F17="МСМК",F17="ЗМС"),J17>=$O$10),"МСМК",IF(AND(NOT(OR(F17="МСМК",F17="МС",F17="ЗМС")),J17>=$P$10),"+МС",IF(AND(OR(F17="МСМК",F17="МС",F17="ЗМС"),J17>=$P$10),"МС",IF(AND(NOT(OR(F17="ЗМС",F17="МСМК",F17="МС",F17="КМС")),J17>=$Q$10),"+КМС",IF(AND(OR(F17="ЗМС",F17="МСМК",F17="МС",F17="КМС"),J17>=$Q$10),"КМС","-")))))) -> #N/A | P17: =VLOOKUP(A17,Список!$A$2:$J$123,9) -> #N/A
C20: Главный судья | I20: ='ДЦ 63'!$I$22 -> Ческис О.И., 1К (Пермский край)
C22: Главный секретарь | I22: ='ДЦ 63'!$I$24 -> Паклина М.В., ВК (Пермский край)
C24: Зам. главного судьи | I24: ='ДЦ 63'!$I$26 -> Паклин П.А., ВК (Пермский край)
C26: Зам. главного секретаря | I26: ='ДЦ 63'!$I$28 -> Мошев Д.И., 1К (Пермский край)

Sheet ДЦЖ 68+
B1: Министерство спорта Российской Федерации.
B2: Общероссийская общественная организация "Всероссийская федерация гиревого спорта".
B3: ='ДЦ 63'!$B$3:$Q$3 -> Министерство физической культуры и спорта Пермского края
B4: ='ДЦ 63'!$B$4:$Q$4 -> Региональное отделение общероссийской общественной организации "ВФГС в Пермском крае"
B6: 12-14 апреля 2024 г. | E6: ПРОТОКОЛ | O6: Вес гирь 32 кг.
B7: г. Пермь | E7: Чемпионата Приволжского федерального округа | O7: Регламент времени - 10 мин.
E8: ='ДЦ 63'!$E$8:$N$8 -> ЕКП № 2065590017021409 | O8: Разрядные нормативы
B9: ='ДЦ 63'!$B$9:$D$9 -> Количество участников - 92 | E9: Толчок длинный цикл (женщины) | O9: МСМК | P9: МС | Q9: КМС
B10: ='ДЦ 63'!$B$10:$D$10 -> Количество регионов - 10 | E10: Весовая категория 68+ кг | O10: 72 | P10: 56 | Q10: 45
B12: Место | C12: Фамилия Имя | E12: Дата рождения | F12: Звание | G12: Команда | H12: ДСО, ведомство | I12: Соб. вес | J12: Толчок | K12: Рывок | M12: Сумма дв-рья | N12: Ком. очки | O12: Вып. разряд | P12: ФИО тренера(тренеров)
K13: Сумма | L13: Очки
A14: 29 | B14: 1 | C14: =VLOOKUP(A14,Список!$A$2:$J$123,3) -> Кузьмичева Ксения | E14: =VLOOKUP(A14,Список!$A$2:$J$123,4) -> 2004 | F14: =VLOOKUP(A14,Список!$A$2:$J$123,5) -> КМС | G14: =VLOOKUP(A14,Список!$A$2:$J$123,6) -> Оренбургская область | H14: =VLOOKUP(A14,Список!$A$2:$J$123,7) -> СШ №1 им. Л.Д. Ковалевского | I14: =VLOOKUP(A14,Список!$A$2:$J$123,8) -> 89.35 | J14: 40 | N14: =IF(B14=1,20,IF(B14=2,18,IF(B14=3,16,IF(B14>19,0,19-B14)))) -> 20 | O14: =IF(AND(NOT(OR(F14="МСМК",F14="ЗМС")),J14>=$O$10),"+МСМК",IF(AND(OR(F14="МСМК",F14="ЗМС"),J14>=$O$10),"МСМК",IF(AND(NOT(OR(F14="МСМК",F14="МС",F14="ЗМС")),J14>=$P$10),"+МС",IF(AND(OR(F14="МСМК",F14="МС",F14="ЗМС"),J14>=$P$10),"МС",IF(AND(NOT(OR(F14="ЗМС",F14="МСМК",F14="МС",F14="КМС")),J14>=$Q$10),"+КМС",IF(AND(OR(F14="ЗМС",F14="МСМК",F14="МС",F14="КМС"),J14>=$Q$10),"КМС","-")))))) -> - | P14: =VLOOKUP(A14,Список!$A$2:$J$123,9) -> Павлов С.П.
A15: 86 | B15: 2 | C15: =VLOOKUP(A15,Список!$A$2:$J$123,3) -> Вершинина Дарья | E15: =VLOOKUP(A15,Список!$A$2:$J$123,4) -> 2009 | F15: =VLOOKUP(A15,Список!$A$2:$J$123,5) -> КМС | G15: =VLOOKUP(A15,Список!$A$2:$J$123,6) -> Кировская область | H15: =VLOOKUP(A15,Список!$A$2:$J$123,7) -> КОГАУ «СШОР «Юность» | I15: =VLOOKUP(A15,Список!$A$2:$J$123,8) -> 76.25 | J15: 23 | N15: =IF(B15=1,20,IF(B15=2,18,IF(B15=3,16,IF(B15>19,0,19-B15)))) -> 18 | O15: =IF(AND(NOT(OR(F15="МСМК",F15="ЗМС")),J15>=$O$10),"+МСМК",IF(AND(OR(F15="МСМК",F15="ЗМС"),J15>=$O$10),"МСМК",IF(AND(NOT(OR(F15="МСМК",F15="МС",F15="ЗМС")),J15>=$P$10),"+МС",IF(AND(OR(F15="МСМК",F15="МС",F15="ЗМС"),J15>=$P$10),"МС",IF(AND(NOT(OR(F15="ЗМС",F15="МСМК",F15="МС",F15="КМС")),J15>=$Q$10),"+КМС",IF(AND(OR(F15="ЗМС",F15="МСМК",F15="МС",F15="КМС"),J15>=$Q$10),"КМС","-")))))) -> - | P15: =VLOOKUP(A15,Список!$A$2:$J$123,9) -> Малков Е.И.
A16: 60 | B16: 3 | C16: =VLOOKUP(A16,Список!$A$2:$J$123,3) -> Попова Мария | E16: =VLOOKUP(A16,Список!$A$2:$J$123,4) -> 2005 | F16: =VLOOKUP(A16,Список!$A$2:$J$123,5) -> КМС | G16: =VLOOKUP(A16,Список!$A$2:$J$123,6) -> Пермский край | H16: =VLOOKUP(A16,Список!$A$2:$J$123,7) -> ССК "Китнаспорте" | I16: =VLOOKUP(A16,Список!$A$2:$J$123,8) -> 79.25 | J16: 8 | N16: =IF(B16=1,20,IF(B16=2,18,IF(B16=3,16,IF(B16>19,0,19-B16)))) -> 16 | O16: =IF(AND(NOT(OR(F16="МСМК",F16="ЗМС")),J16>=$O$10),"+МСМК",IF(AND(OR(F16="МСМК",F16="ЗМС"),J16>=$O$10),"МСМК",IF(AND(NOT(OR(F16="МСМК",F16="МС",F16="ЗМС")),J16>=$P$10),"+МС",IF(AND(OR(F16="МСМК",F16="МС",F16="ЗМС"),J16>=$P$10),"МС",IF(AND(NOT(OR(F16="ЗМС",F16="МСМК",F16="МС",F16="КМС")),J16>=$Q$10),"+КМС",IF(AND(OR(F16="ЗМС",F16="МСМК",F16="МС",F16="КМС"),J16>=$Q$10),"КМС","-")))))) -> - | P16: =VLOOKUP(A16,Список!$A$2:$J$123,9) -> Паклин П.А.
A17: 37 | B17: 4 | C17: =VLOOKUP(A17,Список!$A$2:$J$123,3) -> Рогизная Анна | E17: =VLOOKUP(A17,Список!$A$2:$J$123,4) -> 1998 | F17: =VLOOKUP(A17,Список!$A$2:$J$123,5) -> КМС | G17: =VLOOKUP(A17,Список!$A$2:$J$123,6) -> Пермский край | H17: =VLOOKUP(A17,Список!$A$2:$J$123,7) -> ДО ДС ДЮ «Прикамье» | I17: =VLOOKUP(A17,Список!$A$2:$J$123,8) -> 108.4 | J17: 5 | N17: =IF(B17=1,20,IF(B17=2,18,IF(B17=3,16,IF(B17>19,0,19-B17)))) -> 15 | O17: =IF(AND(NOT(OR(F17="МСМК",F17="ЗМС")),J17>=$O$10),"+МСМК",IF(AND(OR(F17="МСМК",F17="ЗМС"),J17>=$O$10),"МСМК",IF(AND(NOT(OR(F17="МСМК",F17="МС",F17="ЗМС")),J17>=$P$10),"+МС",IF(AND(OR(F17="МСМК",F17="МС",F17="ЗМС"),J17>=$P$10),"МС",IF(AND(NOT(OR(F17="ЗМС",F17="МСМК",F17="МС",F17="КМС")),J17>=$Q$10),"+КМС",IF(AND(OR(F17="ЗМС",F17="МСМК",F17="МС",F17="КМС"),J17>=$Q$10),"КМС","-")))))) -> - | P17: =VLOOKUP(A17,Список!$A$2:$J$123,9) -> Мошев Д.И
C20: Главный судья | I20: ='ДЦ 63'!$I$22 -> Ческис О.И., 1К (Пермский край)
C22: Главный секретарь | I22: ='ДЦ 63'!$I$24 -> Паклина М.В., ВК (Пермский край)
C24: Зам. главного судьи | I24: ='ДЦ 63'!$I$26 -> Паклин П.А., ВК (Пермский край)
C26: Зам. главного секретаря | I26: ='ДЦ 63'!$I$28 -> Мошев Д.И., 1К (Пермский край)

Sheet Эстафета ДЦ
B1: Министерство спорта Российской Федерации.
B2: Общероссийская общественная организация "Всероссийская федерация гиревого спорта".
B3: ='ДЦ 63'!$B$3:$Q$3 -> Министерство физической культуры и спорта Пермского края
B4: ='ДЦ 63'!$B$4:$Q$4 -> Региональное отделение общероссийской общественной организации "ВФГС в Пермском крае"
B6: 12-14 апреля 2024 г. | E6: ПРОТОКОЛ | L6: Вес гирь 32 кг.
B7: г. Пермь | E7: Чемпионата Приволжского федерального округа | L7: Регламент времени-4 * 3 мин.
K8: Разрядные нормативы
B9: ='ДЦ 63'!$B$9:$D$9 -> Количество участников - 92 | E9: ='ДЦ 63'!$E$8:$N$8 -> ЕКП № 2065590017021409 | K9: МСМК | L9: МС | M9: КМС
B10: ='ДЦ 63'!$B$10:$D$10 -> Количество регионов - 10 | E10: Эстафета (толчок длинный цикл). Мужчины. | K10: 146 | L10: 136 | M10: 115
B11: КОМАНДА: Пермский край
B12: Место | C12: Этап | D12: Фамилия Имя | E12: Дата рождения | F12: Звание | G12: Собств. вес | H12: Результат участника | I12: Рез-т команды после этапа | J12: Вып. разряд | K12: ФИО тренера
A13: 49 | B13: 1 | C13: 1 | D13: =VLOOKUP(A13,Список!$A$2:$J$123,3) -> Кодиров Абдумаъруф | E13: =VLOOKUP(A13,Список!$A$2:$J$123,4) -> 2000 | F13: =VLOOKUP(A13,Список!$A$2:$J$123,5) -> КМС | G13: =VLOOKUP(A13,Список!$A$2:$J$123,8) -> 0 | H13: =I13 -> 32 | I13: 32 | J13: КМС | K13: =VLOOKUP(A13,Список!$A$2:$J$123,9) -> Мошев Д.И
A14: 54 | C14: 2 | D14: =VLOOKUP(A14,Список!$A$2:$J$123,3) -> Бардин Максим | E14: =VLOOKUP(A14,Список!$A$2:$J$123,4) -> 1990 | F14: =VLOOKUP(A14,Список!$A$2:$J$123,5) -> КМС | G14: =VLOOKUP(A14,Список!$A$2:$J$123,8) -> 0 | H14: =I14-I13 -> 26 | I14: 58 | K14: =VLOOKUP(A14,Список!$A$2:$J$123,9) -> Мошев Д.И, Лунев А.Г.
A15: 47 | C15: 3 | D15: =VLOOKUP(A15,Список!$A$2:$J$123,3) -> Крестьянинов Виктор | E15: =VLOOKUP(A15,Список!$A$2:$J$123,4) -> 2000 | F15: =VLOOKUP(A15,Список!$A$2:$J$123,5) -> МС | G15: =VLOOKUP(A15,Список!$A$2:$J$123,8) -> 83.8 | H15: =I15-I14 -> 35 | I15: 93 | K15: =VLOOKUP(A15,Список!$A$2:$J$123,9) -> Мошев Д.И., Панфилов Г.Н.
A16: 46 | C16: 4 | D16: =VLOOKUP(A16,Список!$A$2:$J$123,3) -> Маликов Данил | E16: =VLOOKUP(A16,Список!$A$2:$J$123,4) -> 2001 | F16: =VLOOKUP(A16,Список!$A$2:$J$123,5) -> МС | G16: =VLOOKUP(A16,Список!$A$2:$J$123,8) -> 0 | H16: =I16-I15 -> 38 | I16: 131 | K16: =VLOOKUP(A16,Список!$A$2:$J$123,9) -> Мошев Д.И., Панфилов Г.Н.
G17: =SUM(G13:G16) -> 83.8
B18: Результат команды (количество подъёмов ) | I18: =I16 -> 131
B20: КОМАНДА: Кировская область
B21: Место | C21: Этап | D21: Фамилия Имя | E21: Дата рождения | F21: Звание | G21: Собств. вес | H21: Результат участника | I21: Рез-т команды после этапа | J21: Вып. разряд | K21: ФИО тренера
A22: 76 | B22: 2 | C22: 1 | D22: =VLOOKUP(A22,Список!$A$2:$J$123,3) -> Новоселов Андрей | E22: =VLOOKUP(A22,Список!$A$2:$J$123,4) -> 2004 | F22: =VLOOKUP(A22,Список!$A$2:$J$123,5) -> МС | G22: =VLOOKUP(A22,Список!$A$2:$J$123,8) -> 68 | H22: =I22 -> 30 | I22: 30 | J22: КМС | K22: =VLOOKUP(A22,Список!$A$2:$J$123,9) -> Малков Е.И.
A23: 77 | C23: 2 | D23: =VLOOKUP(A23,Список!$A$2:$J$123,3) -> Алцыбеев Никита | E23: =VLOOKUP(A23,Список!$A$2:$J$123,4) -> 2003 | F23: =VLOOKUP(A23,Список!$A$2:$J$123,5) -> МС | G23: =VLOOKUP(A23,Список!$A$2:$J$123,8) -> 77.95 | H23: =I23-I22 -> 30 | I23: 60 | K23: =VLOOKUP(A23,Список!$A$2:$J$123,9) -> Малков Е.И.
A24: 79 | C24: 3 | D24: =VLOOKUP(A24,Список!$A$2:$J$123,3) -> Кашин Кирилл | E24: =VLOOKUP(A24,Список!$A$2:$J$123,4) -> 2003 | F24: =VLOOKUP(A24,Список!$A$2:$J$123,5) -> КМС | G24: =VLOOKUP(A24,Список!$A$2:$J$123,8) -> 82.35 | H24: =I24-I23 -> 26 | I24: 86 | K24: =VLOOKUP(A24,Список!$A$2:$J$123,9) -> Малков Е.И.
A25: 75 | C25: 4 | D25: =VLOOKUP(A25,Список!$A$2:$J$123,3) -> Клепиков Артём | E25: =VLOOKUP(A25,Список!$A$2:$J$123,4) -> 1998 | F25: =VLOOKUP(A25,Список!$A$2:$J$123,5) -> МСМК | G25: =VLOOKUP(A25,Список!$A$2:$J$123,8) -> 91.65 | H25: =I25-I24 -> 38 | I25: 124 | K25: =VLOOKUP(A25,Список!$A$2:$J$123,9) -> Малков Е.И.
G26: =SUM(G22:G25) -> 319.95
B27: Результат команды (количество подъёмов ) | I27: =I25 -> 124
B29: КОМАНДА: | D29: Оренбургская область
B30: Место | C30: Этап | D30: Фамилия Имя | E30: Дата рождения | F30: Звание | G30: Собств. вес | H30: Результат участника | I30: Рез-т команды после этапа | J30: Вып. разряд | K30: ФИО тренера
A31: 25 | B31: 3 | C31: 1 | D31: =VLOOKUP(A31,Список!$A$2:$J$123,3) -> Киякин Александр | E31: =VLOOKUP(A31,Список!$A$2:$J$123,4) -> 2001 | F31: =VLOOKUP(A31,Список!$A$2:$J$123,5) -> МС | G31: =VLOOKUP(A31,Список!$A$2:$J$123,8) -> 67.5 | H31: =I31 -> 24 | I31: 24 | J31: - | K31: =VLOOKUP(A31,Список!$A$2:$J$123,9) -> Павлов С.П.
A32: 22 | C32: 2 | D32: =VLOOKUP(A32,Список!$A$2:$J$123,3) -> Акульшин Алексей | E32: =VLOOKUP(A32,Список!$A$2:$J$123,4) -> 1994 | F32: =VLOOKUP(A32,Список!$A$2:$J$123,5) -> МС | G32: =VLOOKUP(A32,Список!$A$2:$J$123,8) -> 77.8 | H32: =I32-I31 -> 29 | I32: 53 | K32: =VLOOKUP(A32,Список!$A$2:$J$123,9) -> Фунтиков Н.Н.
A33: 27 | C33: 3 | D33: =VLOOKUP(A33,Список!$A$2:$J$123,3) -> Пешков Виталий | E33: =VLOOKUP(A33,Список!$A$2:$J$123,4) -> 1998 | F33: =VLOOKUP(A33,Список!$A$2:$J$123,5) -> МС | G33: =VLOOKUP(A33,Список!$A$2:$J$123,8) -> 82 | H33: =I33-I32 -> 29 | I33: 82 | K33: =VLOOKUP(A33,Список!$A$2:$J$123,9) -> Лавринов В.А.
A34: 24 | C34: 4 | D34: =VLOOKUP(A34,Список!$A$2:$J$123,3) -> Заварзин Павел | E34: =VLOOKUP(A34,Список!$A$2:$J$123,4) -> 2000 | F34: =VLOOKUP(A34,Список!$A$2:$J$123,5) -> МС | G34: =VLOOKUP(A34,Список!$A$2:$J$123,8) -> 82.3 | H34: =I34-I33 -> 29 | I34: 111 | K34: =VLOOKUP(A34,Список!$A$2:$J$123,9) -> Павлов С.П.
G35: =SUM(G31:G34) -> 309.6
B36: Результат команды (количество подъёмов ) | I36: =I34 -> 111
B39: КОМАНДА: Удмуртская республика
B40: Место | C40: Этап | D40: Фамилия Имя | E40: Дата рождения | F40: Звание | G40: Собств. вес | H40: Результат участника | I40: Рез-т команды после этапа | J40: Вып. разряд | K40: ФИО тренера
A41: 71 | B41: 4 | C41: 1 | D41: =VLOOKUP(A41,Список!$A$2:$J$123,3) -> Шиляев Иван | E41: =VLOOKUP(A41,Список!$A$2:$J$123,4) -> 1996 | F41: =VLOOKUP(A41,Список!$A$2:$J$123,5) -> МС | G41: =VLOOKUP(A41,Список!$A$2:$J$123,8) -> 0 | H41: =I41 -> 37 | I41: 37 | J41: - | K41: =VLOOKUP(A41,Список!$A$2:$J$123,9) -> Несмелов В.А.
A42: 73 | C42: 2 | D42: =VLOOKUP(A42,Список!$A$2:$J$123,3) -> Бурков Юрий | E42: =VLOOKUP(A42,Список!$A$2:$J$123,4) -> 1987 | F42: =VLOOKUP(A42,Список!$A$2:$J$123,5) -> КМС | G42: =VLOOKUP(A42,Список!$A$2:$J$123,8) -> 0 | H42: =I42-I41 -> 17 | I42: 54 | K42: =VLOOKUP(A42,Список!$A$2:$J$123,9) -> Шиляев И.Н.
A43: 74 | C43: 3 | D43: =VLOOKUP(A43,Список!$A$2:$J$123,3) -> Гарифуллин Константин | E43: =VLOOKUP(A43,Список!$A$2:$J$123,4) -> 1999 | F43: =VLOOKUP(A43,Список!$A$2:$J$123,5) -> КМС | G43: =VLOOKUP(A43,Список!$A$2:$J$123,8) -> 0 | H43: =I43-I42 -> 20 | I43: 74 | K43: =VLOOKUP(A43,Список!$A$2:$J$123,9) -> Шиляев И.Н.
A44: 69 | C44: 4 | D44: =VLOOKUP(A44,Список!$A$2:$J$123,3) -> Булдаков Никита | E44: =VLOOKUP(A44,Список!$A$2:$J$123,4) -> 1997 | F44: =VLOOKUP(A44,Список!$A$2:$J$123,5) -> МС | G44: =VLOOKUP(A44,Список!$A$2:$J$123,8) -> 90.45 | H44: =I44-I43 -> 34 | I44: 108 | K44: =VLOOKUP(A44,Список!$A$2:$J$123,9) -> Веретенников С.А.
G45: =SUM(G41:G44) -> 90.45
B46: Результат команды (количество подъёмов ) | I46: =I44 -> 108
C49: Главный судья | I49: ='ДЦ 63'!I22 -> Ческис О.И., 1К (Пермский край)
C51: Главный секретарь | I51: ='ДЦ 63'!I24 -> Паклина М.В., ВК (Пермский край)

Sheet Потоки ДЦ
B1: ДУБЛИРУЮЩИЙ ПРОТОКОЛ
B2: Чемпионат Приволжского федерального округа
B3: 1 день толчок ДЦ - мужчины и женщины
B4: 12-14 апреля 2024 г. г. Пермь
B6: Потоки | C6: Помост | D6: Ф.И.О. | E6: Дата рожд. | F6: Звание, разряд | G6: Команда | H6: Соб. вес | I6: Весовая категория | J6: Толчок ДЦ | K6: Время | L6: Тренер (тренера)
B7: Группа А (мужчины)
A8: 45 | B8: 1 | C8: 1 | D8: =VLOOKUP(A8,Список!$A$2:$J$123,3) -> Половников Павел | E8: =VLOOKUP(A8,Список!$A$2:$J$123,4) -> 2002 | F8: =VLOOKUP(A8,Список!$A$2:$J$123,5) -> КМС | G8: =VLOOKUP(A8,Список!$A$2:$J$123,6) -> Пермский край | H8: =VLOOKUP(A8,Список!$A$2:$J$123,8) -> 59.3 | I8: =VLOOKUP(A8,Список!$A$2:$J$123,10) -> 63 | K8: 0.625 | L8: =VLOOKUP(A8,Список!$A$2:$J$123,9) -> Маматов Г.Т.
A9: 58 | C9: 2 | D9: =VLOOKUP(A9,Список!$A$2:$J$123,3) -> Попов Кирилл | E9: =VLOOKUP(A9,Список!$A$2:$J$123,4) -> 2008 | F9: =VLOOKUP(A9,Список!$A$2:$J$123,5) -> КМС | G9: =VLOOKUP(A9,Список!$A$2:$J$123,6) -> Пермский край | H9: =VLOOKUP(A9,Список!$A$2:$J$123,8) -> 60.8 | I9: =VLOOKUP(A9,Список!$A$2:$J$123,10) -> 63 | K9: 0.625 | L9: =VLOOKUP(A9,Список!$A$2:$J$123,9) -> Маматов Г.Т.
A10: 23 | C10: 3 | D10: =VLOOKUP(A10,Список!$A$2:$J$123,3) -> Курунов Анатолий | E10: =VLOOKUP(A10,Список!$A$2:$J$123,4) -> 1999 | F10: =VLOOKUP(A10,Список!$A$2:$J$123,5) -> МС | G10: =VLOOKUP(A10,Список!$A$2:$J$123,6) -> Оренбургская область | H10: =VLOOKUP(A10,Список!$A$2:$J$123,8) -> 62.55 | I10: =VLOOKUP(A10,Список!$A$2:$J$123,10) -> 63 | K10: 0.625 | L10: =VLOOKUP(A10,Список!$A$2:$J$123,9) -> Павлов С.П.
A11: 1 | C11: 4 | D11: =VLOOKUP(A11,Список!$A$2:$J$123,3) -> Маркичев Максим | E11: =VLOOKUP(A11,Список!$A$2:$J$123,4) -> 1997 | F11: =VLOOKUP(A11,Список!$A$2:$J$123,5) -> КМС | G11: =VLOOKUP(A11,Список!$A$2:$J$123,6) -> Нижегородская область | H11: =VLOOKUP(A11,Список!$A$2:$J$123,8) -> 62.45 | I11: =VLOOKUP(A11,Список!$A$2:$J$123,10) -> 63 | K11: 0.625 | L11: =VLOOKUP(A11,Список!$A$2:$J$123,9) -> Маркичев Э.Ф.
A12: 51 | C12: 5 | D12: =VLOOKUP(A12,Список!$A$2:$J$123,3) -> Холов Хусейн | E12: =VLOOKUP(A12,Список!$A$2:$J$123,4) -> 2001 | F12: =VLOOKUP(A12,Список!$A$2:$J$123,5) -> КМС | G12: =VLOOKUP(A12,Список!$A$2:$J$123,6) -> Пермский край | H12: =VLOOKUP(A12,Список!$A$2:$J$123,8) -> 62.55 | I12: =VLOOKUP(A12,Список!$A$2:$J$123,10) -> 63 | K12: 0.625 | L12: =VLOOKUP(A12,Список!$A$2:$J$123,9) -> Мошев Д.И
A13: 56 | C13: 6 | D13: =VLOOKUP(A13,Список!$A$2:$J$123,3) -> Останин Даниил | E13: =VLOOKUP(A13,Список!$A$2:$J$123,4) -> 2005 | F13: =VLOOKUP(A13,Список!$A$2:$J$123,5) -> КМС | G13: =VLOOKUP(A13,Список!$A$2:$J$123,6) -> Пермский край | H13: =VLOOKUP(A13,Список!$A$2:$J$123,8) -> 57.05 | I13: =VLOOKUP(A13,Список!$A$2:$J$123,10) -> 63 | K13: 0.625 | L13: =VLOOKUP(A13,Список!$A$2:$J$123,9) -> Мошев Д.И
B15: 2 | C15: 1
A16: 41 | C16: 2 | D16: =VLOOKUP(A16,Список!$A$2:$J$123,3) -> Ярусов Константин | E16: =VLOOKUP(A16,Список!$A$2:$J$123,4) -> 2006 | F16: =VLOOKUP(A16,Список!$A$2:$J$123,5) -> КМС | G16: =VLOOKUP(A16,Список!$A$2:$J$123,6) -> Пермский край | H16: =VLOOKUP(A16,Список!$A$2:$J$123,8) -> 67 | I16: =VLOOKUP(A16,Список!$A$2:$J$123,10) -> 68 | K16: 0.63541667 | L16: =VLOOKUP(A16,Список!$A$2:$J$123,9) -> Маматов Г.Т.
A17: 25 | C17: 3 | D17: =VLOOKUP(A17,Список!$A$2:$J$123,3) -> Киякин Александр | E17: =VLOOKUP(A17,Список!$A$2:$J$123,4) -> 2001 | F17: =VLOOKUP(A17,Список!$A$2:$J$123,5) -> МС | G17: =VLOOKUP(A17,Список!$A$2:$J$123,6) -> Оренбургская область | H17: =VLOOKUP(A17,Список!$A$2:$J$123,8) -> 67.5 | I17: =VLOOKUP(A17,Список!$A$2:$J$123,10) -> 68 | K17: 0.63541667 | L17: =VLOOKUP(A17,Список!$A$2:$J$123,9) -> Павлов С.П.
A18: 76 | C18: 4 | D18: =VLOOKUP(A18,Список!$A$2:$J$123,3) -> Новоселов Андрей | E18: =VLOOKUP(A18,Список!$A$2:$J$123,4) -> 2004 | F18: =VLOOKUP(A18,Список!$A$2:$J$123,5) -> МС | G18: =VLOOKUP(A18,Список!$A$2:$J$123,6) -> Кировская область | H18: =VLOOKUP(A18,Список!$A$2:$J$123,8) -> 68 | I18: =VLOOKUP(A18,Список!$A$2:$J$123,10) -> 68 | K18: 0.63541667 | L18: =VLOOKUP(A18,Список!$A$2:$J$123,9) -> Малков Е.И.
C19: 5
C20: 6
B22: 3 | C22: 1
A23: 44 | C23: 2 | D23: =VLOOKUP(A23,Список!$A$2:$J$123,3) -> Ошмарин Никита | E23: =VLOOKUP(A23,Список!$A$2:$J$123,4) -> 2003 | F23: =VLOOKUP(A23,Список!$A$2:$J$123,5) -> КМС | G23: =VLOOKUP(A23,Список!$A$2:$J$123,6) -> Пермский край | H23: =VLOOKUP(A23,Список!$A$2:$J$123,8) -> 72.85 | I23: =VLOOKUP(A23,Список!$A$2:$J$123,10) -> 73 | K23: 0.64583333 | L23: =VLOOKUP(A23,Список!$A$2:$J$123,9) -> Маматов Г.Т.
A24: 78 | C24: 3 | D24: =VLOOKUP(A24,Список!$A$2:$J$123,3) -> Перминов Максим | E24: =VLOOKUP(A24,Список!$A$2:$J$123,4) -> 1994 | F24: =VLOOKUP(A24,Список!$A$2:$J$123,5) -> КМС | G24: =VLOOKUP(A24,Список!$A$2:$J$123,6) -> Кировская область | H24: =VLOOKUP(A24,Список!$A$2:$J$123,8) -> 72.45 | I24: =VLOOKUP(A24,Список!$A$2:$J$123,10) -> 73 | K24: 0.64583333 | L24: =VLOOKUP(A24,Список!$A$2:$J$123,9) -> Малков Е.И.
A25: 31 | C25: 4 | D25: =VLOOKUP(A25,Список!$A$2:$J$123,3) -> Шамкаев Радик | E25: =VLOOKUP(A25,Список!$A$2:$J$123,4) -> 1990 | F25: =VLOOKUP(A25,Список!$A$2:$J$123,5) -> КМС | G25: =VLOOKUP(A25,Список!$A$2:$J$123,6) -> Оренбургская область | H25: =VLOOKUP(A25,Список!$A$2:$J$123,8) -> 72.25 | I25: =VLOOKUP(A25,Список!$A$2:$J$123,10) -> 73 | K25: 0.64583333 | L25: =VLOOKUP(A25,Список!$A$2:$J$123,9) -> Фунтиков Н.Н.
A26: 2 | C26: 5 | D26: =VLOOKUP(A26,Список!$A$2:$J$123,3) -> Крюков Дмитрий | E26: =VLOOKUP(A26,Список!$A$2:$J$123,4) -> 1993 | F26: =VLOOKUP(A26,Список!$A$2:$J$123,5) -> КМС | G26: =VLOOKUP(A26,Список!$A$2:$J$123,6) -> Нижегородская область | H26: =VLOOKUP(A26,Список!$A$2:$J$123,8) -> 72.35 | I26: =VLOOKUP(A26,Список!$A$2:$J$123,10) -> 73 | K26: 0.64583333 | L26: =VLOOKUP(A26,Список!$A$2:$J$123,9) -> Маркичев Э.Ф.
C27: 6
A29: 21 | B29: 4 | C29: 1 | D29: =VLOOKUP(A29,Список!$A$2:$J$123,3) -> Никитин Дмитрий | E29: =VLOOKUP(A29,Список!$A$2:$J$123,4) -> 2004 | F29: =VLOOKUP(A29,Список!$A$2:$J$123,5) -> МС | G29: =VLOOKUP(A29,Список!$A$2:$J$123,6) -> Самарская область | H29: =VLOOKUP(A29,Список!$A$2:$J$123,8) -> 77.75 | I29: =VLOOKUP(A29,Список!$A$2:$J$123,10) -> 78 | K29: 0.65625 | L29: =VLOOKUP(A29,Список!$A$2:$J$123,9) -> Балдин А.В.
A30: 22 | C30: 2 | D30: =VLOOKUP(A30,Список!$A$2:$J$123,3) -> Акульшин Алексей | E30: =VLOOKUP(A30,Список!$A$2:$J$123,4) -> 1994 | F30: =VLOOKUP(A30,Список!$A$2:$J$123,5) -> МС | G30: =VLOOKUP(A30,Список!$A$2:$J$123,6) -> Оренбургская область | H30: =VLOOKUP(A30,Список!$A$2:$J$123,8) -> 77.8 | I30: =VLOOKUP(A30,Список!$A$2:$J$123,10) -> 78 | K30: 0.65625 | L30: =VLOOKUP(A30,Список!$A$2:$J$123,9) -> Фунтиков Н.Н.
A31: 91 | C31: 3 | D31: =VLOOKUP(A31,Список!$A$2:$J$123,3) -> Ляукин Кирилл | E31: =VLOOKUP(A31,Список!$A$2:$J$123,4) -> 1999 | F31: =VLOOKUP(A31,Список!$A$2:$J$123,5) -> МС | G31: =VLOOKUP(A31,Список!$A$2:$J$123,6) -> Республика Татарстан | H31: =VLOOKUP(A31,Список!$A$2:$J$123,8) -> 77.95 | I31: =VLOOKUP(A31,Список!$A$2:$J$123,10) -> 78 | K31: 0.65625 | L31: =VLOOKUP(A31,Список!$A$2:$J$123,9) -> Низамова А.А.
A32: 50 | C32: 4 | D32: =VLOOKUP(A32,Список!$A$2:$J$123,3) -> Порцев Роман | E32: =VLOOKUP(A32,Список!$A$2:$J$123,4) -> 1987 | F32: =VLOOKUP(A32,Список!$A$2:$J$123,5) -> МС | G32: =VLOOKUP(A32,Список!$A$2:$J$123,6) -> Пермский край | H32: =VLOOKUP(A32,Список!$A$2:$J$123,8) -> 77.35 | I32: =VLOOKUP(A32,Список!$A$2:$J$123,10) -> 78 | K32: 0.65625 | L32: =VLOOKUP(A32,Список!$A$2:$J$123,9) -> Мошев Д.И
A33: 77 | C33: 5 | D33: =VLOOKUP(A33,Список!$A$2:$J$123,3) -> Алцыбеев Никита | E33: =VLOOKUP(A33,Список!$A$2:$J$123,4) -> 2003 | F33: =VLOOKUP(A33,Список!$A$2:$J$123,5) -> МС | G33: =VLOOKUP(A33,Список!$A$2:$J$123,6) -> Кировская область | H33: =VLOOKUP(A33,Список!$A$2:$J$123,8) -> 77.95 | I33: =VLOOKUP(A33,Список!$A$2:$J$123,10) -> 78 | K33: 0.65625 | L33: =VLOOKUP(A33,Список!$A$2:$J$123,9) -> Малков Е.И.
A34: 42 | C34: 6 | D34: =VLOOKUP(A34,Список!$A$2:$J$123,3) -> Лесников Михаил | E34: =VLOOKUP(A34,Список!$A$2:$J$123,4) -> 2007 | F34: =VLOOKUP(A34,Список!$A$2:$J$123,5) -> КМС | G34: =VLOOKUP(A34,Список!$A$2:$J$123,6) -> Пермский край | H34: =VLOOKUP(A34,Список!$A$2:$J$123,8) -> 75.75 | I34: =VLOOKUP(A34,Список!$A$2:$J$123,10) -> 78 | K34: 0.65625 | L34: =VLOOKUP(A34,Список!$A$2:$J$123,9) -> Маматов Г.Т.
A36: 4 | B36: 5 | C36: 1 | D36: =VLOOKUP(A36,Список!$A$2:$J$123,3) -> Разживин Андрей | E36: =VLOOKUP(A36,Список!$A$2:$J$123,4) -> 1986 | F36: =VLOOKUP(A36,Список!$A$2:$J$123,5) -> МСМК | G36: =VLOOKUP(A36,Список!$A$2:$J$123,6) -> Нижегородская область | H36: =VLOOKUP(A36,Список!$A$2:$J$123,8) -> 83.15 | I36: =VLOOKUP(A36,Список!$A$2:$J$123,10) -> 85 | K36: 0.66666667 | L36: =VLOOKUP(A36,Список!$A$2:$J$123,9) -> самостоятельно
A37: 47 | C37: 2 | D37: =VLOOKUP(A37,Список!$A$2:$J$123,3) -> Крестьянинов Виктор | E37: =VLOOKUP(A37,Список!$A$2:$J$123,4) -> 2000 | F37: =VLOOKUP(A37,Список!$A$2:$J$123,5) -> МС | G37: =VLOOKUP(A37,Список!$A$2:$J$123,6) -> Пермский край | H37: =VLOOKUP(A37,Список!$A$2:$J$123,8) -> 83.8 | I37: =VLOOKUP(A37,Список!$A$2:$J$123,10) -> 85 | K37: 0.66666667 | L37: =VLOOKUP(A37,Список!$A$2:$J$123,9) -> Мошев Д.И., Панфилов Г.Н.
A38: 24 | C38: 3 | D38: =VLOOKUP(A38,Список!$A$2:$J$123,3) -> Заварзин Павел | E38: =VLOOKUP(A38,Список!$A$2:$J$123,4) -> 2000 | F38: =VLOOKUP(A38,Список!$A$2:$J$123,5) -> МС | G38: =VLOOKUP(A38,Список!$A$2:$J$123,6) -> Оренбургская область | H38: =VLOOKUP(A38,Список!$A$2:$J$123,8) -> 82.3 | I38: =VLOOKUP(A38,Список!$A$2:$J$123,10) -> 85 | K38: 0.66666667 | L38: =VLOOKUP(A38,Список!$A$2:$J$123,9) -> Павлов С.П.
A39: 27 | C39: 4 | D39: =VLOOKUP(A39,Список!$A$2:$J$123,3) -> Пешков Виталий | E39: =VLOOKUP(A39,Список!$A$2:$J$123,4) -> 1998 | F39: =VLOOKUP(A39,Список!$A$2:$J$123,5) -> МС | G39: =VLOOKUP(A39,Список!$A$2:$J$123,6) -> Оренбургская область | H39: =VLOOKUP(A39,Список!$A$2:$J$123,8) -> 82 | I39: =VLOOKUP(A39,Список!$A$2:$J$123,10) -> 85 | K39: 0.66666667 | L39: =VLOOKUP(A39,Список!$A$2:$J$123,9) -> Лавринов В.А.
A40: 79 | C40: 5 | D40: =VLOOKUP(A40,Список!$A$2:$J$123,3) -> Кашин Кирилл | E40: =VLOOKUP(A40,Список!$A$2:$J$123,4) -> 2003 | F40: =VLOOKUP(A40,Список!$A$2:$J$123,5) -> КМС | G40: =VLOOKUP(A40,Список!$A$2:$J$123,6) -> Кировская область | H40: =VLOOKUP(A40,Список!$A$2:$J$123,8) -> 82.35 | I40: =VLOOKUP(A40,Список!$A$2:$J$123,10) -> 85 | K40: 0.66666667 | L40: =VLOOKUP(A40,Список!$A$2:$J$123,9) -> Малков Е.И.
C41: 6
A43: 40 | B43: 6 | C43: 1 | D43: =VLOOKUP(A43,Список!$A$2:$J$123,3) -> Попов Севастьян | E43: =VLOOKUP(A43,Список!$A$2:$J$123,4) -> 2005 | F43: =VLOOKUP(A43,Список!$A$2:$J$123,5) -> КМС | G43: =VLOOKUP(A43,Список!$A$2:$J$123,6) -> Пермский край | H43: =VLOOKUP(A43,Список!$A$2:$J$123,8) -> 85.65 | I43: =VLOOKUP(A43,Список!$A$2:$J$123,10) -> 95 | K43: 0.67708333 | L43: =VLOOKUP(A43,Список!$A$2:$J$123,9) -> Маматов Г.Т., Мартынов Д.И.
A44: 69 | C44: 2 | D44: =VLOOKUP(A44,Список!$A$2:$J$123,3) -> Булдаков Никита | E44: =VLOOKUP(A44,Список!$A$2:$J$123,4) -> 1997 | F44: =VLOOKUP(A44,Список!$A$2:$J$123,5) -> МС | G44: =VLOOKUP(A44,Список!$A$2:$J$123,6) -> Удмуртская республика | H44: =VLOOKUP(A44,Список!$A$2:$J$123,8) -> 90.45 | I44: =VLOOKUP(A44,Список!$A$2:$J$123,10) -> 95 | K44: 0.67708333 | L44: =VLOOKUP(A44,Список!$A$2:$J$123,9) -> Веретенников С.А.
A45: 75 | C45: 3 | D45: =VLOOKUP(A45,Список!$A$2:$J$123,3) -> Клепиков Артём | E45: =VLOOKUP(A45,Список!$A$2:$J$123,4) -> 1998 | F45: =VLOOKUP(A45,Список!$A$2:$J$123,5) -> МСМК | G45: =VLOOKUP(A45,Список!$A$2:$J$123,6) -> Кировская область | H45: =VLOOKUP(A45,Список!$A$2:$J$123,8) -> 91.65 | I45: =VLOOKUP(A45,Список!$A$2:$J$123,10) -> 95 | K45: 0.67708333 | L45: =VLOOKUP(A45,Список!$A$2:$J$123,9) -> Малков Е.И.
A46: 64 | C46: 4 | D46: =VLOOKUP(A46,Список!$A$2:$J$123,3) -> Константинов Александр | E46: =VLOOKUP(A46,Список!$A$2:$J$123,4) -> 2003 | F46: =VLOOKUP(A46,Список!$A$2:$J$123,5) -> КМС | G46: =VLOOKUP(A46,Список!$A$2:$J$123,6) -> Чувашская республика | H46: =VLOOKUP(A46,Список!$A$2:$J$123,8) -> 114.8 | I46: =VLOOKUP(A46,Список!$A$2:$J$123,10) -> 95+ | K46: 0.67708333 | L46: =VLOOKUP(A46,Список!$A$2:$J$123,9) -> Глинкин Б.Н
A47: 57 | C47: 5 | D47: =VLOOKUP(A47,Список!$A$2:$J$123,3) -> Носков Андрей | E47: =VLOOKUP(A47,Список!$A$2:$J$123,4) -> 1993 | F47: =VLOOKUP(A47,Список!$A$2:$J$123,5) -> КМС | G47: =VLOOKUP(A47,Список!$A$2:$J$123,6) -> Пермский край | H47: =VLOOKUP(A47,Список!$A$2:$J$123,8) -> 98.35 | I47: =VLOOKUP(A47,Список!$A$2:$J$123,10) -> 95+ | K47: 0.67708333 | L47: =VLOOKUP(A47,Список!$A$2:$J$123,9) -> Мошев Д.И
C48: 6
B49: Группа А (женщины)
B50: 7 | C50: 1
A51: 28 | C51: 2 | D51: =VLOOKUP(A51,Список!$A$2:$J$123,3) -> Сатлыкова Эльвира | E51: =VLOOKUP(A51,Список!$A$2:$J$123,4) -> 2000 | F51: =VLOOKUP(A51,Список!$A$2:$J$123,5) -> МС | G51: =VLOOKUP(A51,Список!$A$2:$J$123,6) -> Оренбургская область | H51: =VLOOKUP(A51,Список!$A$2:$J$123,8) -> 57.8 | I51: =VLOOKUP(A51,Список!$A$2:$J$123,10) -> 58 | K51: 0.6875 | L51: =VLOOKUP(A51,Список!$A$2:$J$123,9) -> Павлов С.П.
A52: 97 | C52: 3 | D52: =VLOOKUP(A52,Список!$A$2:$J$123,3) -> Пузанкова Анастасия | E52: =VLOOKUP(A52,Список!$A$2:$J$123,4) -> 2006 | F52: =VLOOKUP(A52,Список!$A$2:$J$123,5) -> КМС | G52: =VLOOKUP(A52,Список!$A$2:$J$123,6) -> Республика Татарстан | H52: =VLOOKUP(A52,Список!$A$2:$J$123,8) -> 57.55 | I52: =VLOOKUP(A52,Список!$A$2:$J$123,10) -> 58 | K52: 0.6875 | L52: =VLOOKUP(A52,Список!$A$2:$J$123,9) -> Гиниатуллин А.З.
A53: 85 | C53: 4 | D53: =VLOOKUP(A53,Список!$A$2:$J$123,3) -> Матвеева Елена | E53: =VLOOKUP(A53,Список!$A$2:$J$123,4) -> 1974 | F53: =VLOOKUP(A53,Список!$A$2:$J$123,5) -> МСМК | G53: =VLOOKUP(A53,Список!$A$2:$J$123,6) -> Кировская область | H53: =VLOOKUP(A53,Список!$A$2:$J$123,8) -> 63.3 | I53: =VLOOKUP(A53,Список!$A$2:$J$123,10) -> 68 | K53: 0.6875 | L53: =VLOOKUP(A53,Список!$A$2:$J$123,9) -> Малков Е.И.
A54: 59 | C54: 5 | D54: =VLOOKUP(A54,Список!$A$2:$J$123,3) -> Порываева Татьяна | E54: =VLOOKUP(A54,Список!$A$2:$J$123,4) -> 1990 | F54: =VLOOKUP(A54,Список!$A$2:$J$123,5) -> КМС | G54: =VLOOKUP(A54,Список!$A$2:$J$123,6) -> Пермский край | H54: =VLOOKUP(A54,Список!$A$2:$J$123,8) -> 66.15 | I54: =VLOOKUP(A54,Список!$A$2:$J$123,10) -> 68 | K54: 0.6875 | L54: =VLOOKUP(A54,Список!$A$2:$J$123,9) -> Низовкин А.А.
C55: 6
B57: 8 | C57: 1
A58: 60 | C58: 2 | D58: =VLOOKUP(A58,Список!$A$2:$J$123,3) -> Попова Мария | E58: =VLOOKUP(A58,Список!$A$2:$J$123,4) -> 2005 | F58: =VLOOKUP(A58,Список!$A$2:$J$123,5) -> КМС | G58: =VLOOKUP(A58,Список!$A$2:$J$123,6) -> Пермский край | H58: =VLOOKUP(A58,Список!$A$2:$J$123,8) -> 79.25 | I58: =VLOOKUP(A58,Список!$A$2:$J$123,10) -> 68+ | K58: 0.69791667 | L58: =VLOOKUP(A58,Список!$A$2:$J$123,9) -> Паклин П.А.
A59: 86 | C59: 3 | D59: =VLOOKUP(A59,Список!$A$2:$J$123,3) -> Вершинина Дарья | E59: =VLOOKUP(A59,Список!$A$2:$J$123,4) -> 2009 | F59: =VLOOKUP(A59,Список!$A$2:$J$123,5) -> КМС | G59: =VLOOKUP(A59,Список!$A$2:$J$123,6) -> Кировская область | H59: =VLOOKUP(A59,Список!$A$2:$J$123,8) -> 76.25 | I59: =VLOOKUP(A59,Список!$A$2:$J$123,10) -> 68+ | K59: 0.69791667 | L59: =VLOOKUP(A59,Список!$A$2:$J$123,9) -> Малков Е.И.
A60: 29 | C60: 4 | D60: =VLOOKUP(A60,Список!$A$2:$J$123,3) -> Кузьмичева Ксения | E60: =VLOOKUP(A60,Список!$A$2:$J$123,4) -> 2004 | F60: =VLOOKUP(A60,Список!$A$2:$J$123,5) -> КМС | G60: =VLOOKUP(A60,Список!$A$2:$J$123,6) -> Оренбургская область | H60: =VLOOKUP(A60,Список!$A$2:$J$123,8) -> 89.35 | I60: =VLOOKUP(A60,Список!$A$2:$J$123,10) -> 68+ | K60: 0.69791667 | L60: =VLOOKUP(A60,Список!$A$2:$J$123,9) -> Павлов С.П.
A61: 37 | C61: 5 | D61: =VLOOKUP(A61,Список!$A$2:$J$123,3) -> Рогизная Анна | E61: =VLOOKUP(A61,Список!$A$2:$J$123,4) -> 1998 | F61: =VLOOKUP(A61,Список!$A$2:$J$123,5) -> КМС | G61: =VLOOKUP(A61,Список!$A$2:$J$123,6) -> Пермский край | H61: =VLOOKUP(A61,Список!$A$2:$J$123,8) -> 108.4 | I61: =VLOOKUP(A61,Список!$A$2:$J$123,10) -> 68+ | K61: 0.69791667 | L61: =VLOOKUP(A61,Список!$A$2:$J$123,9) -> Мошев Д.И
C62: 6

Sheet Жонглирование 
B1: Министерство спорта Российской Федерации.
B2: Общероссийская общественная организация "Всероссийская федерация гиревого спорта".
B3: ='ДЦ 63'!$B$3:$Q$3 -> Министерство физической культуры и спорта Пермского края
B4: ='ДЦ 63'!$B$4:$Q$4 -> Региональное отделение общероссийской общественной организации "ВФГС в Пермском крае"
H6: ПРОТОКОЛ
B7: 12-14 апреля 2024 г. | H7: Чемпионата Приволжского федерального округа | O7: КМС | P7: 1 | Q7: 2 | R7: 3
B8: г. Пермь | H8: ЕКП № 2065590017021409 | N8: м | O8: 12 | P8: 9.5 | Q8: 8.5 | R8: 7.5
B9: ='ДЦ 63'!$B$9:$D$9 -> Количество участников - 92 | H9: Жонглирование | N9: ж | O9: 9.5 | P9: 8 | Q9: 7 | R9: 6
B10: ='ДЦ 63'!$B$10:$D$10 -> Количество регионов - 10 | N10: пары | O10: 9.5 | P10: 8 | Q10: 7 | R10: 6
B12: № п/п | C12: Фамилия Имя | F12: Дата рождения | G12: Разряд (Звание) | H12: Команда | J12: Обязательная прогамма | K12: Произвольная программа | L12: Итоговая оценка | M12: Место | N12: Вып. разряд | P12: ФИО тренера (тренеров) | R12: Коман-дные очки
B13: ОДИНОЧНЫЙ РАЗРЯД — Мужчины
B14: 1 | C14: Сибикин Илья | F14: 1994 | G14: КМС | H14: Пермский край | J14: 1.7 | K14: 12 | L14: =J14+K14 -> 13.7 | M14: 1 | N14: КМС | P14: Мошев Д.И., Лунев А.Г. | R14: =IF(B14=1,20,IF(B14=2,18,IF(B14=3,16,IF(B14>19,0,19-B14)))) -> 20
B15: 2 | C15: Вершинин Михаил | F15: 2007 | G15: 1 | H15: Кировская область | J15: 0.55 | K15: 7.56 | L15: =J15+K15 -> 8.11 | M15: 2 | N15: 3 | P15: Платунов В.В. | R15: =IF(B15=1,20,IF(B15=2,18,IF(B15=3,16,IF(B15>19,0,19-B15)))) -> 18
B16: 3 | C16: Платунов Виталий | F16: 1958 | G16: МС | H16: Кировская область | J16: 0.272 | K16: 4.51 | L16: 4.78 | M16: 3 | N16: - | P16: Платунов В.В. | R16: =IF(B16=1,20,IF(B16=2,18,IF(B16=3,16,IF(B16>19,0,19-B16)))) -> 16
B17: 4 | J17: ='[1]ЖОГ ПР'!O17*0.2 -> #DIV/0! | K17: ='[1]ЖОГ ОБ'!O17 -> #DIV/0! | L17: =J17+K17 -> #DIV/0! | M17: =_xlfn.RANK.EQ(L17,$L$14:$L$18,0) -> #DIV/0! | N17: - | P17: =H17 -> 0
B18: 5 | J18: ='[1]ЖОГ ПР'!O18*0.2 -> #DIV/0! | K18: ='[1]ЖОГ ОБ'!O18 -> #DIV/0! | L18: =J18+K18 -> #DIV/0! | M18: =_xlfn.RANK.EQ(L18,$L$14:$L$18,0) -> #DIV/0! | N18: - | P18: =H18 -> 0
B19: 6 | N19: - | P19: =H19 -> 0
B20: 7 | N20: - | P20: =H20 -> 0
B21: 8 | N21: - | P21: =H21 -> 0
B22: 9 | N22: - | P22: =H22 -> 0
B23: 10 | N23: - | P23: =H23 -> 0
B24: ОДИНОЧНЫЙ РАЗРЯД — Женщины
B25: 1 | C25: Попова Анна | F25: 2005 | G25: КМС | H25: Пермский край | J25: 1.73 | K25: 16.13 | L25: =J25+K25 -> 17.86 | M25: 1 | N25: КМС | P25: Мошев Д.И., Лунев А.Г. | R25: =IF(B25=1,20,IF(B25=2,18,IF(B25=3,16,IF(B25>19,0,19-B25)))) -> 20
B26: 2 | C26: Платунова Софья | F26: 2010 | G26: 1 | H26: Кировская область | J26: 1.67 | K26: 15.18 | L26: =J26+K26 -> 16.85 | M26: 2 | N26: КМС | P26: Платунов В.В. | R26: =IF(B26=1,20,IF(B26=2,18,IF(B26=3,16,IF(B26>19,0,19-B26)))) -> 18
B27: 3 | C27: Ощепкова Анна | F27: 2009 | G27: 1 | H27: Пермский край | J27: 0.97 | K27: 10.64 | L27: =J27+K27 -> 11.61 | M27: 3 | N27: КМС | P27: Лунев А.Г. | R27: =IF(B27=1,20,IF(B27=2,18,IF(B27=3,16,IF(B27>19,0,19-B27)))) -> 16
B28: 6 | J28: ='[1]ЖОГ ПР'!O29*0.2 -> 0 | K28: ='[1]ЖОГ ОБ'!O28 -> #DIV/0! | L28: =J28+K28 -> #DIV/0! | M28: =_xlfn.RANK.EQ(L28,$L$25:$L$28,0) -> #DIV/0! | N28: - | P28: =H28 -> 0
B29: 7 | L29: =J29+K29 -> 0 | N29: - | P29: =H29 -> 0
B30: 8 | L30: =J30+K30 -> 0 | N30: - | P30: =H30 -> 0
B31: 9 | L31: =J31+K31 -> 0 | N31: - | P31: =H31 -> 0
B32: 10 | L32: =J32+K32 -> 0 | N32: - | P32: =H32 -> 0
B33: ПАРНЫЙ РАЗРЯД - Юноши
B34: 1 | J34: ='[1]ЖОГ ПР'!O35*0.2 -> 0 | K34: ='[1]ЖОГ ОБ'!O34 -> 4.8 | L34: =J34+K34 -> 4.8 | M34: 1 | N34: - | P34: =H34 -> 0
P35: =H35 -> 0
B36: 2 | N36: - | P36: =H36 -> 0
P37: =H37 -> 0
B38: 3 | N38: - | P38: =H38 -> 0
P39: =H39 -> 0
B40: 4 | N40: - | P40: =H40 -> 0
P41: =H41 -> 0
B42: 5 | N42: - | P42: =H42 -> 0
P43: =H43 -> 0
B44: ПАРНЫЙ РАЗРЯД - Мужчины
B45: 1 | C45: Сибикин Илья | F45: 1994 | G45: КМС | H45: Пермский край | J45: 0.93 | K45: 13.81 | L45: =J45+K45 -> 14.74 | M45: 1 | N45: КМС | P45: Мошев Д.И., Лунев А.Г. | R45: =IF(B45=1,20,IF(B45=2,18,IF(B45=3,16,IF(B45>19,0,19-B45)))) -> 20
C46: Лунев Кирилл | F46: 2000 | G46: МС | H46: Пермский край | J46: 0.93 | K46: 13.81 | L46: =J46+K46 -> 14.74 | M46: 1 | N46: КМС | P46: Лунев А.Г. Павленко Н.Г.
B47: 2 | C47: Болотов Данила | F47: 2008 | G47: 1 | I47: Пермский край | N47: - | P47: Лунев А.Г. | R47: =IF(B47=1,20,IF(B47=2,18,IF(B47=3,16,IF(B47>19,0,19-B47)))) -> 18
C48: Заякин Ярослав | F48: 2008 | G48: 1 | I48: Пермский край | P48: Лунев А.Г. | R48: =IF(B48=1,20,IF(B48=2,18,IF(B48=3,16,IF(B48>19,0,19-B48)))) -> 19
B49: 3 | C49: Сибикин Илья | F49: 1994 | G49: КМС | I49: Пермский край | N49: - | P49: Мошев Д.И., Лунев А.Г. | R49: =IF(B49=1,20,IF(B49=2,18,IF(B49=3,16,IF(B49>19,0,19-B49)))) -> 16
C50: Лунев Кирилл | F50: 2000 | G50: МС | I50: Пермский край | P50: Лунев А.Г. | R50: =IF(B50=1,20,IF(B50=2,18,IF(B50=3,16,IF(B50>19,0,19-B50)))) -> 19
B51: 4 | C51: Болотов Данила | F51: 2008 | G51: 1 | I51: Пермский край | N51: - | P51: Лунев А.Г. | R51: =IF(B51=1,20,IF(B51=2,18,IF(B51=3,16,IF(B51>19,0,19-B51)))) -> 15
C52: Заякин Ярослав | F52: 2008 | G52: 1 | I52: Пермский край | P52: Лунев А.Г. | R52: =IF(B52=1,20,IF(B52=2,18,IF(B52=3,16,IF(B52>19,0,19-B52)))) -> 19
B53: 5 | C53: Сибикин Илья | F53: 1994 | G53: КМС | I53: Пермский край | N53: - | P53: Мошев Д.И., Лунев А.Г. | R53: =IF(B53=1,20,IF(B53=2,18,IF(B53=3,16,IF(B53>19,0,19-B53)))) -> 14
C54: Лунев Кирилл | F54: 2000 | G54: МС | I54: Пермский край | P54: Лунев А.Г. | R54: =IF(B54=1,20,IF(B54=2,18,IF(B54=3,16,IF(B54>19,0,19-B54)))) -> 19
B55: 2 | C55: Болотов Данила | F55: 2008 | G55: 1 | H55: Пермский край | J55: 0,62 | K55: 3,55 | L55: 4,17 | M55: 2 | N55: - | P55: Лунев А.Г. | R55: =IF(B55=1,20,IF(B55=2,18,IF(B55=3,16,IF(B55>19,0,19-B55)))) -> 18
C56: Заякин Ярослав | F56: 2008 | G56: 1 | H56: Пермский край | J56: 0,62 | K56: 3,55 | L56: 4,17 | M56: 2 | N56: - | P56: Лунев А.Г.
B57: ПАРНЫЙ РАЗРЯД - Женщины
B58: 1 | C58: Попова Анна | F58: 2005 | G58: КМС | H58: Пермский край | J58: 0.87 | K58: 7.26 | L58: 8.13 | M58: 1 | N58: 1 | P58: Мошев Д.И., Лунев А.Г. | R58: =IF(B58=1,20,IF(B58=2,18,IF(B58=3,16,IF(B58>19,0,19-B58)))) -> 20
C59: Ощепкова Анна | F59: 2009 | G59: I | H59: Пермский край | J59: 0.87 | K59: 7.26 | L59: 8.13 | M59: 1 | N59: 1 | P59: Лунев А.Г.
C61: Главный судья | I61: ='ДЦ 63'!$I$22 -> Ческис О.И., 1К (Пермский край)
C63: Главный секретарь | I63: ='ДЦ 63'!$I$24 -> Паклина М.В., ВК (Пермский край)
C65: Зам. главного судьи | I65: ='ДЦ 63'!$I$26 -> Паклин П.А., ВК (Пермский край)
C67: Зам. главного секретаря | I67: ='ДЦ 63'!$I$28 -> Мошев Д.И., 1К (Пермский край)

Sheet Список
B1: Дисц | C1: ФИО | D1: Год рождения | E1: Звание | F1: Команда | G1: ДСО, ведомство | H1: Вес 1 | I1: Тренер | J1: вес кат | K1: Вес 2
A2: 1 | B2: ДВ, ДЦ | C2: Маркичев Максим | D2: 1997 | E2: КМС | F2: Нижегородская область | H2: 62.45 | I2: Маркичев Э.Ф. | J2: 63 | K2: 62.45
A3: 2 | B3: ДВ, ДЦ | C3: Крюков Дмитрий | D3: 1993 | E3: КМС | F3: Нижегородская область | H3: 72.35 | I3: Маркичев Э.Ф. | J3: 73 | K3: 72.35
A4: 3 | B4: ДВ | C4: Борисов Евгений | D4: 1978 | E4: МС | F4: Нижегородская область | I4: Разживин А.Е. | J4: 78 | K4: 77.45
A5: 4 | B5: ДЦ | C5: Разживин Андрей | D5: 1986 | E5: МСМК | F5: Нижегородская область | H5: 83.15 | I5: самостоятельно | J5: 85
A6: 5 | B6: ДВ | C6: Зубарев Андрей | D6: 1976 | E6: КМС | F6: Нижегородская область | I6: Меркулин С.В. | J6: 85 | K6: 81.35
A7: 6 | B7: ДВ | C7: Афонин Игорь | D7: 1992 | E7: КМС | F7: Нижегородская область | I7: Разживин А.Е. | J7: 95+ | K7: 100.4
A8: 7
A9: 8 | B9: Р | C9: Сорокина Ольга | D9: 2003 | E9: МС | F9: Нижегородская область | I9: Афонин И.А. | J9: 63 | K9: 62.75
A10: 9 | B10: Р | C10: Бофонова Дарья | D10: 1991 | E10: I | F10: Нижегородская область | I10: Афонин И.А. | J10: 68+ | K10: 72.85
A11: 10 | B11: Р | C11: Кашапова Розана | D11: 2001 | E11: МС | F11: Республика Башкортостан | G11: МАУ ДО СШ «Буревестник» | I11: Минибаев Р.М. | J11: 68 | K11: 67.6
A12: 11 | B12: Р | C12: Уварова Нелли | D12: 2009 | E12: I | F12: Республика Башкортостан | G12: МАУ ДО СШ «Буревестник» | I12: Минибаев Р.М. | J12: 58 | K12: 52.3
A13: 12 | B13: ДВ | C13: Арсланов Айдар | D13: 1985 | E13: КМС | F13: Республика Башкортостан | G13: МАУ ДО СШ №2 г. Туймазы | I13: Ляукин К.С. | J13: 95 | K13: 88.05
A14: 13 | B14: ДВ | C14: Цюпко Егор | D14: 2007 | E14: I | F14: Республика Башкортостан | G14: МАУ ДО ФСМ Чемпион | I14: Абзалова И.В. | J14: 68 | K14: 65.15
A15: 14 | B15: ДВ | C15: Лебедьков Андрей | D15: 1996 | E15: КМС | F15: Республика Башкортостан | G15: МАУДЮЦРС г. Мелеуз | I15: Исаков В.Н. | J15: 95+ | K15: 96.6
A16: 15
A17: 16
A18: 17 | B18: ДВ | C18: Иванов Александр | D18: 2008 | E18: I | F18: Республика Башкортостан | G18: МАУ ДО ФСМ Чемпион г. Белебей | I18: Абзалова И.В. | J18: 95 | K18: 92.3
A19: 18 | B19: ДВ | C19: Хусаинов Радик | D19: 1984 | E19: МС | F19: Республика Башкортостан | G19: МАУДЮЦРС г. Мелеуз | I19: Исаков В.Н. | J19: 85 | K19: 80.65
A20: 19 | B20: Р | C20: Бахтова Ирина | D20: 1999 | E20: МС | F20: Самарская область | I20: Бахтов И.В. | J20: 58 | K20: 56.4
A21: 20 | B21: ДВ | C21: Балдин Александр | D21: 1993 | E21: МС | F21: Самарская область | I21: Бахтов И.В. | J21: 73 | K21: 72.7
A22: 21 | B22: ДВ,ДЦ | C22: Никитин Дмитрий | D22: 2004 | E22: МС | F22: Самарская область | H22: 77.75 | I22: Балдин А.В. | J22: 78 | K22: 77.75
A23: 22 | B23: ДВ,ДЦ, эст | C23: Акульшин Алексей | D23: 1994 | E23: МС | F23: Оренбургская область | G23: СШ №1 им. Л.Д. Ковалевского | H23: 77.8 | I23: Фунтиков Н.Н. | J23: 78 | K23: 77.85
A24: 23 | B24: ДВ,ДЦ | C24: Курунов Анатолий | D24: 1999 | E24: МС | F24: Оренбургская область | G24: СШ №1 им. Л.Д. Ковалевского | H24: 62.55 | I24: Павлов С.П. | J24: 63 | K24: 62.25
A25: 24 | B25: ДВ,ДЦ, эст | C25: Заварзин Павел | D25: 2000 | E25: МС | F25: Оренбургская область | G25: СШ №1 им. Л.Д. Ковалевского | H25: 82.3 | I25: Павлов С.П. | J25: 85 | K25: 82.85
A26: 25 | B26: ДВ,ДЦ, эст | C26: Киякин Александр | D26: 2001 | E26: МС | F26: Оренбургская область | G26: СШ №1 им. Л.Д. Ковалевского | H26: 67.5 | I26: Павлов С.П. | J26: 68 | K26: 67.5
A27: 26 | B27: ДВ | C27: Салихов Рустам | D27: 1982 | E27: МС | F27: Оренбургская область | I27: Фунтиков Н.Н. | J27: 95 | K27: 92.4
A28: 27 | B28: ДЦ, ДВ, эст | C28: Пешков Виталий | D28: 1998 | E28: МС | F28: Оренбургская область | G28: СШ №1 им. Л.Д. Ковалевского | H28: 82 | I28: Лавринов В.А. | J28: 85 | K28: 81.7
A29: 28 | B29: ДЦ,Р | C29: Сатлыкова Эльвира | D29: 2000 | E29: МС | F29: Оренбургская область | G29: СШ №1 им. Л.Д. Ковалевского | H29: 57.8 | I29: Павлов С.П. | J29: 58 | K29: 57.95
A30: 29 | B30: ДЦ,Р | C30: Кузьмичева Ксения | D30: 2004 | E30: КМС | F30: Оренбургская область | G30: СШ №1 им. Л.Д. Ковалевского | H30: 89.35 | I30: Павлов С.П. | J30: 68+ | K30: 89.4
A31: 30 | B31: Р | C31: Кожеватова Василиса | D31: 2002 | E31: КМС | F31: Оренбургская область | G31: СШ №1 им. Л.Д. Ковалевского | I31: Павлов С.П. | J31: 58 | K31: 57.5
A32: 31 | B32: ДЦ, ДВ | C32: Шамкаев Радик | D32: 1990 | E32: КМС | F32: Оренбургская область | G32: СШ №1 им. Л.Д. Ковалевского | H32: 72.25 | I32: Фунтиков Н.Н. | J32: 73 | K32: 72.9
A33: 32 | B33: Р | C33: Голодяева Елена | D33: 2001 | E33: МС | F33: Ульяновская область | G33: ОГКУДО «УСАШ ПСР» | I33: Стафеев А.И. | J33: 58 | K33: 56.5
A34: 33 | B34: Р,Жо,Жп | C34: Попова Анна | D34: 2005 | E34: КМС | F34: Пермский край | G34: МАОУДО ДЮСШ "Вихрь" | I34: Мошев Д.И, Лунев А.Г. | J34: 58 | K34: 50.15
A35: 34 | B35: Жо,Жп | C35: Сибикин Илья | D35: 1994 | E35: КМС | F35: Пермский край | G35: МАОУ «ЦРКМиС ПМО» | I35: Лунев А.Г., Мошев Д.И. | J35: Жонглирование одиночное 16 баллов Жонглирование парное 12 баллов в паре
A36: 35 | B36: Жп | C36: Лунев Кирилл | D36: 2000 | E36: МС | F36: Пермский край | G36: МАОУ «ЦРКМиС ПМО» | I36: Лунев А.Г., Мошев Д.И. | J36: Жонглирование парное 12 балла
A37: 36 | B37: Жо, Жп | C37: Ощепкова Анна | D37: 2009 | E37: КМС | F37: Пермский край | G37: МАОУДО ДЮСШ "Вихрь" | I37: Лунев А.Г. | J37: Жонглирование одиночное 9,7 балла Жонглирование парное 12 балла
A38: 37 | B38: ДЦ,Р | C38: Рогизная Анна | D38: 1998 | E38: КМС | F38: Пермский край | G38: ДО ДС ДЮ «Прикамье» | H38: 108.4 | I38: Мошев Д.И | J38: 68+ | K38: 108
A39: 38 | B39: Жп | C39: Болотов Данила | D39: 2008 | E39: КМС | F39: Пермский край | G39: МАОУДО ДЮСШ "Вихрь" | I39: Лунев А.Г. | J39: Жонглирование парное 11.8 баллов в паре
A40: 39 | B40: Жп | C40: Заякин Ярослав | D40: 2008 | E40: КМС | F40: Пермский край | G40: МАОУДО ДЮСШ "Вихрь" | I40: Лунев А.Г. | J40: Жонглирование парное 11.8 баллов в паре
A41: 40 | B41: ДЦ | C41: Попов Севастьян | D41: 2005 | E41: КМС | F41: Пермский край | G41: МБУ ДО «ДЮСШ «Спарт» | H41: 85.65 | I41: Маматов Г.Т., Мартынов Д.И. | J41: 95
A42: 41 | B42: ДЦ,ДВ | C42: Ярусов Константин | D42: 2006 | E42: КМС | F42: Пермский край | G42: МБУ ДО «ДЮСШ «Спарт» | H42: 67 | I42: Маматов Г.Т. | J42: 68 | K42: 67.45
A43: 42 | B43: ДЦ,ДВ | C43: Лесников Михаил | D43: 2007 | E43: КМС | F43: Пермский край | G43: МБУ ДО «ДЮСШ «Спарт» | H43: 75.75 | I43: Маматов Г.Т. | J43: 78 | K43: 76.5
A44: 43 | B44: ДВ | C44: Утев Руслан | D44: 2005 | E44: КМС | F44: Пермский край | G44: МБУ ДО «ДЮСШ «Спарт» | I44: Маматов Г.Т. | J44: 63 | K44: 62.25
A45: 44 | B45: ДЦ,ДВ | C45: Ошмарин Никита | D45: 2003 | E45: КМС | F45: Пермский край | G45: МБУ ДО «ДЮСШ «Спарт» | H45: 72.85 | I45: Маматов Г.Т. | J45: 73 | K45: 73
A46: 45 | B46: ДЦ,ДВ | C46: Половников Павел | D46: 2002 | E46: КМС | F46: Пермский край | G46: МБУ ДО «ДЮСШ «Спарт» | H46: 59.3 | I46: Маматов Г.Т. | J46: 63 | K46: 59.15
A47: 46 | B47: ДВ, эст | C47: Маликов Данил | D47: 2001 | E47: МС | F47: Пермский край | G47: ДО ДС ДЮ «Прикамье» | I47: Мошев Д.И., Панфилов Г.Н. | J47: 85 | K47: 84.25
A48: 47 | B48: ДЦ,ДВ,эст | C48: Крестьянинов Виктор | D48: 2000 | E48: МС | F48: Пермский край | G48: ДО ДС ДЮ «Прикамье» | H48: 83.8 | I48: Мошев Д.И., Панфилов Г.Н. | J48: 85 | K48: 85
A49: 48 | B49: ДВ | C49: Ермаков Игорь | D49: 1992 | E49: КМС | F49: Пермский край | G49: ДО ДС ДЮ «Прикамье» | I49: Мошев Д.И | J49: 68 | K49: 68
A50: 49 | B50: ДВ,эст | C50: Кодиров Абдумаъруф | D50: 2000 | E50: КМС | F50: Пермский край | G50: ДО ДС ДЮ «Прикамье» | I50: Мошев Д.И | J50: 78 | K50: 77.95
A51: 50 | B51: ДВ, ДЦ | C51: Порцев Роман | D51: 1987 | E51: МС | F51: Пермский край | G51: ДО ДС ДЮ «Прикамье» | H51: 77.35 | I51: Мошев Д.И | J51: 78 | K51: 78
A52: 51 | B52: ДЦ,ДВ | C52: Холов Хусейн | D52: 2001 | E52: КМС | F52: Пермский край | G52: ДО ДС ДЮ «Прикамье» | H52: 62.55 | I52: Мошев Д.И | J52: 63 | K52: 62.5
A53: 52 | B53: Р | C53: Нечаева Анастасия | D53: 2000 | E53: КМС | F53: Пермский край | G53: ДО ДС ДЮ «Прикамье» | I53: Мошев Д.И | J53: 68+ | K53: 108
A54: 53 | B54: ДВ | C54: Гатаулин Ринат | D54: 2000 | E54: КМС | F54: Пермский край | G54: ДЮСШ г. Кизел | I54: Гатауллин Р.Х. | J54: 78 | K54: 75.65
A55: 54 | B55: ДВ,эст | C55: Бардин Максим | D55: 1990 | E55: КМС | F55: Пермский край | G55: ДО ДС ДЮ «Прикамье» | I55: Мошев Д.И, Лунев А.Г. | J55: 95 | K55: 91.25
A56: 55 | B56: ДВ | C56: Воронов Николай | D56: 1990 | E56: КМС | F56: Пермский край | G56: ДО ДС ДЮ «Прикамье» | I56: Поварницын С.А. | J56: 95+ | K56: 96.65
A57: 56 | B57: ДЦ,ДВ | C57: Останин Даниил | D57: 2005 | E57: КМС | F57: Пермский край | G57: ДО ДС ДЮ «Прикамье» | H57: 57.05 | I57: Мошев Д.И | J57: 63 | K57: 57.05
A58: 57 | B58: ДВ, ДЦ | C58: Носков Андрей | D58: 1993 | E58: КМС | F58: Пермский край | G58: ДО ДС ДЮ «Прикамье» | H58: 98.35 | I58: Мошев Д.И | J58: 95+ | K58: 97.9
A59: 58 | B59: ДЦ,ДВ | C59: Попов Кирилл | D59: 2008 | E59: КМС | F59: Пермский край | G59: МБУ ДО «ДЮСШ «Спарт» | H59: 60.8 | I59: Маматов Г.Т. | J59: 63 | K59: 61.45
A60: 59 | B60: ДЦ,Р | C60: Порываева Татьяна | D60: 1990 | E60: КМС | F60: Пермский край | G60: ДО ДС ДЮ «Прикамье» | H60: 66.15 | I60: Низовкин А.А. | J60: 68 | K60: 65.5
A61: 60 | B61: ДЦ,Р | C61: Попова Мария | D61: 2005 | E61: КМС | F61: Пермский край | G61: ССК "Китнаспорте" | H61: 79.25 | I61: Паклин П.А. | J61: 68+ | K61: 80.4
A62: 61 | B62: Р | C62: Щербакова Татьяна | D62: 1982 | E62: КМС | F62: Пермский край | G62: МАОУДО ДЮСШ "Вихрь" | I62: Лунев А.Г., Паклин П.А. | J62: 68+ | K62: 81.1
A63: 62 | B63: ДВ | C63: Алексеев Радиф | D63: 1989 | E63: КМС | F63: Чувашская республика | I63: Бронюков Ю.А., Максимов С.И. | J63: 78 | K63: 76.75
A64: 63 | B64: ДВ | C64: Енедеров Димитрий | D64: 1984 | E64: МС | F64: Чувашская республика | I64: Глинкин Б.Н | J64: 85 | K64: 84.05
A65: 64 | B65: ДЦ | C65: Константинов Александр | D65: 2003 | E65: КМС | F65: Чувашская республика | H65: 114.8 | I65: Глинкин Б.Н | J65: 95+
A66: 65 | B66: ДВ | C66: Узюкин Анатолий | D66: 2000 | E66: МС | F66: Чувашская республика | I66: Глинкин Б.Н | J66: 68 | K66: 67.75
A67: 66 | B67: ДВ | C67: Иванов Иван | D67: 2007 | E67: I | F67: Чувашская республика | I67: Понихидкин В.А | J67: 78 | K67: 73.8
A68: 67 | B68: Р | C68: Николаева Карина | D68: 2010 | E68: I | F68: Чувашская республика | I68: Понихидкин В.А | J68: 58 | K68: 53
A69: 68 | F69: Чувашская республика | I69: Максимов С.И., Бронюков Ю.А. | J69: 78
A70: 69 | B70: ДЦ,ДВ,эст | C70: Булдаков Никита | D70: 1997 | E70: МС | F70: Удмуртская республика | H70: 90.45 | I70: Веретенников С.А. | J70: 95 | K70: 90.7
A71: 70 | B71: ДВ | C71: Шиляев Александр | D71: 1988 | E71: КМС | F71: Удмуртская республика | I71: Шиляев И.Н. | J71: 68 | K71: 67.5
A72: 71 | B72: ДВ,эст | C72: Шиляев Иван | D72: 1996 | E72: МС | F72: Удмуртская республика | I72: Несмелов В.А. | J72: 85 | K72: 83.4
A73: 72 | B73: ДВ | C73: Громов Алексей | D73: 1995 | E73: КМС | F73: Удмуртская республика | I73: Шиляев И.Н. | J73: 68 | K73: 67.05
A74: 73 | B74: ДВ, эст | C74: Бурков Юрий | D74: 1987 | E74: КМС | F74: Удмуртская республика | I74: Шиляев И.Н. | J74: 73 | K74: 72.75
A75: 74 | B75: ДВ,эст | C75: Гарифуллин Константин | D75: 1999 | E75: КМС | F75: Удмуртская республика | I75: Шиляев И.Н. | J75: 73 | K75: 72
A76: 75 | B76: ДЦ,эст | C76: Клепиков Артём | D76: 1998 | E76: МСМК | F76: Кировская область | G76: КОГАУ «СШОР «Юность» | H76: 91.65 | I76: Малков Е.И. | J76: 95
A77: 76 | B77: ДЦ,эст | C77: Новоселов Андрей | D77: 2004 | E77: МС | F77: Кировская область | G77: КОГАУ «СШОР «Юность» | H77: 68 | I77: Малков Е.И. | J77: 68
A78: 77 | B78: ДЦ,эст | C78: Алцыбеев Никита | D78: 2003 | E78: МС | F78: Кировская область | G78: КОГАУ «СШОР «Юность» | H78: 77.95 | I78: Малков Е.И. | J78: 78
A79: 78 | B79: ДЦ | C79: Перминов Максим | D79: 1994 | E79: КМС | F79: Кировская область | G79: КОГАУ «СШОР «Юность» | H79: 72.45 | I79: Малков Е.И. | J79: 73
A80: 79 | B80: ДЦ,эст | C80: Кашин Кирилл | D80: 2003 | E80: КМС | F80: Кировская область | G80: КОГАУ «СШОР «Юность» | H80: 82.35 | I80: Малков Е.И. | J80: 85
A81: 80 | B81: ДВ | C81: Вахонин Егор | D81: 2005 | E81: МС | F81: Кировская область | G81: КОГАУ «СШОР «Юность» | I81: Малков Е.И. | J81: 85 | K81: 84
A82: 81 | B82: ДВ | C82: Медведев Максим | D82: 2002 | E82: КМС | F82: Кировская область | G82: КОГАУ «СШОР «Юность» | I82: Малков Е.И. | J82: 73 | K82: 72.75
A83: 82 | B83: ДВ | C83: Семушин Дмитрий | D83: 2008 | E83: I | F83: Кировская область | G83: КОГАУ «СШОР «Юность» | I83: Малков Е.И. | J83: 78 | K83: 75.15
A84: 83 | B84: ДВ | C84: Тимушев Олег | D84: 1990 | E84: КМС | F84: Кировская область | G84: КОГАУ «СШОР «Юность» | I84: Малков Е.И. | J84: 95+ | K84: 106.1
A85: 84 | B85: ДВ | C85: Лебедев Владислав | D85: 1997 | E85: КМС | F85: Кировская область | G85: КОГАУ «СШОР «Юность» | I85: Малков Е.И. | J85: 95 | K85: 93.65
A86: 85 | B86: ДЦ,Р | C86: Матвеева Елена | D86: 1974 | E86: МСМК | F86: Кировская область | G86: КОГАУ «СШОР «Юность» | H86: 63.3 | I86: Малков Е.И. | J86: 68 | K86: 63.15
A87: 86 | B87: ДЦ,Р | C87: Вершинина Дарья | D87: 2009 | E87: КМС | F87: Кировская область | G87: КОГАУ «СШОР «Юность» | H87: 76.25 | I87: Малков Е.И. | J87: 68+ | K87: 76.35
A88: 87 | B88: Р | C88: Дербенева Ольга | D88: 1970 | E88: КМС | F88: Кировская область | G88: МБУ ДО СШ пгт Тужа | I88: Платунов В.В. | J88: 68+ | K88: 111.85
A89: 88 | B89: Жо | C89: Платунов Виталий | D89: 1958 | E89: I | F89: Кировская область | G89: МБУ ДО СШ пгт Тужа | I89: Самостоятельно | J89: Жонглирование одиночное/11.0 б
A90: 89 | B90: Жо | C90: Платунова Софья | D90: 2010 | E90: I | F90: Кировская область | G90: МБУ ДО СШ пгт Тужа | I90: Платунов В.В. | J90: Жонглирование одиночное/16.35 б
A91: 90 | B91: Жо | C91: Вершинин Михаил | D91: 2007 | E91: I | F91: Кировская область | G91: МБУ ДО СШ пгт Тужа | I91: Платунов В.В. | J91: Жонглирование одиночное/10.2 б
A92: 91 | B92: ДЦ,ДВ | C92: Ляукин Кирилл | D92: 1999 | E92: МС | F92: Республика Татарстан | G92: РОО «ФГС РТ» | H92: 77.95 | I92: Низамова А.А. | J92: 78 | K92: 78
A93: 92 | B93: ДВ | C93: Брагин Аркадий | D93: 1997 | E93: I | F93: Республика Татарстан | G93: РОО «ФГС РТ» | I93: Ляукин К.С. | J93: 95 | K93: 94.2
A94: 93 | B94: ДВ | C94: Фирсов Ростислав | D94: 1992 | E94: I | F94: Республика Татарстан | G94: РОО «ФГС РТ» | I94: Ляукин К.С. | J94: 95+ | K94: 99.5
A95: 94
A96: 95 | B96: ДВ | C96: Курочкин Никита | D96: 2008 | E96: I | F96: Республика Татарстан | G96: МБУ ДО СШ «Татнефть Олимп» Чистопольского района РТ | I96: Гиниатуллин А.З. | J96: 95+ | K96: 116.1
A97: 96
A98: 97 | B98: ДЦ | C98: Пузанкова Анастасия | D98: 2006 | E98: КМС | F98: Республика Татарстан | G98: МБУ ДО СШ «Татнефть Олимп» Чистопольского района РТ | H98: 57.55 | I98: Гиниатуллин А.З. | J98: 58
A99: 98 | B99: Р | C99: Бурмакина Екатерина | D99: 2005 | E99: КМС | F99: Республика Татарстан | G99: МБУ ДО СШ «Татнефть Олимп» Чистопольского района РТ | I99: Гиниатуллин А.З. | J99: 63 | K99: 61.55

Sheet Р 58
B1: Министерство спорта Российской Федерации.
B2: Общероссийская общественная организация "Всероссийская федерация гиревого спорта".
B3: ='ДЦ 63'!$B$3:$Q$3 -> Министерство физической культуры и спорта Пермского края
B4: ='ДЦ 63'!$B$4:$Q$4 -> Региональное отделение общероссийской общественной организации "ВФГС в Пермском крае"
B6: 12-14 апреля 2024 г. | E6: ПРОТОКОЛ | O6: Вес гирь 24 кг.
B7: г. Пермь | E7: Чемпионата Приволжского федерального округа | O7: Регламент времени - 10 мин.
E8: ='ДЦ 63'!$E$8:$N$8 -> ЕКП № 2065590017021409 | O8: Разрядные нормативы
B9: ='ДЦ 63'!$B$9:$D$9 -> Количество участников - 92 | E9: Рывок (женщины) | O9: МСМК | P9: МС | Q9: КМС
B10: ='ДЦ 63'!$B$10:$D$10 -> Количество регионов - 10 | E10: Весовая категория 58 кг | O10: 146 | P10: 120 | Q10: 66
B12: Место | C12: Фамилия Имя | E12: Дата рождения | F12: Звание | G12: Команда | H12: ДСО, ведомство | I12: Соб. вес | J12: Рывок | K12: Рывок | M12: Сумма дв-рья | N12: Ком. очки | O12: Вып. разряд | P12: ФИО тренера(тренеров)
K13: Сумма | L13: Очки
A14: 19 | B14: 1 | C14: =VLOOKUP(A14,Список!$A$2:$J$123,3) -> Бахтова Ирина | E14: =VLOOKUP(A14,Список!$A$2:$J$123,4) -> 1999 | F14: =VLOOKUP(A14,Список!$A$2:$J$123,5) -> МС | G14: =VLOOKUP(A14,Список!$A$2:$J$123,6) -> Самарская область | I14: =VLOOKUP(A14,Список!$A$2:$K$123,11) -> 56.4 | J14: 153 | N14: =IF(B14=1,20,IF(B14=2,18,IF(B14=3,16,IF(B14>19,0,19-B14)))) -> 20 | O14: =IF(AND(NOT(OR(F14="МСМК",F14="ЗМС")),J14>=$O$10),"+МСМК",IF(AND(OR(F14="МСМК",F14="ЗМС"),J14>=$O$10),"МСМК",IF(AND(NOT(OR(F14="МСМК",F14="МС",F14="ЗМС")),J14>=$P$10),"+МС",IF(AND(OR(F14="МСМК",F14="МС",F14="ЗМС"),J14>=$P$10),"МС",IF(AND(NOT(OR(F14="ЗМС",F14="МСМК",F14="МС",F14="КМС")),J14>=$Q$10),"+КМС",IF(AND(OR(F14="ЗМС",F14="МСМК",F14="МС",F14="КМС"),J14>=$Q$10),"КМС","-")))))) -> +МСМК | P14: =VLOOKUP(A14,Список!$A$2:$J$123,9) -> Бахтов И.В.
A15: 32 | B15: 2 | C15: =VLOOKUP(A15,Список!$A$2:$J$123,3) -> Голодяева Елена | E15: =VLOOKUP(A15,Список!$A$2:$J$123,4) -> 2001 | F15: =VLOOKUP(A15,Список!$A$2:$J$123,5) -> МС | G15: =VLOOKUP(A15,Список!$A$2:$J$123,6) -> Ульяновская область | H15: =VLOOKUP(A15,Список!$A$2:$J$123,7) -> ОГКУДО «УСАШ ПСР» | I15: =VLOOKUP(A15,Список!$A$2:$K$123,11) -> 56.5 | J15: 151 | N15: =IF(B15=1,20,IF(B15=2,18,IF(B15=3,16,IF(B15>19,0,19-B15)))) -> 18 | O15: =IF(AND(NOT(OR(F15="МСМК",F15="ЗМС")),J15>=$O$10),"+МСМК",IF(AND(OR(F15="МСМК",F15="ЗМС"),J15>=$O$10),"МСМК",IF(AND(NOT(OR(F15="МСМК",F15="МС",F15="ЗМС")),J15>=$P$10),"+МС",IF(AND(OR(F15="МСМК",F15="МС",F15="ЗМС"),J15>=$P$10),"МС",IF(AND(NOT(OR(F15="ЗМС",F15="МСМК",F15="МС",F15="КМС")),J15>=$Q$10),"+КМС",IF(AND(OR(F15="ЗМС",F15="МСМК",F15="МС",F15="КМС"),J15>=$Q$10),"КМС","-")))))) -> +МСМК | P15: =VLOOKUP(A15,Список!$A$2:$J$123,9) -> Стафеев А.И.
A16: 30 | B16: 3 | C16: =VLOOKUP(A16,Список!$A$2:$J$123,3) -> Кожеватова Василиса | E16: =VLOOKUP(A16,Список!$A$2:$J$123,4) -> 2002 | F16: =VLOOKUP(A16,Список!$A$2:$J$123,5) -> КМС | G16: =VLOOKUP(A16,Список!$A$2:$J$123,6) -> Оренбургская область | H16: =VLOOKUP(A16,Список!$A$2:$J$123,7) -> СШ №1 им. Л.Д. Ковалевского | I16: =VLOOKUP(A16,Список!$A$2:$K$123,11) -> 57.5 | J16: 111 | N16: =IF(B16=1,20,IF(B16=2,18,IF(B16=3,16,IF(B16>19,0,19-B16)))) -> 16 | O16: =IF(AND(NOT(OR(F16="МСМК",F16="ЗМС")),J16>=$O$10),"+МСМК",IF(AND(OR(F16="МСМК",F16="ЗМС"),J16>=$O$10),"МСМК",IF(AND(NOT(OR(F16="МСМК",F16="МС",F16="ЗМС")),J16>=$P$10),"+МС",IF(AND(OR(F16="МСМК",F16="МС",F16="ЗМС"),J16>=$P$10),"МС",IF(AND(NOT(OR(F16="ЗМС",F16="МСМК",F16="МС",F16="КМС")),J16>=$Q$10),"+КМС",IF(AND(OR(F16="ЗМС",F16="МСМК",F16="МС",F16="КМС"),J16>=$Q$10),"КМС","-")))))) -> КМС | P16: =VLOOKUP(A16,Список!$A$2:$J$123,9) -> Павлов С.П.
A17: 28 | B17: 4 | C17: =VLOOKUP(A17,Список!$A$2:$J$123,3) -> Сатлыкова Эльвира | E17: =VLOOKUP(A17,Список!$A$2:$J$123,4) -> 2000 | F17: =VLOOKUP(A17,Список!$A$2:$J$123,5) -> МС | G17: =VLOOKUP(A17,Список!$A$2:$J$123,6) -> Оренбургская область | H17: =VLOOKUP(A17,Список!$A$2:$J$123,7) -> СШ №1 им. Л.Д. Ковалевского | I17: =VLOOKUP(A17,Список!$A$2:$K$123,11) -> 57.95 | J17: 84 | N17: =IF(B17=1,20,IF(B17=2,18,IF(B17=3,16,IF(B17>19,0,19-B17)))) -> 15 | O17: =IF(AND(NOT(OR(F17="МСМК",F17="ЗМС")),J17>=$O$10),"+МСМК",IF(AND(OR(F17="МСМК",F17="ЗМС"),J17>=$O$10),"МСМК",IF(AND(NOT(OR(F17="МСМК",F17="МС",F17="ЗМС")),J17>=$P$10),"+МС",IF(AND(OR(F17="МСМК",F17="МС",F17="ЗМС"),J17>=$P$10),"МС",IF(AND(NOT(OR(F17="ЗМС",F17="МСМК",F17="МС",F17="КМС")),J17>=$Q$10),"+КМС",IF(AND(OR(F17="ЗМС",F17="МСМК",F17="МС",F17="КМС"),J17>=$Q$10),"КМС","-")))))) -> КМС | P17: =VLOOKUP(A17,Список!$A$2:$J$123,9) -> Павлов С.П.
A18: 67 | B18: 5 | C18: =VLOOKUP(A18,Список!$A$2:$J$123,3) -> Николаева Карина | E18: =VLOOKUP(A18,Список!$A$2:$J$123,4) -> 2010 | F18: =VLOOKUP(A18,Список!$A$2:$J$123,5) -> I | G18: =VLOOKUP(A18,Список!$A$2:$J$123,6) -> Чувашская республика | I18: =VLOOKUP(A18,Список!$A$2:$K$123,11) -> 53 | J18: 49 | N18: =IF(B18=1,20,IF(B18=2,18,IF(B18=3,16,IF(B18>19,0,19-B18)))) -> 14 | O18: =IF(AND(NOT(OR(F18="МСМК",F18="ЗМС")),J18>=$O$10),"+МСМК",IF(AND(OR(F18="МСМК",F18="ЗМС"),J18>=$O$10),"МСМК",IF(AND(NOT(OR(F18="МСМК",F18="МС",F18="ЗМС")),J18>=$P$10),"+МС",IF(AND(OR(F18="МСМК",F18="МС",F18="ЗМС"),J18>=$P$10),"МС",IF(AND(NOT(OR(F18="ЗМС",F18="МСМК",F18="МС",F18="КМС")),J18>=$Q$10),"+КМС",IF(AND(OR(F18="ЗМС",F18="МСМК",F18="МС",F18="КМС"),J18>=$Q$10),"КМС","-")))))) -> - | P18: =VLOOKUP(A18,Список!$A$2:$J$123,9) -> Понихидкин В.А
A19: 33 | B19: 6 | C19: =VLOOKUP(A19,Список!$A$2:$J$123,3) -> Попова Анна | E19: =VLOOKUP(A19,Список!$A$2:$J$123,4) -> 2005 | F19: =VLOOKUP(A19,Список!$A$2:$J$123,5) -> КМС | G19: =VLOOKUP(A19,Список!$A$2:$J$123,6) -> Пермский край | H19: =VLOOKUP(A19,Список!$A$2:$J$123,7) -> МАОУДО ДЮСШ "Вихрь" | I19: =VLOOKUP(A19,Список!$A$2:$K$123,11) -> 50.15 | J19: 42 | N19: =IF(B19=1,20,IF(B19=2,18,IF(B19=3,16,IF(B19>19,0,19-B19)))) -> 13 | O19: =IF(AND(NOT(OR(F19="МСМК",F19="ЗМС")),J19>=$O$10),"+МСМК",IF(AND(OR(F19="МСМК",F19="ЗМС"),J19>=$O$10),"МСМК",IF(AND(NOT(OR(F19="МСМК",F19="МС",F19="ЗМС")),J19>=$P$10),"+МС",IF(AND(OR(F19="МСМК",F19="МС",F19="ЗМС"),J19>=$P$10),"МС",IF(AND(NOT(OR(F19="ЗМС",F19="МСМК",F19="МС",F19="КМС")),J19>=$Q$10),"+КМС",IF(AND(OR(F19="ЗМС",F19="МСМК",F19="МС",F19="КМС"),J19>=$Q$10),"КМС","-")))))) -> - | P19: =VLOOKUP(A19,Список!$A$2:$J$123,9) -> Мошев Д.И, Лунев А.Г.
A20: 11 | B20: 7 | C20: =VLOOKUP(A20,Список!$A$2:$J$123,3) -> Уварова Нелли | E20: =VLOOKUP(A20,Список!$A$2:$J$123,4) -> 2009 | F20: =VLOOKUP(A20,Список!$A$2:$J$123,5) -> I | G20: =VLOOKUP(A20,Список!$A$2:$J$123,6) -> Республика Башкортостан | H20: =VLOOKUP(A20,Список!$A$2:$J$123,7) -> МАУ ДО СШ «Буревестник» | I20: =VLOOKUP(A20,Список!$A$2:$K$123,11) -> 52.3 | J20: 42 | N20: =IF(B20=1,20,IF(B20=2,18,IF(B20=3,16,IF(B20>19,0,19-B20)))) -> 12 | O20: =IF(AND(NOT(OR(F20="МСМК",F20="ЗМС")),J20>=$O$10),"+МСМК",IF(AND(OR(F20="МСМК",F20="ЗМС"),J20>=$O$10),"МСМК",IF(AND(NOT(OR(F20="МСМК",F20="МС",F20="ЗМС")),J20>=$P$10),"+МС",IF(AND(OR(F20="МСМК",F20="МС",F20="ЗМС"),J20>=$P$10),"МС",IF(AND(NOT(OR(F20="ЗМС",F20="МСМК",F20="МС",F20="КМС")),J20>=$Q$10),"+КМС",IF(AND(OR(F20="ЗМС",F20="МСМК",F20="МС",F20="КМС"),J20>=$Q$10),"КМС","-")))))) -> - | P20: =VLOOKUP(A20,Список!$A$2:$J$123,9) -> Минибаев Р.М.
C23: Главный судья | I23: ='ДЦ 63'!$I$22 -> Ческис О.И., 1К (Пермский край)
C25: Главный секретарь | I25: ='ДЦ 63'!$I$24 -> Паклина М.В., ВК (Пермский край)
C27: Зам. главного судьи | I27: ='ДЦ 63'!$I$26 -> Паклин П.А., ВК (Пермский край)
C29: Зам. главного секретаря | I29: ='ДЦ 63'!$I$28 -> Мошев Д.И., 1К (Пермский край)

Sheet Р 63
B1: Министерство спорта Российской Федерации.
B2: Общероссийская общественная организация "Всероссийская федерация гиревого спорта".
B3: ='ДЦ 63'!$B$3:$Q$3 -> Министерство физической культуры и спорта Пермского края
B4: ='ДЦ 63'!$B$4:$Q$4 -> Региональное отделение общероссийской общественной организации "ВФГС в Пермском крае"
B6: 12-14 апреля 2024 г. | E6: ПРОТОКОЛ | O6: Вес гирь 32 кг.
B7: г. Пермь | E7: Чемпионата Приволжского федерального округа | O7: Регламент времени - 10 мин.
E8: ='ДЦ 63'!$E$8:$N$8 -> ЕКП № 2065590017021409 | O8: Разрядные нормативы
B9: ='ДЦ 63'!$B$9:$D$9 -> Количество участников - 92 | E9: Рывок (женщины) | O9: МСМК | P9: МС | Q9: КМС
B10: ='ДЦ 63'!$B$10:$D$10 -> Количество регионов - 10 | E10: Весовая категория 63 кг | O10: 159 | P10: 126 | Q10: 73
B12: Место | C12: Фамилия Имя | E12: Дата рождения | F12: Звание | G12: Команда | H12: ДСО, ведомство | I12: Соб. вес | J12: Рывок | K12: Рывок | M12: Сумма дв-рья | N12: Ком. очки | O12: Вып. разряд | P12: ФИО тренера(тренеров)
K13: Сумма | L13: Очки
A14: 8 | B14: 1 | C14: =VLOOKUP(A14,Список!$A$2:$J$123,3) -> Сорокина Ольга | E14: =VLOOKUP(A14,Список!$A$2:$J$123,4) -> 2003 | F14: =VLOOKUP(A14,Список!$A$2:$J$123,5) -> МС | G14: =VLOOKUP(A14,Список!$A$2:$J$123,6) -> Нижегородская область | I14: =VLOOKUP(A14,Список!$A$2:$K$123,11) -> 62.75 | J14: 165 | N14: =IF(B14=1,20,IF(B14=2,18,IF(B14=3,16,IF(B14>19,0,19-B14)))) -> 20 | O14: =IF(AND(NOT(OR(F14="МСМК",F14="ЗМС")),J14>=$O$10),"+МСМК",IF(AND(OR(F14="МСМК",F14="ЗМС"),J14>=$O$10),"МСМК",IF(AND(NOT(OR(F14="МСМК",F14="МС",F14="ЗМС")),J14>=$P$10),"+МС",IF(AND(OR(F14="МСМК",F14="МС",F14="ЗМС"),J14>=$P$10),"МС",IF(AND(NOT(OR(F14="ЗМС",F14="МСМК",F14="МС",F14="КМС")),J14>=$Q$10),"+КМС",IF(AND(OR(F14="ЗМС",F14="МСМК",F14="МС",F14="КМС"),J14>=$Q$10),"КМС","-")))))) -> +МСМК | P14: =VLOOKUP(A14,Список!$A$2:$J$123,9) -> Афонин И.А.
A15: 98 | B15: 2 | C15: =VLOOKUP(A15,Список!$A$2:$J$123,3) -> Бурмакина Екатерина | E15: =VLOOKUP(A15,Список!$A$2:$J$123,4) -> 2005 | F15: =VLOOKUP(A15,Список!$A$2:$J$123,5) -> КМС | G15: =VLOOKUP(A15,Список!$A$2:$J$123,6) -> Республика Татарстан | H15: =VLOOKUP(A15,Список!$A$2:$J$123,7) -> МБУ ДО СШ «Татнефть Олимп» Чистопольского района РТ | I15: =VLOOKUP(A15,Список!$A$2:$K$123,11) -> 61.55 | J15: 114 | N15: =IF(B15=1,20,IF(B15=2,18,IF(B15=3,16,IF(B15>19,0,19-B15)))) -> 18 | O15: =IF(AND(NOT(OR(F15="МСМК",F15="ЗМС")),J15>=$O$10),"+МСМК",IF(AND(OR(F15="МСМК",F15="ЗМС"),J15>=$O$10),"МСМК",IF(AND(NOT(OR(F15="МСМК",F15="МС",F15="ЗМС")),J15>=$P$10),"+МС",IF(AND(OR(F15="МСМК",F15="МС",F15="ЗМС"),J15>=$P$10),"МС",IF(AND(NOT(OR(F15="ЗМС",F15="МСМК",F15="МС",F15="КМС")),J15>=$Q$10),"+КМС",IF(AND(OR(F15="ЗМС",F15="МСМК",F15="МС",F15="КМС"),J15>=$Q$10),"КМС","-")))))) -> КМС | P15: =VLOOKUP(A15,Список!$A$2:$J$123,9) -> Гиниатуллин А.З.
C17: Главный судья | I17: ='ДЦ 63'!$I$22 -> Ческис О.И., 1К (Пермский край)
C19: Главный секретарь | I19: ='ДЦ 63'!$I$24 -> Паклина М.В., ВК (Пермский край)
C21: Зам. главного судьи | I21: ='ДЦ 63'!$I$26 -> Паклин П.А., ВК (Пермский край)
C23: Зам. главного секретаря | I23: ='ДЦ 63'!$I$28 -> Мошев Д.И., 1К (Пермский край)

Sheet Р 68
B1: Министерство спорта Российской Федерации.
B2: Общероссийская общественная организация "Всероссийская федерация гиревого спорта".
B3: ='ДЦ 63'!$B$3:$Q$3 -> Министерство физической культуры и спорта Пермского края
B4: ='ДЦ 63'!$B$4:$Q$4 -> Региональное отделение общероссийской общественной организации "ВФГС в Пермском крае"
B6: 12-14 апреля 2024 г. | E6: ПРОТОКОЛ | O6: Вес гирь 32 кг.
B7: г. Пермь | E7: Чемпионата Приволжского федерального округа | O7: Регламент времени - 10 мин.
E8: ='ДЦ 63'!$E$8:$N$8 -> ЕКП № 2065590017021409 | O8: Разрядные нормативы
B9: ='ДЦ 63'!$B$9:$D$9 -> Количество участников - 92 | E9: Рывок (женщины) | O9: МСМК | P9: МС | Q9: КМС
B10: ='ДЦ 63'!$B$10:$D$10 -> Количество регионов - 10 | E10: Весовая категория 68 кг | O10: 167 | P10: 135 | Q10: 79
B12: Место | C12: Фамилия Имя | E12: Дата рождения | F12: Звание | G12: Команда | H12: ДСО, ведомство | I12: Соб. вес | J12: Рывок | K12: Рывок | M12: Сумма дв-рья | N12: Ком. очки | O12: Вып. разряд | P12: ФИО тренера(тренеров)
K13: Сумма | L13: Очки
A14: 10 | B14: 1 | C14: =VLOOKUP(A14,Список!$A$2:$J$123,3) -> Кашапова Розана | E14: =VLOOKUP(A14,Список!$A$2:$J$123,4) -> 2001 | F14: =VLOOKUP(A14,Список!$A$2:$J$123,5) -> МС | G14: =VLOOKUP(A14,Список!$A$2:$J$123,6) -> Республика Башкортостан | H14: =VLOOKUP(A14,Список!$A$2:$J$123,7) -> МАУ ДО СШ «Буревестник» | I14: =VLOOKUP(A14,Список!$A$2:$K$123,11) -> 67.6 | J14: 161 | N14: =IF(B14=1,20,IF(B14=2,18,IF(B14=3,16,IF(B14>19,0,19-B14)))) -> 20 | O14: =IF(AND(NOT(OR(F14="МСМК",F14="ЗМС")),J14>=$O$10),"+МСМК",IF(AND(OR(F14="МСМК",F14="ЗМС"),J14>=$O$10),"МСМК",IF(AND(NOT(OR(F14="МСМК",F14="МС",F14="ЗМС")),J14>=$P$10),"+МС",IF(AND(OR(F14="МСМК",F14="МС",F14="ЗМС"),J14>=$P$10),"МС",IF(AND(NOT(OR(F14="ЗМС",F14="МСМК",F14="МС",F14="КМС")),J14>=$Q$10),"+КМС",IF(AND(OR(F14="ЗМС",F14="МСМК",F14="МС",F14="КМС"),J14>=$Q$10),"КМС","-")))))) -> МС | P14: =VLOOKUP(A14,Список!$A$2:$J$123,9) -> Минибаев Р.М.
A15: 85 | B15: 2 | C15: =VLOOKUP(A15,Список!$A$2:$J$123,3) -> Матвеева Елена | E15: =VLOOKUP(A15,Список!$A$2:$J$123,4) -> 1974 | F15: =VLOOKUP(A15,Список!$A$2:$J$123,5) -> МСМК | G15: =VLOOKUP(A15,Список!$A$2:$J$123,6) -> Кировская область | H15: =VLOOKUP(A15,Список!$A$2:$J$123,7) -> КОГАУ «СШОР «Юность» | I15: =VLOOKUP(A15,Список!$A$2:$K$123,11) -> 63.15 | J15: 141 | N15: =IF(B15=1,20,IF(B15=2,18,IF(B15=3,16,IF(B15>19,0,19-B15)))) -> 18 | O15: =IF(AND(NOT(OR(F15="МСМК",F15="ЗМС")),J15>=$O$10),"+МСМК",IF(AND(OR(F15="МСМК",F15="ЗМС"),J15>=$O$10),"МСМК",IF(AND(NOT(OR(F15="МСМК",F15="МС",F15="ЗМС")),J15>=$P$10),"+МС",IF(AND(OR(F15="МСМК",F15="МС",F15="ЗМС"),J15>=$P$10),"МС",IF(AND(NOT(OR(F15="ЗМС",F15="МСМК",F15="МС",F15="КМС")),J15>=$Q$10),"+КМС",IF(AND(OR(F15="ЗМС",F15="МСМК",F15="МС",F15="КМС"),J15>=$Q$10),"КМС","-")))))) -> МС | P15: =VLOOKUP(A15,Список!$A$2:$J$123,9) -> Малков Е.И.
A16: 59 | B16: 3 | C16: =VLOOKUP(A16,Список!$A$2:$J$123,3) -> Порываева Татьяна | E16: =VLOOKUP(A16,Список!$A$2:$J$123,4) -> 1990 | F16: =VLOOKUP(A16,Список!$A$2:$J$123,5) -> КМС | G16: =VLOOKUP(A16,Список!$A$2:$J$123,6) -> Пермский край | H16: =VLOOKUP(A16,Список!$A$2:$J$123,7) -> ДО ДС ДЮ «Прикамье» | I16: =VLOOKUP(A16,Список!$A$2:$K$123,11) -> 65.5 | J16: 92 | N16: =IF(B16=1,20,IF(B16=2,18,IF(B16=3,16,IF(B16>19,0,19-B16)))) -> 16 | O16: =IF(AND(NOT(OR(F16="МСМК",F16="ЗМС")),J16>=$O$10),"+МСМК",IF(AND(OR(F16="МСМК",F16="ЗМС"),J16>=$O$10),"МСМК",IF(AND(NOT(OR(F16="МСМК",F16="МС",F16="ЗМС")),J16>=$P$10),"+МС",IF(AND(OR(F16="МСМК",F16="МС",F16="ЗМС"),J16>=$P$10),"МС",IF(AND(NOT(OR(F16="ЗМС",F16="МСМК",F16="МС",F16="КМС")),J16>=$Q$10),"+КМС",IF(AND(OR(F16="ЗМС",F16="МСМК",F16="МС",F16="КМС"),J16>=$Q$10),"КМС","-")))))) -> КМС | P16: =VLOOKUP(A16,Список!$A$2:$J$123,9) -> Низовкин А.А.
C18: Главный судья | I18: ='ДЦ 63'!$I$22 -> Ческис О.И., 1К (Пермский край)
C20: Главный секретарь | I20: ='ДЦ 63'!$I$24 -> Паклина М.В., ВК (Пермский край)
C22: Зам. главного судьи | I22: ='ДЦ 63'!$I$26 -> Паклин П.А., ВК (Пермский край)
C24: Зам. главного секретаря | I24: ='ДЦ 63'!$I$28 -> Мошев Д.И., 1К (Пермский край)

Sheet Р 68+
B1: Министерство спорта Российской Федерации.
B2: Общероссийская общественная организация "Всероссийская федерация гиревого спорта".
B3: ='ДЦ 63'!$B$3:$Q$3 -> Министерство физической культуры и спорта Пермского края
B4: ='ДЦ 63'!$B$4:$Q$4 -> Региональное отделение общероссийской общественной организации "ВФГС в Пермском крае"
B6: 12-14 апреля 2024 г. | E6: ПРОТОКОЛ | O6: Вес гирь 32 кг.
B7: г. Пермь | E7: Чемпионата Приволжского федерального округа | O7: Регламент времени - 10 мин.
E8: ='ДЦ 63'!$E$8:$N$8 -> ЕКП № 2065590017021409 | O8: Разрядные нормативы
B9: ='ДЦ 63'!$B$9:$D$9 -> Количество участников - 92 | E9: Рывок (женщины) | O9: МСМК | P9: МС | Q9: КМС
B10: ='ДЦ 63'!$B$10:$D$10 -> Количество регионов - 10 | E10: Весовая категория 68+ кг | O10: 181 | P10: 146 | Q10: 86
B12: Место | C12: Фамилия Имя | E12: Дата рождения | F12: Звание | G12: Команда | H12: ДСО, ведомство | I12: Соб. вес | J12: Рывок | K12: Рывок | M12: Сумма дв-рья | N12: Ком. очки | O12: Вып. разряд | P12: ФИО тренера(тренеров)
K13: Сумма | L13: Очки
A14: 86 | B14: 1 | C14: =VLOOKUP(A14,Список!$A$2:$J$123,3) -> Вершинина Дарья | E14: =VLOOKUP(A14,Список!$A$2:$J$123,4) -> 2009 | F14: =VLOOKUP(A14,Список!$A$2:$J$123,5) -> КМС | G14: =VLOOKUP(A14,Список!$A$2:$J$123,6) -> Кировская область | H14: =VLOOKUP(A14,Список!$A$2:$J$123,7) -> КОГАУ «СШОР «Юность» | I14: =VLOOKUP(A14,Список!$A$2:$K$123,11) -> 76.35 | J14: 148 | N14: =IF(B14=1,20,IF(B14=2,18,IF(B14=3,16,IF(B14>19,0,19-B14)))) -> 20 | O14: =IF(AND(NOT(OR(F14="МСМК",F14="ЗМС")),J14>=$O$10),"+МСМК",IF(AND(OR(F14="МСМК",F14="ЗМС"),J14>=$O$10),"МСМК",IF(AND(NOT(OR(F14="МСМК",F14="МС",F14="ЗМС")),J14>=$P$10),"+МС",IF(AND(OR(F14="МСМК",F14="МС",F14="ЗМС"),J14>=$P$10),"МС",IF(AND(NOT(OR(F14="ЗМС",F14="МСМК",F14="МС",F14="КМС")),J14>=$Q$10),"+КМС",IF(AND(OR(F14="ЗМС",F14="МСМК",F14="МС",F14="КМС"),J14>=$Q$10),"КМС","-")))))) -> +МС | P14: =VLOOKUP(A14,Список!$A$2:$J$123,9) -> Малков Е.И.
A15: 29 | B15: 2 | C15: =VLOOKUP(A15,Список!$A$2:$J$123,3) -> Кузьмичева Ксения | E15: =VLOOKUP(A15,Список!$A$2:$J$123,4) -> 2004 | F15: =VLOOKUP(A15,Список!$A$2:$J$123,5) -> КМС | G15: =VLOOKUP(A15,Список!$A$2:$J$123,6) -> Оренбургская область | H15: =VLOOKUP(A15,Список!$A$2:$J$123,7) -> СШ №1 им. Л.Д. Ковалевского | I15: =VLOOKUP(A15,Список!$A$2:$K$123,11) -> 89.4 | J15: 138 | N15: =IF(B15=1,20,IF(B15=2,18,IF(B15=3,16,IF(B15>19,0,19-B15)))) -> 18 | O15: =IF(AND(NOT(OR(F15="МСМК",F15="ЗМС")),J15>=$O$10),"+МСМК",IF(AND(OR(F15="МСМК",F15="ЗМС"),J15>=$O$10),"МСМК",IF(AND(NOT(OR(F15="МСМК",F15="МС",F15="ЗМС")),J15>=$P$10),"+МС",IF(AND(OR(F15="МСМК",F15="МС",F15="ЗМС"),J15>=$P$10),"МС",IF(AND(NOT(OR(F15="ЗМС",F15="МСМК",F15="МС",F15="КМС")),J15>=$Q$10),"+КМС",IF(AND(OR(F15="ЗМС",F15="МСМК",F15="МС",F15="КМС"),J15>=$Q$10),"КМС","-")))))) -> КМС | P15: =VLOOKUP(A15,Список!$A$2:$J$123,9) -> Павлов С.П.
A16: 87 | B16: 3 | C16: =VLOOKUP(A16,Список!$A$2:$J$123,3) -> Дербенева Ольга | E16: =VLOOKUP(A16,Список!$A$2:$J$123,4) -> 1970 | F16: =VLOOKUP(A16,Список!$A$2:$J$123,5) -> КМС | G16: =VLOOKUP(A16,Список!$A$2:$J$123,6) -> Кировская область | H16: =VLOOKUP(A16,Список!$A$2:$J$123,7) -> МБУ ДО СШ пгт Тужа | I16: =VLOOKUP(A16,Список!$A$2:$K$123,11) -> 111.85 | J16: 123 | N16: =IF(B16=1,20,IF(B16=2,18,IF(B16=3,16,IF(B16>19,0,19-B16)))) -> 16 | O16: =IF(AND(NOT(OR(F16="МСМК",F16="ЗМС")),J16>=$O$10),"+МСМК",IF(AND(OR(F16="МСМК",F16="ЗМС"),J16>=$O$10),"МСМК",IF(AND(NOT(OR(F16="МСМК",F16="МС",F16="ЗМС")),J16>=$P$10),"+МС",IF(AND(OR(F16="МСМК",F16="МС",F16="ЗМС"),J16>=$P$10),"МС",IF(AND(NOT(OR(F16="ЗМС",F16="МСМК",F16="МС",F16="КМС")),J16>=$Q$10),"+КМС",IF(AND(OR(F16="ЗМС",F16="МСМК",F16="МС",F16="КМС"),J16>=$Q$10),"КМС","-")))))) -> КМС | P16: =VLOOKUP(A16,Список!$A$2:$J$123,9) -> Платунов В.В.
A17: 61 | B17: 4 | C17: =VLOOKUP(A17,Список!$A$2:$J$123,3) -> Щербакова Татьяна | E17: =VLOOKUP(A17,Список!$A$2:$J$123,4) -> 1982 | F17: =VLOOKUP(A17,Список!$A$2:$J$123,5) -> КМС | G17: =VLOOKUP(A17,Список!$A$2:$J$123,6) -> Пермский край | H17: =VLOOKUP(A17,Список!$A$2:$J$123,7) -> МАОУДО ДЮСШ "Вихрь" | I17: =VLOOKUP(A17,Список!$A$2:$K$123,11) -> 81.1 | J17: 90 | N17: =IF(B17=1,20,IF(B17=2,18,IF(B17=3,16,IF(B17>19,0,19-B17)))) -> 15 | O17: =IF(AND(NOT(OR(F17="МСМК",F17="ЗМС")),J17>=$O$10),"+МСМК",IF(AND(OR(F17="МСМК",F17="ЗМС"),J17>=$O$10),"МСМК",IF(AND(NOT(OR(F17="МСМК",F17="МС",F17="ЗМС")),J17>=$P$10),"+МС",IF(AND(OR(F17="МСМК",F17="МС",F17="ЗМС"),J17>=$P$10),"МС",IF(AND(NOT(OR(F17="ЗМС",F17="МСМК",F17="МС",F17="КМС")),J17>=$Q$10),"+КМС",IF(AND(OR(F17="ЗМС",F17="МСМК",F17="МС",F17="КМС"),J17>=$Q$10),"КМС","-")))))) -> КМС | P17: =VLOOKUP(A17,Список!$A$2:$J$123,9) -> Лунев А.Г., Паклин П.А.
A18: 9 | B18: 5 | C18: =VLOOKUP(A18,Список!$A$2:$J$123,3) -> Бофонова Дарья | E18: =VLOOKUP(A18,Список!$A$2:$J$123,4) -> 1991 | F18: =VLOOKUP(A18,Список!$A$2:$J$123,5) -> I | G18: =VLOOKUP(A18,Список!$A$2:$J$123,6) -> Нижегородская область | I18: =VLOOKUP(A18,Список!$A$2:$K$123,11) -> 72.85 | J18: 69 | N18: =IF(B18=1,20,IF(B18=2,18,IF(B18=3,16,IF(B18>19,0,19-B18)))) -> 14 | O18: =IF(AND(NOT(OR(F18="МСМК",F18="ЗМС")),J18>=$O$10),"+МСМК",IF(AND(OR(F18="МСМК",F18="ЗМС"),J18>=$O$10),"МСМК",IF(AND(NOT(OR(F18="МСМК",F18="МС",F18="ЗМС")),J18>=$P$10),"+МС",IF(AND(OR(F18="МСМК",F18="МС",F18="ЗМС"),J18>=$P$10),"МС",IF(AND(NOT(OR(F18="ЗМС",F18="МСМК",F18="МС",F18="КМС")),J18>=$Q$10),"+КМС",IF(AND(OR(F18="ЗМС",F18="МСМК",F18="МС",F18="КМС"),J18>=$Q$10),"КМС","-")))))) -> - | P18: =VLOOKUP(A18,Список!$A$2:$J$123,9) -> Афонин И.А.
A19: 60 | B19: 6 | C19: =VLOOKUP(A19,Список!$A$2:$J$123,3) -> Попова Мария | E19: =VLOOKUP(A19,Список!$A$2:$J$123,4) -> 2005 | F19: =VLOOKUP(A19,Список!$A$2:$J$123,5) -> КМС | G19: =VLOOKUP(A19,Список!$A$2:$J$123,6) -> Пермский край | H19: =VLOOKUP(A19,Список!$A$2:$J$123,7) -> ССК "Китнаспорте" | I19: =VLOOKUP(A19,Список!$A$2:$K$123,11) -> 80.4 | J19: 68 | N19: =IF(B19=1,20,IF(B19=2,18,IF(B19=3,16,IF(B19>19,0,19-B19)))) -> 13 | O19: =IF(AND(NOT(OR(F19="МСМК",F19="ЗМС")),J19>=$O$10),"+МСМК",IF(AND(OR(F19="МСМК",F19="ЗМС"),J19>=$O$10),"МСМК",IF(AND(NOT(OR(F19="МСМК",F19="МС",F19="ЗМС")),J19>=$P$10),"+МС",IF(AND(OR(F19="МСМК",F19="МС",F19="ЗМС"),J19>=$P$10),"МС",IF(AND(NOT(OR(F19="ЗМС",F19="МСМК",F19="МС",F19="КМС")),J19>=$Q$10),"+КМС",IF(AND(OR(F19="ЗМС",F19="МСМК",F19="МС",F19="КМС"),J19>=$Q$10),"КМС","-")))))) -> - | P19: =VLOOKUP(A19,Список!$A$2:$J$123,9) -> Паклин П.А.
A20: 37 | B20: 7 | C20: =VLOOKUP(A20,Список!$A$2:$J$123,3) -> Рогизная Анна | E20: =VLOOKUP(A20,Список!$A$2:$J$123,4) -> 1998 | F20: =VLOOKUP(A20,Список!$A$2:$J$123,5) -> КМС | G20: =VLOOKUP(A20,Список!$A$2:$J$123,6) -> Пермский край | H20: =VLOOKUP(A20,Список!$A$2:$J$123,7) -> ДО ДС ДЮ «Прикамье» | I20: =VLOOKUP(A20,Список!$A$2:$K$123,11) -> 108 | J20: 48 | N20: =IF(B20=1,20,IF(B20=2,18,IF(B20=3,16,IF(B20>19,0,19-B20)))) -> 12 | O20: =IF(AND(NOT(OR(F20="МСМК",F20="ЗМС")),J20>=$O$10),"+МСМК",IF(AND(OR(F20="МСМК",F20="ЗМС"),J20>=$O$10),"МСМК",IF(AND(NOT(OR(F20="МСМК",F20="МС",F20="ЗМС")),J20>=$P$10),"+МС",IF(AND(OR(F20="МСМК",F20="МС",F20="ЗМС"),J20>=$P$10),"МС",IF(AND(NOT(OR(F20="ЗМС",F20="МСМК",F20="МС",F20="КМС")),J20>=$Q$10),"+КМС",IF(AND(OR(F20="ЗМС",F20="МСМК",F20="МС",F20="КМС"),J20>=$Q$10),"КМС","-")))))) -> - | P20: =VLOOKUP(A20,Список!$A$2:$J$123,9) -> Мошев Д.И
A21: 52 | B21: 8 | C21: =VLOOKUP(A21,Список!$A$2:$J$123,3) -> Нечаева Анастасия | E21: =VLOOKUP(A21,Список!$A$2:$J$123,4) -> 2000 | F21: =VLOOKUP(A21,Список!$A$2:$J$123,5) -> КМС | G21: =VLOOKUP(A21,Список!$A$2:$J$123,6) -> Пермский край | H21: =VLOOKUP(A21,Список!$A$2:$J$123,7) -> ДО ДС ДЮ «Прикамье» | I21: =VLOOKUP(A21,Список!$A$2:$K$123,11) -> 108 | J21: 41 | N21: =IF(B21=1,20,IF(B21=2,18,IF(B21=3,16,IF(B21>19,0,19-B21)))) -> 11 | O21: =IF(AND(NOT(OR(F21="МСМК",F21="ЗМС")),J21>=$O$10),"+МСМК",IF(AND(OR(F21="МСМК",F21="ЗМС"),J21>=$O$10),"МСМК",IF(AND(NOT(OR(F21="МСМК",F21="МС",F21="ЗМС")),J21>=$P$10),"+МС",IF(AND(OR(F21="МСМК",F21="МС",F21="ЗМС"),J21>=$P$10),"МС",IF(AND(NOT(OR(F21="ЗМС",F21="МСМК",F21="МС",F21="КМС")),J21>=$Q$10),"+КМС",IF(AND(OR(F21="ЗМС",F21="МСМК",F21="МС",F21="КМС"),J21>=$Q$10),"КМС","-")))))) -> - | P21: =VLOOKUP(A21,Список!$A$2:$J$123,9) -> Мошев Д.И
C23: Главный судья | I23: ='ДЦ 63'!$I$22 -> Ческис О.И., 1К (Пермский край)
C25: Главный секретарь | I25: ='ДЦ 63'!$I$24 -> Паклина М.В., ВК (Пермский край)
C27: Зам. главного судьи | I27: ='ДЦ 63'!$I$26 -> Паклин П.А., ВК (Пермский край)
C29: Зам. главного секретаря | I29: ='ДЦ 63'!$I$28 -> Мошев Д.И., 1К (Пермский край)

Sheet ДВ 63
B1: Министерство спорта Российской Федерации.
B2: Общероссийская общественная организация "Всероссийская федерация гиревого спорта"
B3: ='ДЦ 63'!$B$3:$Q$3 -> Министерство физической культуры и спорта Пермского края
B4: ='ДЦ 63'!$B$4:$Q$4 -> Региональное отделение общероссийской общественной организации "ВФГС в Пермском крае"
B6: 12-14 апреля 2024 г. | E6: ПРОТОКОЛ | Q6: Вес гирь 32 кг.
B7: г. Пермь | E7: Чемпионата Приволжского федерального округа | Q7: Регламент времени - 10 мин.
E8: ='ДЦ 63'!$E$8:$N$8 -> ЕКП № 2065590017021409 | Q8: Разрядные нормативы
B9: ='ДЦ 63'!$B$9:$D$9 -> Количество участников - 92 | E9: Двоеборье | Q9: МСМК | R9: МС | S9: КМС
B10: ='ДЦ 63'!$B$10:$D$10 -> Количество регионов - 10 | E10: Весовая категория 63 кг. | Q10: 192 | R10: 126 | S10: 75
B12: Место | C12: Фамилия Имя | E12: Дата рождения | F12: Звание | G12: Команда | H12: ДСО, ведомство | I12: Соб. вес | J12: Толчок | K12: Место | L12: Рывок | N12: Место | O12: Сумма дв-рья | P12: Ком. очки | Q12: Вып. разряд | R12: ФИО тренера(тренеров)
L13: Сумма | M13: Очки
A14: 23 | B14: 1 | C14: =VLOOKUP(A14,Список!$A$2:$J$123,3) -> Курунов Анатолий | E14: =VLOOKUP(A14,Список!$A$2:$J$123,4) -> 1999 | F14: =VLOOKUP(A14,Список!$A$2:$J$123,5) -> МС | G14: =VLOOKUP(A14,Список!$A$2:$J$123,6) -> Оренбургская область | H14: =VLOOKUP(A14,Список!$A$2:$J$123,7) -> СШ №1 им. Л.Д. Ковалевского | I14: =VLOOKUP(A14,Список!$A$2:$K$123,11) -> 62.25 | J14: 62 | K14: =RANK(J14,$J$14:$J$20,0) -> 1 | L14: 90 | M14: =L14/2 -> 45 | N14: =RANK(M14,$M$12:$M$26,0) -> 1 | O14: =M14+J14 -> 107 | P14: =IF(B14=1,20,IF(B14=2,18,IF(B14=3,16,IF(B14>19,0,19-B14)))) -> 20 | Q14: =IF(AND(NOT(OR(F14="МСМК",F14="ЗМС")),O14>=$Q$10),"+МСМК",IF(AND(OR(F14="МСМК",F14="ЗМС"),O14>=$Q$10),"МСМК",IF(AND(NOT(OR(F14="МСМК",F14="МС",F14="ЗМС")),O14>=$R$10),"+МС",IF(AND(OR(F14="МСМК",F14="МС",F14="ЗМС"),O14>=$R$10),"МС",IF(AND(NOT(OR(F14="ЗМС",F14="МСМК",F14="МС",F14="КМС")),O14>=$S$10),"+КМС",IF(AND(OR(F14="ЗМС",F14="МСМК",F14="МС",F14="КМС"),O14>=$S$10),"КМС","-")))))) -> КМС | R14: =VLOOKUP(A14,Список!$A$2:$J$123,9) -> Павлов С.П.
A15: 1 | B15: 2 | C15: =VLOOKUP(A15,Список!$A$2:$J$123,3) -> Маркичев Максим | E15: =VLOOKUP(A15,Список!$A$2:$J$123,4) -> 1997 | F15: =VLOOKUP(A15,Список!$A$2:$J$123,5) -> КМС | G15: =VLOOKUP(A15,Список!$A$2:$J$123,6) -> Нижегородская область | I15: =VLOOKUP(A15,Список!$A$2:$K$123,11) -> 62.45 | J15: 46 | K15: =RANK(J15,$J$14:$J$20,0) -> 2 | L15: 85 | M15: =L15/2 -> 42.5 | N15: =RANK(M15,$M$12:$M$26,0) -> 2 | O15: =M15+J15 -> 88.5 | P15: =IF(B15=1,20,IF(B15=2,18,IF(B15=3,16,IF(B15>19,0,19-B15)))) -> 18 | Q15: =IF(AND(NOT(OR(F15="МСМК",F15="ЗМС")),O15>=$Q$10),"+МСМК",IF(AND(OR(F15="МСМК",F15="ЗМС"),O15>=$Q$10),"МСМК",IF(AND(NOT(OR(F15="МСМК",F15="МС",F15="ЗМС")),O15>=$R$10),"+МС",IF(AND(OR(F15="МСМК",F15="МС",F15="ЗМС"),O15>=$R$10),"МС",IF(AND(NOT(OR(F15="ЗМС",F15="МСМК",F15="МС",F15="КМС")),O15>=$S$10),"+КМС",IF(AND(OR(F15="ЗМС",F15="МСМК",F15="МС",F15="КМС"),O15>=$S$10),"КМС","-")))))) -> КМС | R15: =VLOOKUP(A15,Список!$A$2:$J$123,9) -> Маркичев Э.Ф.
A16: 43 | B16: 3 | C16: =VLOOKUP(A16,Список!$A$2:$J$123,3) -> Утев Руслан | E16: =VLOOKUP(A16,Список!$A$2:$J$123,4) -> 2005 | F16: =VLOOKUP(A16,Список!$A$2:$J$123,5) -> КМС | G16: =VLOOKUP(A16,Список!$A$2:$J$123,6) -> Пермский край | H16: =VLOOKUP(A16,Список!$A$2:$J$123,7) -> МБУ ДО «ДЮСШ «Спарт» | I16: =VLOOKUP(A16,Список!$A$2:$K$123,11) -> 62.25 | J16: 44 | K16: =RANK(J16,$J$14:$J$20,0) -> 3 | L16: 70 | M16: =L16/2 -> 35 | N16: =RANK(M16,$M$12:$M$26,0) -> 4 | O16: =M16+J16 -> 79 | P16: =IF(B16=1,20,IF(B16=2,18,IF(B16=3,16,IF(B16>19,0,19-B16)))) -> 16 | Q16: =IF(AND(NOT(OR(F16="МСМК",F16="ЗМС")),O16>=$Q$10),"+МСМК",IF(AND(OR(F16="МСМК",F16="ЗМС"),O16>=$Q$10),"МСМК",IF(AND(NOT(OR(F16="МСМК",F16="МС",F16="ЗМС")),O16>=$R$10),"+МС",IF(AND(OR(F16="МСМК",F16="МС",F16="ЗМС"),O16>=$R$10),"МС",IF(AND(NOT(OR(F16="ЗМС",F16="МСМК",F16="МС",F16="КМС")),O16>=$S$10),"+КМС",IF(AND(OR(F16="ЗМС",F16="МСМК",F16="МС",F16="КМС"),O16>=$S$10),"КМС","-")))))) -> КМС | R16: =VLOOKUP(A16,Список!$A$2:$J$123,9) -> Маматов Г.Т.
A17: 51 | B17: 4 | C17: =VLOOKUP(A17,Список!$A$2:$J$123,3) -> Холов Хусейн | E17: =VLOOKUP(A17,Список!$A$2:$J$123,4) -> 2001 | F17: =VLOOKUP(A17,Список!$A$2:$J$123,5) -> КМС | G17: =VLOOKUP(A17,Список!$A$2:$J$123,6) -> Пермский край | H17: =VLOOKUP(A17,Список!$A$2:$J$123,7) -> ДО ДС ДЮ «Прикамье» | I17: =VLOOKUP(A17,Список!$A$2:$K$123,11) -> 62.5 | J17: 30 | K17: =RANK(J17,$J$14:$J$20,0) -> 4 | L17: 81 | M17: =L17/2 -> 40.5 | N17: =RANK(M17,$M$12:$M$26,0) -> 3 | O17: =M17+J17 -> 70.5 | P17: =IF(B17=1,20,IF(B17=2,18,IF(B17=3,16,IF(B17>19,0,19-B17)))) -> 15 | Q17: =IF(AND(NOT(OR(F17="МСМК",F17="ЗМС")),O17>=$Q$10),"+МСМК",IF(AND(OR(F17="МСМК",F17="ЗМС"),O17>=$Q$10),"МСМК",IF(AND(NOT(OR(F17="МСМК",F17="МС",F17="ЗМС")),O17>=$R$10),"+МС",IF(AND(OR(F17="МСМК",F17="МС",F17="ЗМС"),O17>=$R$10),"МС",IF(AND(NOT(OR(F17="ЗМС",F17="МСМК",F17="МС",F17="КМС")),O17>=$S$10),"+КМС",IF(AND(OR(F17="ЗМС",F17="МСМК",F17="МС",F17="КМС"),O17>=$S$10),"КМС","-")))))) -> - | R17: =VLOOKUP(A17,Список!$A$2:$J$123,9) -> Мошев Д.И
A18: 45 | B18: 5 | C18: =VLOOKUP(A18,Список!$A$2:$J$123,3) -> Половников Павел | E18: =VLOOKUP(A18,Список!$A$2:$J$123,4) -> 2002 | F18: =VLOOKUP(A18,Список!$A$2:$J$123,5) -> КМС | G18: =VLOOKUP(A18,Список!$A$2:$J$123,6) -> Пермский край | H18: =VLOOKUP(A18,Список!$A$2:$J$123,7) -> МБУ ДО «ДЮСШ «Спарт» | I18: =VLOOKUP(A18,Список!$A$2:$K$123,11) -> 59.15 | J18: 25 | K18: =RANK(J18,$J$14:$J$20,0) -> 5 | L18: 60 | M18: =L18/2 -> 30 | N18: =RANK(M18,$M$12:$M$26,0) -> 5 | O18: =M18+J18 -> 55 | P18: =IF(B18=1,20,IF(B18=2,18,IF(B18=3,16,IF(B18>19,0,19-B18)))) -> 14 | Q18: =IF(AND(NOT(OR(F18="МСМК",F18="ЗМС")),O18>=$Q$10),"+МСМК",IF(AND(OR(F18="МСМК",F18="ЗМС"),O18>=$Q$10),"МСМК",IF(AND(NOT(OR(F18="МСМК",F18="МС",F18="ЗМС")),O18>=$R$10),"+МС",IF(AND(OR(F18="МСМК",F18="МС",F18="ЗМС"),O18>=$R$10),"МС",IF(AND(NOT(OR(F18="ЗМС",F18="МСМК",F18="МС",F18="КМС")),O18>=$S$10),"+КМС",IF(AND(OR(F18="ЗМС",F18="МСМК",F18="МС",F18="КМС"),O18>=$S$10),"КМС","-")))))) -> - | R18: =VLOOKUP(A18,Список!$A$2:$J$123,9) -> Маматов Г.Т.
A19: 58 | B19: 6 | C19: =VLOOKUP(A19,Список!$A$2:$J$123,3) -> Попов Кирилл | E19: =VLOOKUP(A19,Список!$A$2:$J$123,4) -> 2008 | F19: =VLOOKUP(A19,Список!$A$2:$J$123,5) -> КМС | G19: =VLOOKUP(A19,Список!$A$2:$J$123,6) -> Пермский край | H19: =VLOOKUP(A19,Список!$A$2:$J$123,7) -> МБУ ДО «ДЮСШ «Спарт» | I19: =VLOOKUP(A19,Список!$A$2:$K$123,11) -> 61.45 | J19: 16 | K19: =RANK(J19,$J$14:$J$20,0) -> 6 | L19: 31 | M19: =L19/2 -> 15.5 | N19: =RANK(M19,$M$12:$M$26,0) -> 6 | O19: =M19+J19 -> 31.5 | P19: =IF(B19=1,20,IF(B19=2,18,IF(B19=3,16,IF(B19>19,0,19-B19)))) -> 13 | Q19: =IF(AND(NOT(OR(F19="МСМК",F19="ЗМС")),O19>=$Q$10),"+МСМК",IF(AND(OR(F19="МСМК",F19="ЗМС"),O19>=$Q$10),"МСМК",IF(AND(NOT(OR(F19="МСМК",F19="МС",F19="ЗМС")),O19>=$R$10),"+МС",IF(AND(OR(F19="МСМК",F19="МС",F19="ЗМС"),O19>=$R$10),"МС",IF(AND(NOT(OR(F19="ЗМС",F19="МСМК",F19="МС",F19="КМС")),O19>=$S$10),"+КМС",IF(AND(OR(F19="ЗМС",F19="МСМК",F19="МС",F19="КМС"),O19>=$S$10),"КМС","-")))))) -> - | R19: =VLOOKUP(A19,Список!$A$2:$J$123,9) -> Маматов Г.Т.
A20: 56 | B20: 7 | C20: =VLOOKUP(A20,Список!$A$2:$J$123,3) -> Останин Даниил | E20: =VLOOKUP(A20,Список!$A$2:$J$123,4) -> 2005 | F20: =VLOOKUP(A20,Список!$A$2:$J$123,5) -> КМС | G20: =VLOOKUP(A20,Список!$A$2:$J$123,6) -> Пермский край | H20: =VLOOKUP(A20,Список!$A$2:$J$123,7) -> ДО ДС ДЮ «Прикамье» | I20: =VLOOKUP(A20,Список!$A$2:$K$123,11) -> 57.05 | J20: 7 | K20: =RANK(J20,$J$14:$J$20,0) -> 7 | L20: 31 | M20: =L20/2 -> 15.5 | N20: =RANK(M20,$M$12:$M$26,0) -> 6 | O20: =M20+J20 -> 22.5 | P20: =IF(B20=1,20,IF(B20=2,18,IF(B20=3,16,IF(B20>19,0,19-B20)))) -> 12 | Q20: =IF(AND(NOT(OR(F20="МСМК",F20="ЗМС")),O20>=$Q$10),"+МСМК",IF(AND(OR(F20="МСМК",F20="ЗМС"),O20>=$Q$10),"МСМК",IF(AND(NOT(OR(F20="МСМК",F20="МС",F20="ЗМС")),O20>=$R$10),"+МС",IF(AND(OR(F20="МСМК",F20="МС",F20="ЗМС"),O20>=$R$10),"МС",IF(AND(NOT(OR(F20="ЗМС",F20="МСМК",F20="МС",F20="КМС")),O20>=$S$10),"+КМС",IF(AND(OR(F20="ЗМС",F20="МСМК",F20="МС",F20="КМС"),O20>=$S$10),"КМС","-")))))) -> - | R20: =VLOOKUP(A20,Список!$A$2:$J$123,9) -> Мошев Д.И
C22: Главный судья | I22: ='ДЦ 63'!$I$22 -> Ческис О.И., 1К (Пермский край)
C24: Главный секретарь | I24: ='ДЦ 63'!$I$24 -> Паклина М.В., ВК (Пермский край)
C26: Зам. главного судьи | I26: ='ДЦ 63'!$I$26 -> Паклин П.А., ВК (Пермский край)
C28: Зам. главного секретаря | I28: ='ДЦ 63'!$I$28 -> Мошев Д.И., 1К (Пермский край)

Sheet ДВ 68
B1: Министерство спорта Российской Федерации.
B2: Общероссийская общественная организация "Всероссийская федерация гиревого спорта"
B3: ='ДЦ 63'!$B$3:$Q$3 -> Министерство физической культуры и спорта Пермского края
B4: ='ДЦ 63'!$B$4:$Q$4 -> Региональное отделение общероссийской общественной организации "ВФГС в Пермском крае"
B6: 12-14 апреля 2024 г. | E6: ПРОТОКОЛ | Q6: Вес гирь 32 кг.
B7: г. Пермь | E7: Чемпионата Приволжского федерального округа | Q7: Регламент времени - 10 мин.
E8: ='ДЦ 63'!$E$8:$N$8 -> ЕКП № 2065590017021409 | Q8: Разрядные нормативы
B9: ='ДЦ 63'!$B$9:$D$9 -> Количество участников - 92 | E9: Двоеборье | Q9: МСМК | R9: МС | S9: КМС
B10: ='ДЦ 63'!$B$10:$D$10 -> Количество регионов - 10 | E10: Весовая категория 68 кг. | Q10: 210 | R10: 146 | S10: 83
B12: Место | C12: Фамилия Имя | E12: Дата рождения | F12: Звание | G12: Команда | H12: ДСО, ведомство | I12: Соб. вес | J12: Толчок | K12: Место | L12: Рывок | N12: Место | O12: Сумма дв-рья | P12: Ком. очки | Q12: Вып. разряд | R12: ФИО тренера(тренеров)
L13: Сумма | M13: Очки
A14: 65 | B14: 1 | C14: =VLOOKUP(A14,Список!$A$2:$J$123,3) -> Узюкин Анатолий | E14: =VLOOKUP(A14,Список!$A$2:$J$123,4) -> 2000 | F14: =VLOOKUP(A14,Список!$A$2:$J$123,5) -> МС | G14: =VLOOKUP(A14,Список!$A$2:$J$123,6) -> Чувашская республика | I14: =VLOOKUP(A14,Список!$A$2:$K$123,11) -> 67.75 | J14: 96 | K14: =RANK(J14,$J$14:$J$20,0) -> 1 | L14: 140 | M14: =L14/2 -> 70 | N14: =RANK(M14,$M$12:$M$28,0) -> 1 | O14: =M14+J14 -> 166 | P14: =IF(B14=1,20,IF(B14=2,18,IF(B14=3,16,IF(B14>19,0,19-B14)))) -> 20 | Q14: =IF(AND(NOT(OR(F14="МСМК",F14="ЗМС")),O14>=$Q$10),"+МСМК",IF(AND(OR(F14="МСМК",F14="ЗМС"),O14>=$Q$10),"МСМК",IF(AND(NOT(OR(F14="МСМК",F14="МС",F14="ЗМС")),O14>=$R$10),"+МС",IF(AND(OR(F14="МСМК",F14="МС",F14="ЗМС"),O14>=$R$10),"МС",IF(AND(NOT(OR(F14="ЗМС",F14="МСМК",F14="МС",F14="КМС")),O14>=$S$10),"+КМС",IF(AND(OR(F14="ЗМС",F14="МСМК",F14="МС",F14="КМС"),O14>=$S$10),"КМС","-")))))) -> МС | R14: =VLOOKUP(A14,Список!$A$2:$J$123,9) -> Глинкин Б.Н
A15: 25 | B15: 2 | C15: =VLOOKUP(A15,Список!$A$2:$J$123,3) -> Киякин Александр | E15: =VLOOKUP(A15,Список!$A$2:$J$123,4) -> 2001 | F15: =VLOOKUP(A15,Список!$A$2:$J$123,5) -> МС | G15: =VLOOKUP(A15,Список!$A$2:$J$123,6) -> Оренбургская область | H15: =VLOOKUP(A15,Список!$A$2:$J$123,7) -> СШ №1 им. Л.Д. Ковалевского | I15: =VLOOKUP(A15,Список!$A$2:$K$123,11) -> 67.5 | J15: 78 | K15: =RANK(J15,$J$14:$J$20,0) -> 2 | L15: 98 | M15: =L15/2 -> 49 | N15: =RANK(M15,$M$12:$M$28,0) -> 2 | O15: =M15+J15 -> 127 | P15: =IF(B15=1,20,IF(B15=2,18,IF(B15=3,16,IF(B15>19,0,19-B15)))) -> 18 | Q15: =IF(AND(NOT(OR(F15="МСМК",F15="ЗМС")),O15>=$Q$10),"+МСМК",IF(AND(OR(F15="МСМК",F15="ЗМС"),O15>=$Q$10),"МСМК",IF(AND(NOT(OR(F15="МСМК",F15="МС",F15="ЗМС")),O15>=$R$10),"+МС",IF(AND(OR(F15="МСМК",F15="МС",F15="ЗМС"),O15>=$R$10),"МС",IF(AND(NOT(OR(F15="ЗМС",F15="МСМК",F15="МС",F15="КМС")),O15>=$S$10),"+КМС",IF(AND(OR(F15="ЗМС",F15="МСМК",F15="МС",F15="КМС"),O15>=$S$10),"КМС","-")))))) -> КМС | R15: =VLOOKUP(A15,Список!$A$2:$J$123,9) -> Павлов С.П.
A16: 72 | B16: 3 | C16: =VLOOKUP(A16,Список!$A$2:$J$123,3) -> Громов Алексей | E16: =VLOOKUP(A16,Список!$A$2:$J$123,4) -> 1995 | F16: =VLOOKUP(A16,Список!$A$2:$J$123,5) -> КМС | G16: =VLOOKUP(A16,Список!$A$2:$J$123,6) -> Удмуртская республика | I16: =VLOOKUP(A16,Список!$A$2:$K$123,11) -> 67.05 | J16: 64 | K16: =RANK(J16,$J$14:$J$20,0) -> 3 | L16: 91 | M16: =L16/2 -> 45.5 | N16: =RANK(M16,$M$12:$M$28,0) -> 3 | O16: =M16+J16 -> 109.5 | P16: =IF(B16=1,20,IF(B16=2,18,IF(B16=3,16,IF(B16>19,0,19-B16)))) -> 16 | Q16: =IF(AND(NOT(OR(F16="МСМК",F16="ЗМС")),O16>=$Q$10),"+МСМК",IF(AND(OR(F16="МСМК",F16="ЗМС"),O16>=$Q$10),"МСМК",IF(AND(NOT(OR(F16="МСМК",F16="МС",F16="ЗМС")),O16>=$R$10),"+МС",IF(AND(OR(F16="МСМК",F16="МС",F16="ЗМС"),O16>=$R$10),"МС",IF(AND(NOT(OR(F16="ЗМС",F16="МСМК",F16="МС",F16="КМС")),O16>=$S$10),"+КМС",IF(AND(OR(F16="ЗМС",F16="МСМК",F16="МС",F16="КМС"),O16>=$S$10),"КМС","-")))))) -> КМС | R16: =VLOOKUP(A16,Список!$A$2:$J$123,9) -> Шиляев И.Н.
A17: 70 | B17: 4 | C17: =VLOOKUP(A17,Список!$A$2:$J$123,3) -> Шиляев Александр | E17: =VLOOKUP(A17,Список!$A$2:$J$123,4) -> 1988 | F17: =VLOOKUP(A17,Список!$A$2:$J$123,5) -> КМС | G17: =VLOOKUP(A17,Список!$A$2:$J$123,6) -> Удмуртская республика | I17: =VLOOKUP(A17,Список!$A$2:$K$123,11) -> 67.5 | J17: 55 | K17: =RANK(J17,$J$14:$J$20,0) -> 4 | L17: 83 | M17: =L17/2 -> 41.5 | N17: =RANK(M17,$M$12:$M$28,0) -> 4 | O17: =M17+J17 -> 96.5 | P17: =IF(B17=1,20,IF(B17=2,18,IF(B17=3,16,IF(B17>19,0,19-B17)))) -> 15 | Q17: =IF(AND(NOT(OR(F17="МСМК",F17="ЗМС")),O17>=$Q$10),"+МСМК",IF(AND(OR(F17="МСМК",F17="ЗМС"),O17>=$Q$10),"МСМК",IF(AND(NOT(OR(F17="МСМК",F17="МС",F17="ЗМС")),O17>=$R$10),"+МС",IF(AND(OR(F17="МСМК",F17="МС",F17="ЗМС"),O17>=$R$10),"МС",IF(AND(NOT(OR(F17="ЗМС",F17="МСМК",F17="МС",F17="КМС")),O17>=$S$10),"+КМС",IF(AND(OR(F17="ЗМС",F17="МСМК",F17="МС",F17="КМС"),O17>=$S$10),"КМС","-")))))) -> КМС | R17: =VLOOKUP(A17,Список!$A$2:$J$123,9) -> Шиляев И.Н.
A18: 41 | B18: 5 | C18: =VLOOKUP(A18,Список!$A$2:$J$123,3) -> Ярусов Константин | E18: =VLOOKUP(A18,Список!$A$2:$J$123,4) -> 2006 | F18: =VLOOKUP(A18,Список!$A$2:$J$123,5) -> КМС | G18: =VLOOKUP(A18,Список!$A$2:$J$123,6) -> Пермский край | H18: =VLOOKUP(A18,Список!$A$2:$J$123,7) -> МБУ ДО «ДЮСШ «Спарт» | I18: =VLOOKUP(A18,Список!$A$2:$K$123,11) -> 67.45 | J18: 52 | K18: =RANK(J18,$J$14:$J$20,0) -> 5 | L18: 72 | M18: =L18/2 -> 36 | N18: =RANK(M18,$M$12:$M$28,0) -> 6 | O18: =M18+J18 -> 88 | P18: =IF(B18=1,20,IF(B18=2,18,IF(B18=3,16,IF(B18>19,0,19-B18)))) -> 14 | Q18: =IF(AND(NOT(OR(F18="МСМК",F18="ЗМС")),O18>=$Q$10),"+МСМК",IF(AND(OR(F18="МСМК",F18="ЗМС"),O18>=$Q$10),"МСМК",IF(AND(NOT(OR(F18="МСМК",F18="МС",F18="ЗМС")),O18>=$R$10),"+МС",IF(AND(OR(F18="МСМК",F18="МС",F18="ЗМС"),O18>=$R$10),"МС",IF(AND(NOT(OR(F18="ЗМС",F18="МСМК",F18="МС",F18="КМС")),O18>=$S$10),"+КМС",IF(AND(OR(F18="ЗМС",F18="МСМК",F18="МС",F18="КМС"),O18>=$S$10),"КМС","-")))))) -> КМС | R18: =VLOOKUP(A18,Список!$A$2:$J$123,9) -> Маматов Г.Т.
A19: 13 | B19: 6 | C19: =VLOOKUP(A19,Список!$A$2:$J$123,3) -> Цюпко Егор | E19: =VLOOKUP(A19,Список!$A$2:$J$123,4) -> 2007 | F19: =VLOOKUP(A19,Список!$A$2:$J$123,5) -> I | G19: =VLOOKUP(A19,Список!$A$2:$J$123,6) -> Республика Башкортостан | H19: =VLOOKUP(A19,Список!$A$2:$J$123,7) -> МАУ ДО ФСМ Чемпион | I19: =VLOOKUP(A19,Список!$A$2:$K$123,11) -> 65.15 | J19: 36 | K19: =RANK(J19,$J$14:$J$20,0) -> 6 | L19: 81 | M19: =L19/2 -> 40.5 | N19: =RANK(M19,$M$12:$M$28,0) -> 5 | O19: =M19+J19 -> 76.5 | P19: =IF(B19=1,20,IF(B19=2,18,IF(B19=3,16,IF(B19>19,0,19-B19)))) -> 13 | Q19: =IF(AND(NOT(OR(F19="МСМК",F19="ЗМС")),O19>=$Q$10),"+МСМК",IF(AND(OR(F19="МСМК",F19="ЗМС"),O19>=$Q$10),"МСМК",IF(AND(NOT(OR(F19="МСМК",F19="МС",F19="ЗМС")),O19>=$R$10),"+МС",IF(AND(OR(F19="МСМК",F19="МС",F19="ЗМС"),O19>=$R$10),"МС",IF(AND(NOT(OR(F19="ЗМС",F19="МСМК",F19="МС",F19="КМС")),O19>=$S$10),"+КМС",IF(AND(OR(F19="ЗМС",F19="МСМК",F19="МС",F19="КМС"),O19>=$S$10),"КМС","-")))))) -> - | R19: =VLOOKUP(A19,Список!$A$2:$J$123,9) -> Абзалова И.В.
A20: 48 | B20: 7 | C20: =VLOOKUP(A20,Список!$A$2:$J$123,3) -> Ермаков Игорь | E20: =VLOOKUP(A20,Список!$A$2:$J$123,4) -> 1992 | F20: =VLOOKUP(A20,Список!$A$2:$J$123,5) -> КМС | G20: =VLOOKUP(A20,Список!$A$2:$J$123,6) -> Пермский край | H20: =VLOOKUP(A20,Список!$A$2:$J$123,7) -> ДО ДС ДЮ «Прикамье» | I20: =VLOOKUP(A20,Список!$A$2:$K$123,11) -> 68 | J20: 14 | K20: =RANK(J20,$J$14:$J$20,0) -> 7 | L20: 57 | M20: =L20/2 -> 28.5 | N20: =RANK(M20,$M$12:$M$28,0) -> 7 | O20: =M20+J20 -> 42.5 | P20: =IF(B20=1,20,IF(B20=2,18,IF(B20=3,16,IF(B20>19,0,19-B20)))) -> 12 | Q20: =IF(AND(NOT(OR(F20="МСМК",F20="ЗМС")),O20>=$Q$10),"+МСМК",IF(AND(OR(F20="МСМК",F20="ЗМС"),O20>=$Q$10),"МСМК",IF(AND(NOT(OR(F20="МСМК",F20="МС",F20="ЗМС")),O20>=$R$10),"+МС",IF(AND(OR(F20="МСМК",F20="МС",F20="ЗМС"),O20>=$R$10),"МС",IF(AND(NOT(OR(F20="ЗМС",F20="МСМК",F20="МС",F20="КМС")),O20>=$S$10),"+КМС",IF(AND(OR(F20="ЗМС",F20="МСМК",F20="МС",F20="КМС"),O20>=$S$10),"КМС","-")))))) -> - | R20: =VLOOKUP(A20,Список!$A$2:$J$123,9) -> Мошев Д.И
C23: Главный судья | I23: ='ДЦ 63'!$I$22 -> Ческис О.И., 1К (Пермский край)
C25: Главный секретарь | I25: ='ДЦ 63'!$I$24 -> Паклина М.В., ВК (Пермский край)
C27: Зам. главного судьи | I27: ='ДЦ 63'!$I$26 -> Паклин П.А., ВК (Пермский край)
C29: Зам. главного секретаря | I29: ='ДЦ 63'!$I$28 -> Мошев Д.И., 1К (Пермский край)

Sheet ДВ 73
B1: Министерство спорта Российской Федерации.
B2: Общероссийская общественная организация "Всероссийская федерация гиревого спорта"
B3: ='ДЦ 63'!$B$3:$Q$3 -> Министерство физической культуры и спорта Пермского края
B4: ='ДЦ 63'!$B$4:$Q$4 -> Региональное отделение общероссийской общественной организации "ВФГС в Пермском крае"
B6: 12-14 апреля 2024 г. | E6: ПРОТОКОЛ | Q6: Вес гирь 32 кг.
B7: г. Пермь | E7: Чемпионата Приволжского федерального округа | Q7: Регламент времени - 10 мин.
E8: ='ДЦ 63'!$E$8:$N$8 -> ЕКП № 2065590017021409 | Q8: Разрядные нормативы
B9: ='ДЦ 63'!$B$9:$D$9 -> Количество участников - 92 | E9: Двоеборье | Q9: МСМК | R9: МС | S9: КМС
B10: ='ДЦ 63'!$B$10:$D$10 -> Количество регионов - 10 | E10: Весовая категория 73 кг. | Q10: 222 | R10: 162 | S10: 95
B12: Место | C12: Фамилия Имя | E12: Дата рождения | F12: Звание | G12: Команда | H12: ДСО, ведомство | I12: Соб. вес | J12: Толчок | K12: Место | L12: Рывок | N12: Место | O12: Сумма дв-рья | P12: Ком. очки | Q12: Вып. разряд | R12: ФИО тренера(тренеров)
L13: Сумма | M13: Очки
A14: 20 | B14: 1 | C14: =VLOOKUP(A14,Список!$A$2:$J$123,3) -> Балдин Александр | E14: =VLOOKUP(A14,Список!$A$2:$J$123,4) -> 1993 | F14: =VLOOKUP(A14,Список!$A$2:$J$123,5) -> МС | G14: =VLOOKUP(A14,Список!$A$2:$J$123,6) -> Самарская область | I14: =VLOOKUP(A14,Список!$A$2:$K$123,11) -> 72.7 | J14: 105 | K14: =RANK(J14,$J$12:$J$29,0) -> 1 | L14: 176 | M14: =L14/2 -> 88 | N14: =RANK(M14,$M$12:$M$27,0) -> 1 | O14: =M14+J14 -> 193 | P14: =IF(B14=1,20,IF(B14=2,18,IF(B14=3,16,IF(B14>19,0,19-B14)))) -> 20 | Q14: =IF(AND(NOT(OR(F14="МСМК",F14="ЗМС")),O14>=$Q$10),"+МСМК",IF(AND(OR(F14="МСМК",F14="ЗМС"),O14>=$Q$10),"МСМК",IF(AND(NOT(OR(F14="МСМК",F14="МС",F14="ЗМС")),O14>=$R$10),"+МС",IF(AND(OR(F14="МСМК",F14="МС",F14="ЗМС"),O14>=$R$10),"МС",IF(AND(NOT(OR(F14="ЗМС",F14="МСМК",F14="МС",F14="КМС")),O14>=$S$10),"+КМС",IF(AND(OR(F14="ЗМС",F14="МСМК",F14="МС",F14="КМС"),O14>=$S$10),"КМС","-")))))) -> МС | R14: =VLOOKUP(A14,Список!$A$2:$J$123,9) -> Бахтов И.В.
A15: 2 | B15: 2 | C15: =VLOOKUP(A15,Список!$A$2:$J$123,3) -> Крюков Дмитрий | E15: =VLOOKUP(A15,Список!$A$2:$J$123,4) -> 1993 | F15: =VLOOKUP(A15,Список!$A$2:$J$123,5) -> КМС | G15: =VLOOKUP(A15,Список!$A$2:$J$123,6) -> Нижегородская область | I15: =VLOOKUP(A15,Список!$A$2:$K$123,11) -> 72.35 | J15: 94 | K15: =RANK(J15,$J$12:$J$29,0) -> 2 | L15: 95 | M15: =L15/2 -> 47.5 | N15: =RANK(M15,$M$12:$M$27,0) -> 5 | O15: =M15+J15 -> 141.5 | P15: =IF(B15=1,20,IF(B15=2,18,IF(B15=3,16,IF(B15>19,0,19-B15)))) -> 18 | Q15: =IF(AND(NOT(OR(F15="МСМК",F15="ЗМС")),O15>=$Q$10),"+МСМК",IF(AND(OR(F15="МСМК",F15="ЗМС"),O15>=$Q$10),"МСМК",IF(AND(NOT(OR(F15="МСМК",F15="МС",F15="ЗМС")),O15>=$R$10),"+МС",IF(AND(OR(F15="МСМК",F15="МС",F15="ЗМС"),O15>=$R$10),"МС",IF(AND(NOT(OR(F15="ЗМС",F15="МСМК",F15="МС",F15="КМС")),O15>=$S$10),"+КМС",IF(AND(OR(F15="ЗМС",F15="МСМК",F15="МС",F15="КМС"),O15>=$S$10),"КМС","-")))))) -> КМС | R15: =VLOOKUP(A15,Список!$A$2:$J$123,9) -> Маркичев Э.Ф.
A16: 74 | B16: 3 | C16: =VLOOKUP(A16,Список!$A$2:$J$123,3) -> Гарифуллин Константин | E16: =VLOOKUP(A16,Список!$A$2:$J$123,4) -> 1999 | F16: =VLOOKUP(A16,Список!$A$2:$J$123,5) -> КМС | G16: =VLOOKUP(A16,Список!$A$2:$J$123,6) -> Удмуртская республика | I16: =VLOOKUP(A16,Список!$A$2:$K$123,11) -> 72 | J16: 67 | K16: =RANK(J16,$J$12:$J$29,0) -> 4 | L16: 114 | M16: =L16/2 -> 57 | N16: =RANK(M16,$M$12:$M$27,0) -> 3 | O16: =M16+J16 -> 124 | P16: =IF(B16=1,20,IF(B16=2,18,IF(B16=3,16,IF(B16>19,0,19-B16)))) -> 16 | Q16: =IF(AND(NOT(OR(F16="МСМК",F16="ЗМС")),O16>=$Q$10),"+МСМК",IF(AND(OR(F16="МСМК",F16="ЗМС"),O16>=$Q$10),"МСМК",IF(AND(NOT(OR(F16="МСМК",F16="МС",F16="ЗМС")),O16>=$R$10),"+МС",IF(AND(OR(F16="МСМК",F16="МС",F16="ЗМС"),O16>=$R$10),"МС",IF(AND(NOT(OR(F16="ЗМС",F16="МСМК",F16="МС",F16="КМС")),O16>=$S$10),"+КМС",IF(AND(OR(F16="ЗМС",F16="МСМК",F16="МС",F16="КМС"),O16>=$S$10),"КМС","-")))))) -> КМС | R16: =VLOOKUP(A16,Список!$A$2:$J$123,9) -> Шиляев И.Н.
A17: 73 | B17: 4 | C17: =VLOOKUP(A17,Список!$A$2:$J$123,3) -> Бурков Юрий | E17: =VLOOKUP(A17,Список!$A$2:$J$123,4) -> 1987 | F17: =VLOOKUP(A17,Список!$A$2:$J$123,5) -> КМС | G17: =VLOOKUP(A17,Список!$A$2:$J$123,6) -> Удмуртская республика | I17: =VLOOKUP(A17,Список!$A$2:$K$123,11) -> 72.75 | J17: 52 | K17: =RANK(J17,$J$12:$J$29,0) -> 6 | L17: 129 | M17: =L17/2 -> 64.5 | N17: =RANK(M17,$M$12:$M$27,0) -> 2 | O17: =M17+J17 -> 116.5 | P17: =IF(B17=1,20,IF(B17=2,18,IF(B17=3,16,IF(B17>19,0,19-B17)))) -> 15 | Q17: =IF(AND(NOT(OR(F17="МСМК",F17="ЗМС")),O17>=$Q$10),"+МСМК",IF(AND(OR(F17="МСМК",F17="ЗМС"),O17>=$Q$10),"МСМК",IF(AND(NOT(OR(F17="МСМК",F17="МС",F17="ЗМС")),O17>=$R$10),"+МС",IF(AND(OR(F17="МСМК",F17="МС",F17="ЗМС"),O17>=$R$10),"МС",IF(AND(NOT(OR(F17="ЗМС",F17="МСМК",F17="МС",F17="КМС")),O17>=$S$10),"+КМС",IF(AND(OR(F17="ЗМС",F17="МСМК",F17="МС",F17="КМС"),O17>=$S$10),"КМС","-")))))) -> КМС | R17: =VLOOKUP(A17,Список!$A$2:$J$123,9) -> Шиляев И.Н.
A18: 81 | B18: 5 | C18: =VLOOKUP(A18,Список!$A$2:$J$123,3) -> Медведев Максим | E18: =VLOOKUP(A18,Список!$A$2:$J$123,4) -> 2002 | F18: =VLOOKUP(A18,Список!$A$2:$J$123,5) -> КМС | G18: =VLOOKUP(A18,Список!$A$2:$J$123,6) -> Кировская область | H18: =VLOOKUP(A18,Список!$A$2:$J$123,7) -> КОГАУ «СШОР «Юность» | I18: =VLOOKUP(A18,Список!$A$2:$K$123,11) -> 72.75 | J18: 69 | K18: =RANK(J18,$J$12:$J$29,0) -> 3 | L18: 86 | M18: =L18/2 -> 43 | N18: =RANK(M18,$M$12:$M$27,0) -> 6 | O18: =M18+J18 -> 112 | P18: =IF(B18=1,20,IF(B18=2,18,IF(B18=3,16,IF(B18>19,0,19-B18)))) -> 14 | Q18: =IF(AND(NOT(OR(F18="МСМК",F18="ЗМС")),O18>=$Q$10),"+МСМК",IF(AND(OR(F18="МСМК",F18="ЗМС"),O18>=$Q$10),"МСМК",IF(AND(NOT(OR(F18="МСМК",F18="МС",F18="ЗМС")),O18>=$R$10),"+МС",IF(AND(OR(F18="МСМК",F18="МС",F18="ЗМС"),O18>=$R$10),"МС",IF(AND(NOT(OR(F18="ЗМС",F18="МСМК",F18="МС",F18="КМС")),O18>=$S$10),"+КМС",IF(AND(OR(F18="ЗМС",F18="МСМК",F18="МС",F18="КМС"),O18>=$S$10),"КМС","-")))))) -> КМС | R18: =VLOOKUP(A18,Список!$A$2:$J$123,9) -> Малков Е.И.
A19: 44 | B19: 6 | C19: =VLOOKUP(A19,Список!$A$2:$J$123,3) -> Ошмарин Никита | E19: =VLOOKUP(A19,Список!$A$2:$J$123,4) -> 2003 | F19: =VLOOKUP(A19,Список!$A$2:$J$123,5) -> КМС | G19: =VLOOKUP(A19,Список!$A$2:$J$123,6) -> Пермский край | H19: =VLOOKUP(A19,Список!$A$2:$J$123,7) -> МБУ ДО «ДЮСШ «Спарт» | I19: =VLOOKUP(A19,Список!$A$2:$K$123,11) -> 73 | J19: 63 | K19: =RANK(J19,$J$12:$J$29,0) -> 5 | L19: 86 | M19: =L19/2 -> 43 | N19: =RANK(M19,$M$12:$M$27,0) -> 6 | O19: =M19+J19 -> 106 | P19: =IF(B19=1,20,IF(B19=2,18,IF(B19=3,16,IF(B19>19,0,19-B19)))) -> 13 | Q19: =IF(AND(NOT(OR(F19="МСМК",F19="ЗМС")),O19>=$Q$10),"+МСМК",IF(AND(OR(F19="МСМК",F19="ЗМС"),O19>=$Q$10),"МСМК",IF(AND(NOT(OR(F19="МСМК",F19="МС",F19="ЗМС")),O19>=$R$10),"+МС",IF(AND(OR(F19="МСМК",F19="МС",F19="ЗМС"),O19>=$R$10),"МС",IF(AND(NOT(OR(F19="ЗМС",F19="МСМК",F19="МС",F19="КМС")),O19>=$S$10),"+КМС",IF(AND(OR(F19="ЗМС",F19="МСМК",F19="МС",F19="КМС"),O19>=$S$10),"КМС","-")))))) -> КМС | R19: =VLOOKUP(A19,Список!$A$2:$J$123,9) -> Маматов Г.Т.
A20: 31 | B20: 7 | C20: =VLOOKUP(A20,Список!$A$2:$J$123,3) -> Шамкаев Радик | E20: =VLOOKUP(A20,Список!$A$2:$J$123,4) -> 1990 | F20: =VLOOKUP(A20,Список!$A$2:$J$123,5) -> КМС | G20: =VLOOKUP(A20,Список!$A$2:$J$123,6) -> Оренбургская область | H20: =VLOOKUP(A20,Список!$A$2:$J$123,7) -> СШ №1 им. Л.Д. Ковалевского | I20: =VLOOKUP(A20,Список!$A$2:$K$123,11) -> 72.9 | J20: 45 | K20: =RANK(J20,$J$12:$J$29,0) -> 7 | L20: 106 | M20: =L20/2 -> 53 | N20: =RANK(M20,$M$12:$M$27,0) -> 4 | O20: =M20+J20 -> 98 | P20: =IF(B20=1,20,IF(B20=2,18,IF(B20=3,16,IF(B20>19,0,19-B20)))) -> 12 | Q20: =IF(AND(NOT(OR(F20="МСМК",F20="ЗМС")),O20>=$Q$10),"+МСМК",IF(AND(OR(F20="МСМК",F20="ЗМС"),O20>=$Q$10),"МСМК",IF(AND(NOT(OR(F20="МСМК",F20="МС",F20="ЗМС")),O20>=$R$10),"+МС",IF(AND(OR(F20="МСМК",F20="МС",F20="ЗМС"),O20>=$R$10),"МС",IF(AND(NOT(OR(F20="ЗМС",F20="МСМК",F20="МС",F20="КМС")),O20>=$S$10),"+КМС",IF(AND(OR(F20="ЗМС",F20="МСМК",F20="МС",F20="КМС"),O20>=$S$10),"КМС","-")))))) -> КМС | R20: =VLOOKUP(A20,Список!$A$2:$J$123,9) -> Фунтиков Н.Н.
C22: Главный судья | I22: ='ДЦ 63'!$I$22 -> Ческис О.И., 1К (Пермский край)
C24: Главный секретарь | I24: ='ДЦ 63'!$I$24 -> Паклина М.В., ВК (Пермский край)
C26: Зам. главного судьи | I26: ='ДЦ 63'!$I$26 -> Паклин П.А., ВК (Пермский край)
C28: Зам. главного секретаря | I28: ='ДЦ 63'!$I$28 -> Мошев Д.И., 1К (Пермский край)

Sheet ДВ 78
B1: Министерство спорта Российской Федерации.
B2: Общероссийская общественная организация "Всероссийская федерация гиревого спорта"
B3: ='ДЦ 63'!$B$3:$Q$3 -> Министерство физической культуры и спорта Пермского края
B4: ='ДЦ 63'!$B$4:$Q$4 -> Региональное отделение общероссийской общественной организации "ВФГС в Пермском крае"
B6: 12-14 апреля 2024 г. | E6: ПРОТОКОЛ | Q6: Вес гирь 32 кг.
B7: г. Пермь | E7: Чемпионата Приволжского федерального округа | Q7: Регламент времени - 10 мин.
E8: ='ДЦ 63'!$E$8:$N$8 -> ЕКП № 2065590017021409 | Q8: Разрядные нормативы
B9: ='ДЦ 63'!$B$9:$D$9 -> Количество участников - 92 | E9: Двоеборье | Q9: МСМК | R9: МС | S9: КМС
B10: ='ДЦ 63'!$B$10:$D$10 -> Количество регионов - 10 | E10: Весовая категория 78 кг. | Q10: 227 | R10: 170 | S10: 110
B12: Место | C12: Фамилия Имя | E12: Дата рождения | F12: Звание | G12: Команда | H12: ДСО, ведомство | I12: Соб. вес | J12: Толчок | K12: Место | L12: Рывок | N12: Место | O12: Сумма дв-рья | P12: Ком. очки | Q12: Вып. разряд | R12: ФИО тренера(тренеров)
L13: Сумма | M13: Очки
A14: 50 | B14: 1 | C14: =VLOOKUP(A14,Список!$A$2:$J$123,3) -> Порцев Роман | E14: =VLOOKUP(A14,Список!$A$2:$J$123,4) -> 1987 | F14: =VLOOKUP(A14,Список!$A$2:$J$123,5) -> МС | G14: =VLOOKUP(A14,Список!$A$2:$J$123,6) -> Пермский край | H14: =VLOOKUP(A14,Список!$A$2:$J$123,7) -> ДО ДС ДЮ «Прикамье» | I14: =VLOOKUP(A14,Список!$A$2:$K$123,11) -> 78 | J14: 110 | K14: =RANK(J14,$J$12:$J$27,0) -> 1 | L14: 133 | M14: =L14/2 -> 66.5 | N14: =RANK(M14,$M$12:$M$25,0) -> 4 | O14: =M14+J14 -> 176.5 | P14: =IF(B14=1,20,IF(B14=2,18,IF(B14=3,16,IF(B14>19,0,19-B14)))) -> 20 | Q14: =IF(AND(NOT(OR(F14="МСМК",F14="ЗМС")),O14>=$Q$10),"+МСМК",IF(AND(OR(F14="МСМК",F14="ЗМС"),O14>=$Q$10),"МСМК",IF(AND(NOT(OR(F14="МСМК",F14="МС",F14="ЗМС")),O14>=$R$10),"+МС",IF(AND(OR(F14="МСМК",F14="МС",F14="ЗМС"),O14>=$R$10),"МС",IF(AND(NOT(OR(F14="ЗМС",F14="МСМК",F14="МС",F14="КМС")),O14>=$S$10),"+КМС",IF(AND(OR(F14="ЗМС",F14="МСМК",F14="МС",F14="КМС"),O14>=$S$10),"КМС","-")))))) -> МС | R14: =VLOOKUP(A14,Список!$A$2:$J$123,9) -> Мошев Д.И
A15: 21 | B15: 2 | C15: =VLOOKUP(A15,Список!$A$2:$J$123,3) -> Никитин Дмитрий | E15: =VLOOKUP(A15,Список!$A$2:$J$123,4) -> 2004 | F15: =VLOOKUP(A15,Список!$A$2:$J$123,5) -> МС | G15: =VLOOKUP(A15,Список!$A$2:$J$123,6) -> Самарская область | I15: =VLOOKUP(A15,Список!$A$2:$K$123,11) -> 77.75 | J15: 96 | K15: =RANK(J15,$J$12:$J$27,0) -> 3 | L15: 151 | M15: =L15/2 -> 75.5 | N15: =RANK(M15,$M$12:$M$25,0) -> 2 | O15: =M15+J15 -> 171.5 | P15: =IF(B15=1,20,IF(B15=2,18,IF(B15=3,16,IF(B15>19,0,19-B15)))) -> 18 | Q15: =IF(AND(NOT(OR(F15="МСМК",F15="ЗМС")),O15>=$Q$10),"+МСМК",IF(AND(OR(F15="МСМК",F15="ЗМС"),O15>=$Q$10),"МСМК",IF(AND(NOT(OR(F15="МСМК",F15="МС",F15="ЗМС")),O15>=$R$10),"+МС",IF(AND(OR(F15="МСМК",F15="МС",F15="ЗМС"),O15>=$R$10),"МС",IF(AND(NOT(OR(F15="ЗМС",F15="МСМК",F15="МС",F15="КМС")),O15>=$S$10),"+КМС",IF(AND(OR(F15="ЗМС",F15="МСМК",F15="МС",F15="КМС"),O15>=$S$10),"КМС","-")))))) -> МС | R15: =VLOOKUP(A15,Список!$A$2:$J$123,9) -> Балдин А.В.
A16: 91 | B16: 3 | C16: =VLOOKUP(A16,Список!$A$2:$J$123,3) -> Ляукин Кирилл | E16: =VLOOKUP(A16,Список!$A$2:$J$123,4) -> 1999 | F16: =VLOOKUP(A16,Список!$A$2:$J$123,5) -> МС | G16: =VLOOKUP(A16,Список!$A$2:$J$123,6) -> Республика Татарстан | H16: =VLOOKUP(A16,Список!$A$2:$J$123,7) -> РОО «ФГС РТ» | I16: =VLOOKUP(A16,Список!$A$2:$K$123,11) -> 78 | J16: 110 | K16: =RANK(J16,$J$12:$J$27,0) -> 1 | L16: 120 | M16: =L16/2 -> 60 | N16: =RANK(M16,$M$12:$M$25,0) -> 7 | O16: =M16+J16 -> 170 | P16: =IF(B16=1,20,IF(B16=2,18,IF(B16=3,16,IF(B16>19,0,19-B16)))) -> 16 | Q16: =IF(AND(NOT(OR(F16="МСМК",F16="ЗМС")),O16>=$Q$10),"+МСМК",IF(AND(OR(F16="МСМК",F16="ЗМС"),O16>=$Q$10),"МСМК",IF(AND(NOT(OR(F16="МСМК",F16="МС",F16="ЗМС")),O16>=$R$10),"+МС",IF(AND(OR(F16="МСМК",F16="МС",F16="ЗМС"),O16>=$R$10),"МС",IF(AND(NOT(OR(F16="ЗМС",F16="МСМК",F16="МС",F16="КМС")),O16>=$S$10),"+КМС",IF(AND(OR(F16="ЗМС",F16="МСМК",F16="МС",F16="КМС"),O16>=$S$10),"КМС","-")))))) -> МС | R16: =VLOOKUP(A16,Список!$A$2:$J$123,9) -> Низамова А.А.
A17: 62 | B17: 4 | C17: =VLOOKUP(A17,Список!$A$2:$J$123,3) -> Алексеев Радиф | E17: =VLOOKUP(A17,Список!$A$2:$J$123,4) -> 1989 | F17: =VLOOKUP(A17,Список!$A$2:$J$123,5) -> КМС | G17: =VLOOKUP(A17,Список!$A$2:$J$123,6) -> Чувашская республика | I17: =VLOOKUP(A17,Список!$A$2:$K$123,11) -> 76.75 | J17: 80 | K17: =RANK(J17,$J$12:$J$27,0) -> 6 | L17: 163 | M17: =L17/2 -> 81.5 | N17: =RANK(M17,$M$12:$M$25,0) -> 1 | O17: =M17+J17 -> 161.5 | P17: =IF(B17=1,20,IF(B17=2,18,IF(B17=3,16,IF(B17>19,0,19-B17)))) -> 15 | Q17: =IF(AND(NOT(OR(F17="МСМК",F17="ЗМС")),O17>=$Q$10),"+МСМК",IF(AND(OR(F17="МСМК",F17="ЗМС"),O17>=$Q$10),"МСМК",IF(AND(NOT(OR(F17="МСМК",F17="МС",F17="ЗМС")),O17>=$R$10),"+МС",IF(AND(OR(F17="МСМК",F17="МС",F17="ЗМС"),O17>=$R$10),"МС",IF(AND(NOT(OR(F17="ЗМС",F17="МСМК",F17="МС",F17="КМС")),O17>=$S$10),"+КМС",IF(AND(OR(F17="ЗМС",F17="МСМК",F17="МС",F17="КМС"),O17>=$S$10),"КМС","-")))))) -> КМС | R17: =VLOOKUP(A17,Список!$A$2:$J$123,9) -> Бронюков Ю.А., Максимов С.И.
A18: 22 | B18: 5 | C18: =VLOOKUP(A18,Список!$A$2:$J$123,3) -> Акульшин Алексей | E18: =VLOOKUP(A18,Список!$A$2:$J$123,4) -> 1994 | F18: =VLOOKUP(A18,Список!$A$2:$J$123,5) -> МС | G18: =VLOOKUP(A18,Список!$A$2:$J$123,6) -> Оренбургская область | H18: =VLOOKUP(A18,Список!$A$2:$J$123,7) -> СШ №1 им. Л.Д. Ковалевского | I18: =VLOOKUP(A18,Список!$A$2:$K$123,11) -> 77.85 | J18: 93 | K18: =RANK(J18,$J$12:$J$27,0) -> 5 | L18: 137 | M18: =L18/2 -> 68.5 | N18: =RANK(M18,$M$12:$M$25,0) -> 3 | O18: =M18+J18 -> 161.5 | P18: =IF(B18=1,20,IF(B18=2,18,IF(B18=3,16,IF(B18>19,0,19-B18)))) -> 14 | Q18: =IF(AND(NOT(OR(F18="МСМК",F18="ЗМС")),O18>=$Q$10),"+МСМК",IF(AND(OR(F18="МСМК",F18="ЗМС"),O18>=$Q$10),"МСМК",IF(AND(NOT(OR(F18="МСМК",F18="МС",F18="ЗМС")),O18>=$R$10),"+МС",IF(AND(OR(F18="МСМК",F18="МС",F18="ЗМС"),O18>=$R$10),"МС",IF(AND(NOT(OR(F18="ЗМС",F18="МСМК",F18="МС",F18="КМС")),O18>=$S$10),"+КМС",IF(AND(OR(F18="ЗМС",F18="МСМК",F18="МС",F18="КМС"),O18>=$S$10),"КМС","-")))))) -> КМС | R18: =VLOOKUP(A18,Список!$A$2:$J$123,9) -> Фунтиков Н.Н.
A19: 49 | B19: 6 | C19: =VLOOKUP(A19,Список!$A$2:$J$123,3) -> Кодиров Абдумаъруф | E19: =VLOOKUP(A19,Список!$A$2:$J$123,4) -> 2000 | F19: =VLOOKUP(A19,Список!$A$2:$J$123,5) -> КМС | G19: =VLOOKUP(A19,Список!$A$2:$J$123,6) -> Пермский край | H19: =VLOOKUP(A19,Список!$A$2:$J$123,7) -> ДО ДС ДЮ «Прикамье» | I19: =VLOOKUP(A19,Список!$A$2:$K$123,11) -> 77.95 | J19: 95 | K19: =RANK(J19,$J$12:$J$27,0) -> 4 | L19: 123 | M19: =L19/2 -> 61.5 | N19: =RANK(M19,$M$12:$M$25,0) -> 6 | O19: =M19+J19 -> 156.5 | P19: =IF(B19=1,20,IF(B19=2,18,IF(B19=3,16,IF(B19>19,0,19-B19)))) -> 13 | Q19: =IF(AND(NOT(OR(F19="МСМК",F19="ЗМС")),O19>=$Q$10),"+МСМК",IF(AND(OR(F19="МСМК",F19="ЗМС"),O19>=$Q$10),"МСМК",IF(AND(NOT(OR(F19="МСМК",F19="МС",F19="ЗМС")),O19>=$R$10),"+МС",IF(AND(OR(F19="МСМК",F19="МС",F19="ЗМС"),O19>=$R$10),"МС",IF(AND(NOT(OR(F19="ЗМС",F19="МСМК",F19="МС",F19="КМС")),O19>=$S$10),"+КМС",IF(AND(OR(F19="ЗМС",F19="МСМК",F19="МС",F19="КМС"),O19>=$S$10),"КМС","-")))))) -> КМС | R19: =VLOOKUP(A19,Список!$A$2:$J$123,9) -> Мошев Д.И
A20: 3 | B20: 7 | C20: =VLOOKUP(A20,Список!$A$2:$J$123,3) -> Борисов Евгений | E20: =VLOOKUP(A20,Список!$A$2:$J$123,4) -> 1978 | F20: =VLOOKUP(A20,Список!$A$2:$J$123,5) -> МС | G20: =VLOOKUP(A20,Список!$A$2:$J$123,6) -> Нижегородская область | I20: =VLOOKUP(A20,Список!$A$2:$K$123,11) -> 77.45 | J20: 70 | K20: =RANK(J20,$J$12:$J$27,0) -> 8 | L20: 124 | M20: =L20/2 -> 62 | N20: =RANK(M20,$M$12:$M$25,0) -> 5 | O20: =M20+J20 -> 132 | P20: =IF(B20=1,20,IF(B20=2,18,IF(B20=3,16,IF(B20>19,0,19-B20)))) -> 12 | Q20: =IF(AND(NOT(OR(F20="МСМК",F20="ЗМС")),O20>=$Q$10),"+МСМК",IF(AND(OR(F20="МСМК",F20="ЗМС"),O20>=$Q$10),"МСМК",IF(AND(NOT(OR(F20="МСМК",F20="МС",F20="ЗМС")),O20>=$R$10),"+МС",IF(AND(OR(F20="МСМК",F20="МС",F20="ЗМС"),O20>=$R$10),"МС",IF(AND(NOT(OR(F20="ЗМС",F20="МСМК",F20="МС",F20="КМС")),O20>=$S$10),"+КМС",IF(AND(OR(F20="ЗМС",F20="МСМК",F20="МС",F20="КМС"),O20>=$S$10),"КМС","-")))))) -> КМС | R20: =VLOOKUP(A20,Список!$A$2:$J$123,9) -> Разживин А.Е.
A21: 42 | B21: 8 | C21: =VLOOKUP(A21,Список!$A$2:$J$123,3) -> Лесников Михаил | E21: =VLOOKUP(A21,Список!$A$2:$J$123,4) -> 2007 | F21: =VLOOKUP(A21,Список!$A$2:$J$123,5) -> КМС | G21: =VLOOKUP(A21,Список!$A$2:$J$123,6) -> Пермский край | H21: =VLOOKUP(A21,Список!$A$2:$J$123,7) -> МБУ ДО «ДЮСШ «Спарт» | I21: =VLOOKUP(A21,Список!$A$2:$K$123,11) -> 76.5 | J21: 72 | K21: =RANK(J21,$J$12:$J$27,0) -> 7 | L21: 91 | M21: =L21/2 -> 45.5 | N21: =RANK(M21,$M$12:$M$25,0) -> 10 | O21: =M21+J21 -> 117.5 | P21: =IF(B21=1,20,IF(B21=2,18,IF(B21=3,16,IF(B21>19,0,19-B21)))) -> 11 | Q21: =IF(AND(NOT(OR(F21="МСМК",F21="ЗМС")),O21>=$Q$10),"+МСМК",IF(AND(OR(F21="МСМК",F21="ЗМС"),O21>=$Q$10),"МСМК",IF(AND(NOT(OR(F21="МСМК",F21="МС",F21="ЗМС")),O21>=$R$10),"+МС",IF(AND(OR(F21="МСМК",F21="МС",F21="ЗМС"),O21>=$R$10),"МС",IF(AND(NOT(OR(F21="ЗМС",F21="МСМК",F21="МС",F21="КМС")),O21>=$S$10),"+КМС",IF(AND(OR(F21="ЗМС",F21="МСМК",F21="МС",F21="КМС"),O21>=$S$10),"КМС","-")))))) -> КМС | R21: =VLOOKUP(A21,Список!$A$2:$J$123,9) -> Маматов Г.Т.
A22: 53 | B22: 9 | C22: =VLOOKUP(A22,Список!$A$2:$J$123,3) -> Гатаулин Ринат | E22: =VLOOKUP(A22,Список!$A$2:$J$123,4) -> 2000 | F22: =VLOOKUP(A22,Список!$A$2:$J$123,5) -> КМС | G22: =VLOOKUP(A22,Список!$A$2:$J$123,6) -> Пермский край | H22: =VLOOKUP(A22,Список!$A$2:$J$123,7) -> ДЮСШ г. Кизел | I22: =VLOOKUP(A22,Список!$A$2:$K$123,11) -> 75.65 | J22: 64 | K22: =RANK(J22,$J$12:$J$27,0) -> 9 | L22: 93 | M22: =L22/2 -> 46.5 | N22: =RANK(M22,$M$12:$M$25,0) -> 9 | O22: =M22+J22 -> 110.5 | P22: =IF(B22=1,20,IF(B22=2,18,IF(B22=3,16,IF(B22>19,0,19-B22)))) -> 10 | Q22: =IF(AND(NOT(OR(F22="МСМК",F22="ЗМС")),O22>=$Q$10),"+МСМК",IF(AND(OR(F22="МСМК",F22="ЗМС"),O22>=$Q$10),"МСМК",IF(AND(NOT(OR(F22="МСМК",F22="МС",F22="ЗМС")),O22>=$R$10),"+МС",IF(AND(OR(F22="МСМК",F22="МС",F22="ЗМС"),O22>=$R$10),"МС",IF(AND(NOT(OR(F22="ЗМС",F22="МСМК",F22="МС",F22="КМС")),O22>=$S$10),"+КМС",IF(AND(OR(F22="ЗМС",F22="МСМК",F22="МС",F22="КМС"),O22>=$S$10),"КМС","-")))))) -> КМС | R22: =VLOOKUP(A22,Список!$A$2:$J$123,9) -> Гатауллин Р.Х.
A23: 82 | B23: 10 | C23: =VLOOKUP(A23,Список!$A$2:$J$123,3) -> Семушин Дмитрий | E23: =VLOOKUP(A23,Список!$A$2:$J$123,4) -> 2008 | F23: =VLOOKUP(A23,Список!$A$2:$J$123,5) -> I | G23: =VLOOKUP(A23,Список!$A$2:$J$123,6) -> Кировская область | H23: =VLOOKUP(A23,Список!$A$2:$J$123,7) -> КОГАУ «СШОР «Юность» | I23: =VLOOKUP(A23,Список!$A$2:$K$123,11) -> 75.15 | J23: 63 | K23: =RANK(J23,$J$12:$J$27,0) -> 10 | L23: 94 | M23: =L23/2 -> 47 | N23: =RANK(M23,$M$12:$M$25,0) -> 8 | O23: =M23+J23 -> 110 | P23: =IF(B23=1,20,IF(B23=2,18,IF(B23=3,16,IF(B23>19,0,19-B23)))) -> 9 | Q23: =IF(AND(NOT(OR(F23="МСМК",F23="ЗМС")),O23>=$Q$10),"+МСМК",IF(AND(OR(F23="МСМК",F23="ЗМС"),O23>=$Q$10),"МСМК",IF(AND(NOT(OR(F23="МСМК",F23="МС",F23="ЗМС")),O23>=$R$10),"+МС",IF(AND(OR(F23="МСМК",F23="МС",F23="ЗМС"),O23>=$R$10),"МС",IF(AND(NOT(OR(F23="ЗМС",F23="МСМК",F23="МС",F23="КМС")),O23>=$S$10),"+КМС",IF(AND(OR(F23="ЗМС",F23="МСМК",F23="МС",F23="КМС"),O23>=$S$10),"КМС","-")))))) -> +КМС | R23: =VLOOKUP(A23,Список!$A$2:$J$123,9) -> Малков Е.И.
A24: 66 | B24: 11 | C24: =VLOOKUP(A24,Список!$A$2:$J$123,3) -> Иванов Иван | E24: =VLOOKUP(A24,Список!$A$2:$J$123,4) -> 2007 | F24: =VLOOKUP(A24,Список!$A$2:$J$123,5) -> I | G24: =VLOOKUP(A24,Список!$A$2:$J$123,6) -> Чувашская республика | I24: =VLOOKUP(A24,Список!$A$2:$K$123,11) -> 73.8 | J24: 35 | K24: =RANK(J24,$J$12:$J$27,0) -> 11 | L24: 40 | M24: =L24/2 -> 20 | N24: =RANK(M24,$M$12:$M$25,0) -> 11 | O24: =M24+J24 -> 55 | P24: =IF(B24=1,20,IF(B24=2,18,IF(B24=3,16,IF(B24>19,0,19-B24)))) -> 8 | Q24: =IF(AND(NOT(OR(F24="МСМК",F24="ЗМС")),O24>=$Q$10),"+МСМК",IF(AND(OR(F24="МСМК",F24="ЗМС"),O24>=$Q$10),"МСМК",IF(AND(NOT(OR(F24="МСМК",F24="МС",F24="ЗМС")),O24>=$R$10),"+МС",IF(AND(OR(F24="МСМК",F24="МС",F24="ЗМС"),O24>=$R$10),"МС",IF(AND(NOT(OR(F24="ЗМС",F24="МСМК",F24="МС",F24="КМС")),O24>=$S$10),"+КМС",IF(AND(OR(F24="ЗМС",F24="МСМК",F24="МС",F24="КМС"),O24>=$S$10),"КМС","-")))))) -> - | R24: =VLOOKUP(A24,Список!$A$2:$J$123,9) -> Понихидкин В.А
C27: Главный судья | I27: ='ДЦ 63'!$I$22 -> Ческис О.И., 1К (Пермский край)
C29: Главный секретарь | I29: ='ДЦ 63'!$I$24 -> Паклина М.В., ВК (Пермский край)
C31: Зам. главного судьи | I31: ='ДЦ 63'!$I$26 -> Паклин П.А., ВК (Пермский край)
C33: Зам. главного секретаря | I33: ='ДЦ 63'!$I$28 -> Мошев Д.И., 1К (Пермский край)

Sheet ДВ 85
B1: Министерство спорта Российской Федерации.
B2: Общероссийская общественная организация "Всероссийская федерация гиревого спорта"
B3: ='ДЦ 63'!$B$3:$Q$3 -> Министерство физической культуры и спорта Пермского края
B4: ='ДЦ 63'!$B$4:$Q$4 -> Региональное отделение общероссийской общественной организации "ВФГС в Пермском крае"
B6: 12-14 апреля 2024 г. | E6: ПРОТОКОЛ | Q6: Вес гирь 32 кг.
B7: г. Пермь | E7: Чемпионата Приволжского федерального округа | Q7: Регламент времени - 10 мин.
E8: ='ДЦ 63'!$E$8:$N$8 -> ЕКП № 2065590017021409 | Q8: Разрядные нормативы
B9: ='ДЦ 63'!$B$9:$D$9 -> Количество участников - 92 | E9: Двоеборье | Q9: МСМК | R9: МС | S9: КМС
B10: ='ДЦ 63'!$B$10:$D$10 -> Количество регионов - 10 | E10: Весовая категория 85 кг. | Q10: 234 | R10: 178 | S10: 117
B12: Место | C12: Фамилия Имя | E12: Дата рождения | F12: Звание | G12: Команда | H12: ДСО, ведомство | I12: Соб. вес | J12: Толчок | K12: Место | L12: Рывок | N12: Место | O12: Сумма дв-рья | P12: Ком. очки | Q12: Вып. разряд | R12: ФИО тренера(тренеров)
L13: Сумма | M13: Очки
B14: 1 | C14: Булдаков Никита | E14: 1997 | F14: МС | G14: Удмуртская Республика | I14: 84.1 | J14: 112 | K14: =RANK(J14,$J$12:$J$28,0) -> 3 | L14: 172 | M14: =L14/2 -> 86 | N14: =RANK(M14,$M$12:$M$18,0) -> 2 | O14: =M14+J14 -> 198 | P14: =IF(B14=1,20,IF(B14=2,18,IF(B14=3,16,IF(B14>19,0,19-B14)))) -> 20 | Q14: =IF(AND(NOT(OR(F14="МСМК",F14="ЗМС")),O14>=$Q$10),"+МСМК",IF(AND(OR(F14="МСМК",F14="ЗМС"),O14>=$Q$10),"МСМК",IF(AND(NOT(OR(F14="МСМК",F14="МС",F14="ЗМС")),O14>=$R$10),"+МС",IF(AND(OR(F14="МСМК",F14="МС",F14="ЗМС"),O14>=$R$10),"МС",IF(AND(NOT(OR(F14="ЗМС",F14="МСМК",F14="МС",F14="КМС")),O14>=$S$10),"+КМС",IF(AND(OR(F14="ЗМС",F14="МСМК",F14="МС",F14="КМС"),O14>=$S$10),"КМС","-")))))) -> +МС | R14: Веретенников С.А.
A15: 46 | B15: 1 | C15: =VLOOKUP(A15,Список!$A$2:$J$123,3) -> Маликов Данил | E15: =VLOOKUP(A15,Список!$A$2:$J$123,4) -> 2001 | F15: =VLOOKUP(A15,Список!$A$2:$J$123,5) -> МС | G15: =VLOOKUP(A15,Список!$A$2:$J$123,6) -> Пермский край | H15: =VLOOKUP(A15,Список!$A$2:$J$123,7) -> ДО ДС ДЮ «Прикамье» | I15: =VLOOKUP(A15,Список!$A$2:$K$123,11) -> 84.25 | J15: 147 | K15: =RANK(J15,$J$15:$J$23,0) -> 1 | L15: 163 | M15: =L15/2 -> 81.5 | N15: =RANK(M15,$M$12:$M$31,0) -> 3 | O15: =M15+J15 -> 228.5 | P15: =IF(B15=1,20,IF(B15=2,18,IF(B15=3,16,IF(B15>19,0,19-B15)))) -> 20 | Q15: =IF(AND(NOT(OR(F15="МСМК",F15="ЗМС")),O15>=$Q$10),"+МСМК",IF(AND(OR(F15="МСМК",F15="ЗМС"),O15>=$Q$10),"МСМК",IF(AND(NOT(OR(F15="МСМК",F15="МС",F15="ЗМС")),O15>=$R$10),"+МС",IF(AND(OR(F15="МСМК",F15="МС",F15="ЗМС"),O15>=$R$10),"МС",IF(AND(NOT(OR(F15="ЗМС",F15="МСМК",F15="МС",F15="КМС")),O15>=$S$10),"+КМС",IF(AND(OR(F15="ЗМС",F15="МСМК",F15="МС",F15="КМС"),O15>=$S$10),"КМС","-")))))) -> МС | R15: =VLOOKUP(A15,Список!$A$2:$J$123,9) -> Мошев Д.И., Панфилов Г.Н.
A16: 71 | B16: 2 | C16: =VLOOKUP(A16,Список!$A$2:$J$123,3) -> Шиляев Иван | E16: =VLOOKUP(A16,Список!$A$2:$J$123,4) -> 1996 | F16: =VLOOKUP(A16,Список!$A$2:$J$123,5) -> МС | G16: =VLOOKUP(A16,Список!$A$2:$J$123,6) -> Удмуртская республика | I16: =VLOOKUP(A16,Список!$A$2:$K$123,11) -> 83.4 | J16: 138 | K16: =RANK(J16,$J$15:$J$23,0) -> 2 | L16: 163 | M16: =L16/2 -> 81.5 | N16: =RANK(M16,$M$12:$M$31,0) -> 3 | O16: =M16+J16 -> 219.5 | P16: =IF(B16=1,20,IF(B16=2,18,IF(B16=3,16,IF(B16>19,0,19-B16)))) -> 18 | Q16: =IF(AND(NOT(OR(F16="МСМК",F16="ЗМС")),O16>=$Q$10),"+МСМК",IF(AND(OR(F16="МСМК",F16="ЗМС"),O16>=$Q$10),"МСМК",IF(AND(NOT(OR(F16="МСМК",F16="МС",F16="ЗМС")),O16>=$R$10),"+МС",IF(AND(OR(F16="МСМК",F16="МС",F16="ЗМС"),O16>=$R$10),"МС",IF(AND(NOT(OR(F16="ЗМС",F16="МСМК",F16="МС",F16="КМС")),O16>=$S$10),"+КМС",IF(AND(OR(F16="ЗМС",F16="МСМК",F16="МС",F16="КМС"),O16>=$S$10),"КМС","-")))))) -> МС | R16: =VLOOKUP(A16,Список!$A$2:$J$123,9) -> Несмелов В.А.
A17: 47 | B17: 3 | C17: =VLOOKUP(A17,Список!$A$2:$J$123,3) -> Крестьянинов Виктор | E17: =VLOOKUP(A17,Список!$A$2:$J$123,4) -> 2000 | F17: =VLOOKUP(A17,Список!$A$2:$J$123,5) -> МС | G17: =VLOOKUP(A17,Список!$A$2:$J$123,6) -> Пермский край | H17: =VLOOKUP(A17,Список!$A$2:$J$123,7) -> ДО ДС ДЮ «Прикамье» | I17: =VLOOKUP(A17,Список!$A$2:$K$123,11) -> 85 | J17: 90 | K17: =RANK(J17,$J$15:$J$23,0) -> 5 | L17: 194 | M17: =L17/2 -> 97 | N17: =RANK(M17,$M$12:$M$31,0) -> 1 | O17: =M17+J17 -> 187 | P17: =IF(B17=1,20,IF(B17=2,18,IF(B17=3,16,IF(B17>19,0,19-B17)))) -> 16 | Q17: =IF(AND(NOT(OR(F17="МСМК",F17="ЗМС")),O17>=$Q$10),"+МСМК",IF(AND(OR(F17="МСМК",F17="ЗМС"),O17>=$Q$10),"МСМК",IF(AND(NOT(OR(F17="МСМК",F17="МС",F17="ЗМС")),O17>=$R$10),"+МС",IF(AND(OR(F17="МСМК",F17="МС",F17="ЗМС"),O17>=$R$10),"МС",IF(AND(NOT(OR(F17="ЗМС",F17="МСМК",F17="МС",F17="КМС")),O17>=$S$10),"+КМС",IF(AND(OR(F17="ЗМС",F17="МСМК",F17="МС",F17="КМС"),O17>=$S$10),"КМС","-")))))) -> МС | R17: =VLOOKUP(A17,Список!$A$2:$J$123,9) -> Мошев Д.И., Панфилов Г.Н.
A18: 80 | B18: 4 | C18: =VLOOKUP(A18,Список!$A$2:$J$123,3) -> Вахонин Егор | E18: =VLOOKUP(A18,Список!$A$2:$J$123,4) -> 2005 | F18: =VLOOKUP(A18,Список!$A$2:$J$123,5) -> МС | G18: =VLOOKUP(A18,Список!$A$2:$J$123,6) -> Кировская область | H18: =VLOOKUP(A18,Список!$A$2:$J$123,7) -> КОГАУ «СШОР «Юность» | I18: =VLOOKUP(A18,Список!$A$2:$K$123,11) -> 84 | J18: 92 | K18: =RANK(J18,$J$15:$J$23,0) -> 4 | L18: 111 | M18: =L18/2 -> 55.5 | N18: =RANK(M18,$M$12:$M$31,0) -> 7 | O18: =M18+J18 -> 147.5 | P18: =IF(B18=1,20,IF(B18=2,18,IF(B18=3,16,IF(B18>19,0,19-B18)))) -> 15 | Q18: =IF(AND(NOT(OR(F18="МСМК",F18="ЗМС")),O18>=$Q$10),"+МСМК",IF(AND(OR(F18="МСМК",F18="ЗМС"),O18>=$Q$10),"МСМК",IF(AND(NOT(OR(F18="МСМК",F18="МС",F18="ЗМС")),O18>=$R$10),"+МС",IF(AND(OR(F18="МСМК",F18="МС",F18="ЗМС"),O18>=$R$10),"МС",IF(AND(NOT(OR(F18="ЗМС",F18="МСМК",F18="МС",F18="КМС")),O18>=$S$10),"+КМС",IF(AND(OR(F18="ЗМС",F18="МСМК",F18="МС",F18="КМС"),O18>=$S$10),"КМС","-")))))) -> КМС | R18: =VLOOKUP(A18,Список!$A$2:$J$123,9) -> Малков Е.И.
A19: 63 | B19: 5 | C19: =VLOOKUP(A19,Список!$A$2:$J$123,3) -> Енедеров Димитрий | E19: =VLOOKUP(A19,Список!$A$2:$J$123,4) -> 1984 | F19: =VLOOKUP(A19,Список!$A$2:$J$123,5) -> МС | G19: =VLOOKUP(A19,Список!$A$2:$J$123,6) -> Чувашская республика | I19: =VLOOKUP(A19,Список!$A$2:$K$123,11) -> 84.05 | J19: 80 | K19: =RANK(J19,$J$15:$J$23,0) -> 7 | L19: 131 | M19: =L19/2 -> 65.5 | N19: =RANK(M19,$M$12:$M$31,0) -> 5 | O19: =M19+J19 -> 145.5 | P19: =IF(B19=1,20,IF(B19=2,18,IF(B19=3,16,IF(B19>19,0,19-B19)))) -> 14 | Q19: =IF(AND(NOT(OR(F19="МСМК",F19="ЗМС")),O19>=$Q$10),"+МСМК",IF(AND(OR(F19="МСМК",F19="ЗМС"),O19>=$Q$10),"МСМК",IF(AND(NOT(OR(F19="МСМК",F19="МС",F19="ЗМС")),O19>=$R$10),"+МС",IF(AND(OR(F19="МСМК",F19="МС",F19="ЗМС"),O19>=$R$10),"МС",IF(AND(NOT(OR(F19="ЗМС",F19="МСМК",F19="МС",F19="КМС")),O19>=$S$10),"+КМС",IF(AND(OR(F19="ЗМС",F19="МСМК",F19="МС",F19="КМС"),O19>=$S$10),"КМС","-")))))) -> КМС | R19: =VLOOKUP(A19,Список!$A$2:$J$123,9) -> Глинкин Б.Н
A20: 27 | B20: 6 | C20: =VLOOKUP(A20,Список!$A$2:$J$123,3) -> Пешков Виталий | E20: =VLOOKUP(A20,Список!$A$2:$J$123,4) -> 1998 | F20: =VLOOKUP(A20,Список!$A$2:$J$123,5) -> МС | G20: =VLOOKUP(A20,Список!$A$2:$J$123,6) -> Оренбургская область | H20: =VLOOKUP(A20,Список!$A$2:$J$123,7) -> СШ №1 им. Л.Д. Ковалевского | I20: =VLOOKUP(A20,Список!$A$2:$K$123,11) -> 81.7 | J20: 97 | K20: =RANK(J20,$J$15:$J$23,0) -> 3 | L20: 74 | M20: =L20/2 -> 37 | N20: =RANK(M20,$M$12:$M$31,0) -> 9 | O20: =M20+J20 -> 134 | P20: =IF(B20=1,20,IF(B20=2,18,IF(B20=3,16,IF(B20>19,0,19-B20)))) -> 13 | Q20: =IF(AND(NOT(OR(F20="МСМК",F20="ЗМС")),O20>=$Q$10),"+МСМК",IF(AND(OR(F20="МСМК",F20="ЗМС"),O20>=$Q$10),"МСМК",IF(AND(NOT(OR(F20="МСМК",F20="МС",F20="ЗМС")),O20>=$R$10),"+МС",IF(AND(OR(F20="МСМК",F20="МС",F20="ЗМС"),O20>=$R$10),"МС",IF(AND(NOT(OR(F20="ЗМС",F20="МСМК",F20="МС",F20="КМС")),O20>=$S$10),"+КМС",IF(AND(OR(F20="ЗМС",F20="МСМК",F20="МС",F20="КМС"),O20>=$S$10),"КМС","-")))))) -> КМС | R20: =VLOOKUP(A20,Список!$A$2:$J$123,9) -> Лавринов В.А.
A21: 24 | B21: 7 | C21: =VLOOKUP(A21,Список!$A$2:$J$123,3) -> Заварзин Павел | E21: =VLOOKUP(A21,Список!$A$2:$J$123,4) -> 2000 | F21: =VLOOKUP(A21,Список!$A$2:$J$123,5) -> МС | G21: =VLOOKUP(A21,Список!$A$2:$J$123,6) -> Оренбургская область | H21: =VLOOKUP(A21,Список!$A$2:$J$123,7) -> СШ №1 им. Л.Д. Ковалевского | I21: =VLOOKUP(A21,Список!$A$2:$K$123,11) -> 82.85 | J21: 85 | K21: =RANK(J21,$J$15:$J$23,0) -> 6 | L21: 98 | M21: =L21/2 -> 49 | N21: =RANK(M21,$M$12:$M$31,0) -> 8 | O21: =M21+J21 -> 134 | P21: =IF(B21=1,20,IF(B21=2,18,IF(B21=3,16,IF(B21>19,0,19-B21)))) -> 12 | Q21: =IF(AND(NOT(OR(F21="МСМК",F21="ЗМС")),O21>=$Q$10),"+МСМК",IF(AND(OR(F21="МСМК",F21="ЗМС"),O21>=$Q$10),"МСМК",IF(AND(NOT(OR(F21="МСМК",F21="МС",F21="ЗМС")),O21>=$R$10),"+МС",IF(AND(OR(F21="МСМК",F21="МС",F21="ЗМС"),O21>=$R$10),"МС",IF(AND(NOT(OR(F21="ЗМС",F21="МСМК",F21="МС",F21="КМС")),O21>=$S$10),"+КМС",IF(AND(OR(F21="ЗМС",F21="МСМК",F21="МС",F21="КМС"),O21>=$S$10),"КМС","-")))))) -> КМС | R21: =VLOOKUP(A21,Список!$A$2:$J$123,9) -> Павлов С.П.
A22: 5 | B22: 8 | C22: =VLOOKUP(A22,Список!$A$2:$J$123,3) -> Зубарев Андрей | E22: =VLOOKUP(A22,Список!$A$2:$J$123,4) -> 1976 | F22: =VLOOKUP(A22,Список!$A$2:$J$123,5) -> КМС | G22: =VLOOKUP(A22,Список!$A$2:$J$123,6) -> Нижегородская область | I22: =VLOOKUP(A22,Список!$A$2:$K$123,11) -> 81.35 | J22: 45 | K22: =RANK(J22,$J$15:$J$23,0) -> 9 | L22: 112 | M22: =L22/2 -> 56 | N22: =RANK(M22,$M$12:$M$31,0) -> 6 | O22: =M22+J22 -> 101 | P22: =IF(B22=1,20,IF(B22=2,18,IF(B22=3,16,IF(B22>19,0,19-B22)))) -> 11 | Q22: =IF(AND(NOT(OR(F22="МСМК",F22="ЗМС")),O22>=$Q$10),"+МСМК",IF(AND(OR(F22="МСМК",F22="ЗМС"),O22>=$Q$10),"МСМК",IF(AND(NOT(OR(F22="МСМК",F22="МС",F22="ЗМС")),O22>=$R$10),"+МС",IF(AND(OR(F22="МСМК",F22="МС",F22="ЗМС"),O22>=$R$10),"МС",IF(AND(NOT(OR(F22="ЗМС",F22="МСМК",F22="МС",F22="КМС")),O22>=$S$10),"+КМС",IF(AND(OR(F22="ЗМС",F22="МСМК",F22="МС",F22="КМС"),O22>=$S$10),"КМС","-")))))) -> - | R22: =VLOOKUP(A22,Список!$A$2:$J$123,9) -> Меркулин С.В.
A23: 18 | B23: 9 | C23: =VLOOKUP(A23,Список!$A$2:$J$123,3) -> Хусаинов Радик | E23: =VLOOKUP(A23,Список!$A$2:$J$123,4) -> 1984 | F23: =VLOOKUP(A23,Список!$A$2:$J$123,5) -> МС | G23: =VLOOKUP(A23,Список!$A$2:$J$123,6) -> Республика Башкортостан | H23: =VLOOKUP(A23,Список!$A$2:$J$123,7) -> МАУДЮЦРС г. Мелеуз | I23: =VLOOKUP(A23,Список!$A$2:$K$123,11) -> 80.65 | J23: 63 | K23: =RANK(J23,$J$15:$J$23,0) -> 8 | L23: 53 | M23: =L23/2 -> 26.5 | N23: =RANK(M23,$M$12:$M$31,0) -> 10 | O23: =M23+J23 -> 89.5 | P23: =IF(B23=1,20,IF(B23=2,18,IF(B23=3,16,IF(B23>19,0,19-B23)))) -> 10 | Q23: =IF(AND(NOT(OR(F23="МСМК",F23="ЗМС")),O23>=$Q$10),"+МСМК",IF(AND(OR(F23="МСМК",F23="ЗМС"),O23>=$Q$10),"МСМК",IF(AND(NOT(OR(F23="МСМК",F23="МС",F23="ЗМС")),O23>=$R$10),"+МС",IF(AND(OR(F23="МСМК",F23="МС",F23="ЗМС"),O23>=$R$10),"МС",IF(AND(NOT(OR(F23="ЗМС",F23="МСМК",F23="МС",F23="КМС")),O23>=$S$10),"+КМС",IF(AND(OR(F23="ЗМС",F23="МСМК",F23="МС",F23="КМС"),O23>=$S$10),"КМС","-")))))) -> - | R23: =VLOOKUP(A23,Список!$A$2:$J$123,9) -> Исаков В.Н.
C27: Главный судья | I27: ='ДЦ 63'!$I$22 -> Ческис О.И., 1К (Пермский край)
C29: Главный секретарь | I29: ='ДЦ 63'!$I$24 -> Паклина М.В., ВК (Пермский край)
C31: Зам. главного судьи | I31: ='ДЦ 63'!$I$26 -> Паклин П.А., ВК (Пермский край)
C33: Зам. главного секретаря | I33: ='ДЦ 63'!$I$28 -> Мошев Д.И., 1К (Пермский край)

Sheet ЭстафетаТ
A1: Министерство спорта Российской Федерации
A2: Департамент по молодежной политике, физической культуре и спорту Томской области
A3: Общероссийская общественная организация "Вcероссийская федерация гиревого спорта"
A4: Томская региональная общественная организация «Федерация гиревого спорта»
D5: ПРОТОКОЛ | I5: Вес гирь 32 кг.
A6: 19-22 сентября 2019 г. | D6: Кубка России по гиревому спорту 2019 года | I6: Регламент времени-4 * 3 мин.
A7: г. Томск | D7: Эстафета (класический толчок )
A9: КОМАНДА : Новосибирская область
A10: Место | B10: Этап | C10: Вес. кат-рия | D10: Фамилия Имя | E10: Дата рождения | F10: Собств. вес | G10: Результат участника | H10: Рез-т команды после этапа | I10: ФИО тренера
A11: 1 | B11: 1 | C11: 68 | D11: Бутенко Евгений | E11: 1995 | F11: 65.55 | G11: 54 | H11: =G11 -> 54 | I11: Бутенко А.А.
B12: 2 | C12: 85 | D12: Новиков Александр | E12: 1992 | F12: 85.45 | G12: 52 | H12: =H11+G12 -> 106 | I12: Исионов В.Н.
B13: 3 | C13: 85 | D13: Бородынкин Олег | E13: 2002 | F13: 82.25 | G13: 58 | H13: =H12+G13 -> 164 | I13: Баер П.А., Баев А.Е.
B14: 4 | C14: 85+ | D14: Шевелев Дмитрий | E14: 1989 | F14: 119.45 | G14: 58 | H14: =H13+G14 -> 222 | I14: Рябченко А.В., Ярмонов И.В.
A15: Общий вес команды : | F15: =SUM(F11:F14) -> 352.7
A16: Результат команды (количество подъёмов ) | H16: =H14 -> 222
A18: КОМАНДА : Омская область
A19: Место | B19: Этап | C19: Вес. кат-рия | D19: Фамилия Имя | E19: Дата рождения | F19: Собств. вес | G19: Результат участника | H19: Рез-т команды после этапа | I19: ФИО тренера
A20: 2 | B20: 1 | C20: 85 | D20: Рысник Сергей | E20: 1995 | F20: 84.9 | G20: 54 | H20: =G20 -> 54 | I20: Елисеев В.С., Переверзев Н.И.
B21: 2 | C21: 85+ | D21: Стаханов Валентин | E21: 1990 | F21: 96.65 | G21: 56 | H21: =H20+G21 -> 110 | I21: Анасенко А.В.
B22: 3 | C22: 85 | D22: Рачинский Александр | E22: 1997 | F22: 84.8 | G22: 52 | H22: =H21+G22 -> 162 | I22: Анасенко А.В.
B23: 4 | C23: 85+ | D23: Донских Александр | E23: 1990 | F23: 96.2 | G23: 40 | H23: =H22+G23 -> 202 | I23: Анасенко А.В.
A24: Общий вес команды : | F24: =SUM(F20:F23) -> 362.55
A25: Результат команды (количество подъёмов ) | H25: =H23 -> 202
A27: КОМАНДА : Томская область
A28: Место | B28: Этап | C28: Вес. кат-рия | D28: Фамилия Имя | E28: Дата рождения | F28: Собств. вес | G28: Результат участника | H28: Рез-т команды после этапа | I28: ФИО тренера
A29: 3 | B29: 1 | C29: 73 | D29: Сутягин Валентин | E29: 1992 | F29: 72.4 | G29: 50 | H29: =G29 -> 50 | I29: Полянский В.С., Чепуштанов И.В.
B30: 2 | C30: 85+ | D30: Черкашин Иван | E30: 1999 | F30: 87.7 | G30: 47 | H30: =H29+G30 -> 97 | I30: Тимофеев Н.А.
B31: 3 | C31: 85+ | D31: Дударев Иван | E31: 1999 | F31: 106.3 | G31: 47 | H31: =H30+G31 -> 144 | I31: Павлов В.Ю., Чепуштанов И.В.
B32: 4 | C32: 85 | D32: Черкашин Дмитрий | E32: 1999 | F32: 83.85 | G32: 46 | H32: =H31+G32 -> 190 | I32: Тимофеев Н.А.
A33: Общий вес команды : | F33: =SUM(F29:F32) -> 350.25
A34: Результат команды (количество подъёмов ) | H34: =H32 -> 190
A36: КОМАНДА: Кемеровская область
A37: Место | B37: Этап | C37: Вес. кат-рия | D37: Фамилия Имя | E37: Дата рождения | F37: Собств. вес | G37: Результат участника | H37: Рез-т команды после этапа | I37: ФИО тренера
A38: 4 | B38: 1 | C38: 85 | D38: Шерин Роман | E38: 1992 | F38: 78.5 | G38: 30 | H38: =G38 -> 30 | I38: Полетаев Н.И., Опшин В.Г.
B39: 2 | C39: 85 | D39: Булатов Павел | E39: 1983 | F39: 82.3 | G39: 39 | H39: =H38+G39 -> 69 | I39: Опшин В.Г.
B40: 3 | C40: 85 | D40: Литвинов Виталий | E40: 1993 | F40: 80.05 | G40: 39 | H40: =H39+G40 -> 108 | I40: Решетников М.Е.
B41: 4 | C41: 85+ | D41: Опшин Владимир | E41: 1965 | F41: 103.15 | G41: 40 | H41: =H40+G41 -> 148 | I41: Полетаев Н.И.
A42: Общий вес команды : | F42: =SUM(F38:F41) -> 344
A43: Результат команды (количество подъёмов ) | H43: =H41 -> 148
A46: Главный судья | D46: Леонов С.Т. (ВК) – Республика Бурятия | G46: Зам. главного судьи | I46: Романов Р.А. (МК) – Томская область
A48: Главный секретарь | D48: Барков А.П. (ВК) – ХМАО-Югра | G48: Зам. главного секретаря | I48: Зайнулин Р.З. 1 кат. – Томская область

Sheet ДВ 95
B1: Министерство спорта Российской Федерации.
B2: Общероссийская общественная организация "Всероссийская федерация гиревого спорта"
B3: ='ДЦ 63'!$B$3:$Q$3 -> Министерство физической культуры и спорта Пермского края
B4: ='ДЦ 63'!$B$4:$Q$4 -> Региональное отделение общероссийской общественной организации "ВФГС в Пермском крае"
B6: 12-14 апреля 2024 г. | E6: ПРОТОКОЛ | Q6: Вес гирь 32 кг.
B7: г. Пермь | E7: Чемпионата Приволжского федерального округа | Q7: Регламент времени - 10 мин.
E8: ='ДЦ 63'!$E$8:$N$8 -> ЕКП № 2065590017021409 | Q8: Разрядные нормативы
B9: ='ДЦ 63'!$B$9:$D$9 -> Количество участников - 92 | E9: Двоеборье | Q9: МСМК | R9: МС | S9: КМС
B10: ='ДЦ 63'!$B$10:$D$10 -> Количество регионов - 10 | E10: Весовая категория 95 кг. | Q10: 240 | R10: 183 | S10: 120
B12: Место | C12: Фамилия Имя | E12: Дата рождения | F12: Звание | G12: Команда | H12: ДСО, ведомство | I12: Соб. вес | J12: Толчок | K12: Место | L12: Рывок | N12: Место | O12: Сумма дв-рья | P12: Ком. очки | Q12: Вып. разряд | R12: ФИО тренера(тренеров)
L13: Сумма | M13: Очки
A14: 69 | B14: 1 | C14: =VLOOKUP(A14,Список!$A$2:$J$123,3) -> Булдаков Никита | E14: =VLOOKUP(A14,Список!$A$2:$J$123,4) -> 1997 | F14: =VLOOKUP(A14,Список!$A$2:$J$123,5) -> МС | G14: =VLOOKUP(A14,Список!$A$2:$J$123,6) -> Удмуртская республика | I14: =VLOOKUP(A14,Список!$A$2:$K$123,11) -> 90.7 | J14: 112 | K14: =RANK(J14,$J$14:$J$20,0) -> 1 | L14: 170 | M14: =L14/2 -> 85 | N14: =RANK(M14,$M$12:$M$27,0) -> 1 | O14: =M14+J14 -> 197 | P14: =IF(B14=1,20,IF(B14=2,18,IF(B14=3,16,IF(B14>19,0,19-B14)))) -> 20 | Q14: =IF(AND(NOT(OR(F14="МСМК",F14="ЗМС")),O14>=$Q$10),"+МСМК",IF(AND(OR(F14="МСМК",F14="ЗМС"),O14>=$Q$10),"МСМК",IF(AND(NOT(OR(F14="МСМК",F14="МС",F14="ЗМС")),O14>=$R$10),"+МС",IF(AND(OR(F14="МСМК",F14="МС",F14="ЗМС"),O14>=$R$10),"МС",IF(AND(NOT(OR(F14="ЗМС",F14="МСМК",F14="МС",F14="КМС")),O14>=$S$10),"+КМС",IF(AND(OR(F14="ЗМС",F14="МСМК",F14="МС",F14="КМС"),O14>=$S$10),"КМС","-")))))) -> МС | R14: =VLOOKUP(A14,Список!$A$2:$J$123,9) -> Веретенников С.А.
A15: 54 | B15: 2 | C15: =VLOOKUP(A15,Список!$A$2:$J$123,3) -> Бардин Максим | E15: =VLOOKUP(A15,Список!$A$2:$J$123,4) -> 1990 | F15: =VLOOKUP(A15,Список!$A$2:$J$123,5) -> КМС | G15: =VLOOKUP(A15,Список!$A$2:$J$123,6) -> Пермский край | H15: =VLOOKUP(A15,Список!$A$2:$J$123,7) -> ДО ДС ДЮ «Прикамье» | I15: =VLOOKUP(A15,Список!$A$2:$K$123,11) -> 91.25 | J15: 75 | K15: =RANK(J15,$J$14:$J$20,0) -> 5 | L15: 145 | M15: =L15/2 -> 72.5 | N15: =RANK(M15,$M$12:$M$27,0) -> 2 | O15: =M15+J15 -> 147.5 | P15: =IF(B15=1,20,IF(B15=2,18,IF(B15=3,16,IF(B15>19,0,19-B15)))) -> 18 | Q15: =IF(AND(NOT(OR(F15="МСМК",F15="ЗМС")),O15>=$Q$10),"+МСМК",IF(AND(OR(F15="МСМК",F15="ЗМС"),O15>=$Q$10),"МСМК",IF(AND(NOT(OR(F15="МСМК",F15="МС",F15="ЗМС")),O15>=$R$10),"+МС",IF(AND(OR(F15="МСМК",F15="МС",F15="ЗМС"),O15>=$R$10),"МС",IF(AND(NOT(OR(F15="ЗМС",F15="МСМК",F15="МС",F15="КМС")),O15>=$S$10),"+КМС",IF(AND(OR(F15="ЗМС",F15="МСМК",F15="МС",F15="КМС"),O15>=$S$10),"КМС","-")))))) -> КМС | R15: =VLOOKUP(A15,Список!$A$2:$J$123,9) -> Мошев Д.И, Лунев А.Г.
A16: 12 | B16: 3 | C16: =VLOOKUP(A16,Список!$A$2:$J$123,3) -> Арсланов Айдар | E16: =VLOOKUP(A16,Список!$A$2:$J$123,4) -> 1985 | F16: =VLOOKUP(A16,Список!$A$2:$J$123,5) -> КМС | G16: =VLOOKUP(A16,Список!$A$2:$J$123,6) -> Республика Башкортостан | H16: =VLOOKUP(A16,Список!$A$2:$J$123,7) -> МАУ ДО СШ №2 г. Туймазы | I16: =VLOOKUP(A16,Список!$A$2:$K$123,11) -> 88.05 | J16: 78 | K16: =RANK(J16,$J$14:$J$20,0) -> 4 | L16: 119 | M16: =L16/2 -> 59.5 | N16: =RANK(M16,$M$12:$M$27,0) -> 3 | O16: =M16+J16 -> 137.5 | P16: =IF(B16=1,20,IF(B16=2,18,IF(B16=3,16,IF(B16>19,0,19-B16)))) -> 16 | Q16: =IF(AND(NOT(OR(F16="МСМК",F16="ЗМС")),O16>=$Q$10),"+МСМК",IF(AND(OR(F16="МСМК",F16="ЗМС"),O16>=$Q$10),"МСМК",IF(AND(NOT(OR(F16="МСМК",F16="МС",F16="ЗМС")),O16>=$R$10),"+МС",IF(AND(OR(F16="МСМК",F16="МС",F16="ЗМС"),O16>=$R$10),"МС",IF(AND(NOT(OR(F16="ЗМС",F16="МСМК",F16="МС",F16="КМС")),O16>=$S$10),"+КМС",IF(AND(OR(F16="ЗМС",F16="МСМК",F16="МС",F16="КМС"),O16>=$S$10),"КМС","-")))))) -> КМС | R16: =VLOOKUP(A16,Список!$A$2:$J$123,9) -> Ляукин К.С.
A17: 84 | B17: 4 | C17: =VLOOKUP(A17,Список!$A$2:$J$123,3) -> Лебедев Владислав | E17: =VLOOKUP(A17,Список!$A$2:$J$123,4) -> 1997 | F17: =VLOOKUP(A17,Список!$A$2:$J$123,5) -> КМС | G17: =VLOOKUP(A17,Список!$A$2:$J$123,6) -> Кировская область | H17: =VLOOKUP(A17,Список!$A$2:$J$123,7) -> КОГАУ «СШОР «Юность» | I17: =VLOOKUP(A17,Список!$A$2:$K$123,11) -> 93.65 | J17: 82 | K17: =RANK(J17,$J$14:$J$20,0) -> 3 | L17: 102 | M17: =L17/2 -> 51 | N17: =RANK(M17,$M$12:$M$27,0) -> 4 | O17: =M17+J17 -> 133 | P17: =IF(B17=1,20,IF(B17=2,18,IF(B17=3,16,IF(B17>19,0,19-B17)))) -> 15 | Q17: =IF(AND(NOT(OR(F17="МСМК",F17="ЗМС")),O17>=$Q$10),"+МСМК",IF(AND(OR(F17="МСМК",F17="ЗМС"),O17>=$Q$10),"МСМК",IF(AND(NOT(OR(F17="МСМК",F17="МС",F17="ЗМС")),O17>=$R$10),"+МС",IF(AND(OR(F17="МСМК",F17="МС",F17="ЗМС"),O17>=$R$10),"МС",IF(AND(NOT(OR(F17="ЗМС",F17="МСМК",F17="МС",F17="КМС")),O17>=$S$10),"+КМС",IF(AND(OR(F17="ЗМС",F17="МСМК",F17="МС",F17="КМС"),O17>=$S$10),"КМС","-")))))) -> КМС | R17: =VLOOKUP(A17,Список!$A$2:$J$123,9) -> Малков Е.И.
A18: 26 | B18: 5 | C18: =VLOOKUP(A18,Список!$A$2:$J$123,3) -> Салихов Рустам | E18: =VLOOKUP(A18,Список!$A$2:$J$123,4) -> 1982 | F18: =VLOOKUP(A18,Список!$A$2:$J$123,5) -> МС | G18: =VLOOKUP(A18,Список!$A$2:$J$123,6) -> Оренбургская область | I18: =VLOOKUP(A18,Список!$A$2:$K$123,11) -> 92.4 | J18: 87 | K18: =RANK(J18,$J$14:$J$20,0) -> 2 | L18: 91 | M18: =L18/2 -> 45.5 | N18: =RANK(M18,$M$12:$M$27,0) -> 6 | O18: =M18+J18 -> 132.5 | P18: =IF(B18=1,20,IF(B18=2,18,IF(B18=3,16,IF(B18>19,0,19-B18)))) -> 14 | Q18: =IF(AND(NOT(OR(F18="МСМК",F18="ЗМС")),O18>=$Q$10),"+МСМК",IF(AND(OR(F18="МСМК",F18="ЗМС"),O18>=$Q$10),"МСМК",IF(AND(NOT(OR(F18="МСМК",F18="МС",F18="ЗМС")),O18>=$R$10),"+МС",IF(AND(OR(F18="МСМК",F18="МС",F18="ЗМС"),O18>=$R$10),"МС",IF(AND(NOT(OR(F18="ЗМС",F18="МСМК",F18="МС",F18="КМС")),O18>=$S$10),"+КМС",IF(AND(OR(F18="ЗМС",F18="МСМК",F18="МС",F18="КМС"),O18>=$S$10),"КМС","-")))))) -> КМС | R18: =VLOOKUP(A18,Список!$A$2:$J$123,9) -> Фунтиков Н.Н.
A19: 17 | B19: 6 | C19: =VLOOKUP(A19,Список!$A$2:$J$123,3) -> Иванов Александр | E19: =VLOOKUP(A19,Список!$A$2:$J$123,4) -> 2008 | F19: =VLOOKUP(A19,Список!$A$2:$J$123,5) -> I | G19: =VLOOKUP(A19,Список!$A$2:$J$123,6) -> Республика Башкортостан | H19: =VLOOKUP(A19,Список!$A$2:$J$123,7) -> МАУ ДО ФСМ Чемпион г. Белебей | I19: =VLOOKUP(A19,Список!$A$2:$K$123,11) -> 92.3 | J19: 70 | K19: =RANK(J19,$J$14:$J$20,0) -> 6 | L19: 94 | M19: =L19/2 -> 47 | N19: =RANK(M19,$M$12:$M$27,0) -> 5 | O19: =M19+J19 -> 117 | P19: =IF(B19=1,20,IF(B19=2,18,IF(B19=3,16,IF(B19>19,0,19-B19)))) -> 13 | Q19: =IF(AND(NOT(OR(F19="МСМК",F19="ЗМС")),O19>=$Q$10),"+МСМК",IF(AND(OR(F19="МСМК",F19="ЗМС"),O19>=$Q$10),"МСМК",IF(AND(NOT(OR(F19="МСМК",F19="МС",F19="ЗМС")),O19>=$R$10),"+МС",IF(AND(OR(F19="МСМК",F19="МС",F19="ЗМС"),O19>=$R$10),"МС",IF(AND(NOT(OR(F19="ЗМС",F19="МСМК",F19="МС",F19="КМС")),O19>=$S$10),"+КМС",IF(AND(OR(F19="ЗМС",F19="МСМК",F19="МС",F19="КМС"),O19>=$S$10),"КМС","-")))))) -> - | R19: =VLOOKUP(A19,Список!$A$2:$J$123,9) -> Абзалова И.В.
A20: 92 | B20: 7 | C20: =VLOOKUP(A20,Список!$A$2:$J$123,3) -> Брагин Аркадий | E20: =VLOOKUP(A20,Список!$A$2:$J$123,4) -> 1997 | F20: =VLOOKUP(A20,Список!$A$2:$J$123,5) -> I | G20: =VLOOKUP(A20,Список!$A$2:$J$123,6) -> Республика Татарстан | H20: =VLOOKUP(A20,Список!$A$2:$J$123,7) -> РОО «ФГС РТ» | I20: =VLOOKUP(A20,Список!$A$2:$K$123,11) -> 94.2 | J20: 49 | K20: =RANK(J20,$J$14:$J$20,0) -> 7 | L20: 70 | M20: =L20/2 -> 35 | N20: =RANK(M20,$M$12:$M$27,0) -> 7 | O20: =M20+J20 -> 84 | P20: =IF(B20=1,20,IF(B20=2,18,IF(B20=3,16,IF(B20>19,0,19-B20)))) -> 12 | Q20: =IF(AND(NOT(OR(F20="МСМК",F20="ЗМС")),O20>=$Q$10),"+МСМК",IF(AND(OR(F20="МСМК",F20="ЗМС"),O20>=$Q$10),"МСМК",IF(AND(NOT(OR(F20="МСМК",F20="МС",F20="ЗМС")),O20>=$R$10),"+МС",IF(AND(OR(F20="МСМК",F20="МС",F20="ЗМС"),O20>=$R$10),"МС",IF(AND(NOT(OR(F20="ЗМС",F20="МСМК",F20="МС",F20="КМС")),O20>=$S$10),"+КМС",IF(AND(OR(F20="ЗМС",F20="МСМК",F20="МС",F20="КМС"),O20>=$S$10),"КМС","-")))))) -> - | R20: =VLOOKUP(A20,Список!$A$2:$J$123,9) -> Ляукин К.С.
C23: Главный судья | I23: ='ДЦ 63'!$I$22 -> Ческис О.И., 1К (Пермский край)
C25: Главный секретарь | I25: ='ДЦ 63'!$I$24 -> Паклина М.В., ВК (Пермский край)
C27: Зам. главного судьи | I27: ='ДЦ 63'!$I$26 -> Паклин П.А., ВК (Пермский край)
C29: Зам. главного секретаря | I29: ='ДЦ 63'!$I$28 -> Мошев Д.И., 1К (Пермский край)

Sheet ДВ 95+
B1: Министерство спорта Российской Федерации.
B2: Общероссийская общественная организация "Всероссийская федерация гиревого спорта"
B3: ='ДЦ 63'!$B$3:$Q$3 -> Министерство физической культуры и спорта Пермского края
B4: ='ДЦ 63'!$B$4:$Q$4 -> Региональное отделение общероссийской общественной организации "ВФГС в Пермском крае"
B6: 12-14 апреля 2024 г. | E6: ПРОТОКОЛ | Q6: Вес гирь 32 кг.
B7: г. Пермь | E7: Чемпионата Приволжского федерального округа | Q7: Регламент времени - 10 мин.
E8: ='ДЦ 63'!$E$8:$N$8 -> ЕКП № 2065590017021409 | Q8: Разрядные нормативы
B9: ='ДЦ 63'!$B$9:$D$9 -> Количество участников - 92 | E9: Двоеборье | Q9: МСМК | R9: МС | S9: КМС
B10: ='ДЦ 63'!$B$10:$D$10 -> Количество регионов - 10 | E10: Весовая категория 95+ кг. | Q10: 246 | R10: 190 | S10: 126
B12: Место | C12: Фамилия Имя | E12: Дата рождения | F12: Звание | G12: Команда | H12: ДСО, ведомство | I12: Соб. вес | J12: Толчок | K12: Место | L12: Рывок | N12: Место | O12: Сумма дв-рья | P12: Ком. очки | Q12: Вып. разряд | R12: ФИО тренера(тренеров)
L13: Сумма | M13: Очки
A14: 6 | B14: 1 | C14: =VLOOKUP(A14,Список!$A$2:$J$123,3) -> Афонин Игорь | E14: =VLOOKUP(A14,Список!$A$2:$J$123,4) -> 1992 | F14: =VLOOKUP(A14,Список!$A$2:$J$123,5) -> КМС | G14: =VLOOKUP(A14,Список!$A$2:$J$123,6) -> Нижегородская область | I14: =VLOOKUP(A14,Список!$A$2:$K$123,11) -> 100.4 | J14: 81 | K14: =RANK(J14,$J$12:$J$30,0) -> 2 | L14: 173 | M14: =L14/2 -> 86.5 | N14: =RANK(M14,$M$12:$M$28,0) -> 1 | O14: =M14+J14 -> 167.5 | P14: =IF(B14=1,20,IF(B14=2,18,IF(B14=3,16,IF(B14>19,0,19-B14)))) -> 20 | Q14: =IF(AND(NOT(OR(F14="МСМК",F14="ЗМС")),O14>=$Q$10),"+МСМК",IF(AND(OR(F14="МСМК",F14="ЗМС"),O14>=$Q$10),"МСМК",IF(AND(NOT(OR(F14="МСМК",F14="МС",F14="ЗМС")),O14>=$R$10),"+МС",IF(AND(OR(F14="МСМК",F14="МС",F14="ЗМС"),O14>=$R$10),"МС",IF(AND(NOT(OR(F14="ЗМС",F14="МСМК",F14="МС",F14="КМС")),O14>=$S$10),"+КМС",IF(AND(OR(F14="ЗМС",F14="МСМК",F14="МС",F14="КМС"),O14>=$S$10),"КМС","-")))))) -> КМС | R14: =VLOOKUP(A14,Список!$A$2:$J$123,9) -> Разживин А.Е.
A15: 83 | B15: 2 | C15: =VLOOKUP(A15,Список!$A$2:$J$123,3) -> Тимушев Олег | E15: =VLOOKUP(A15,Список!$A$2:$J$123,4) -> 1990 | F15: =VLOOKUP(A15,Список!$A$2:$J$123,5) -> КМС | G15: =VLOOKUP(A15,Список!$A$2:$J$123,6) -> Кировская область | H15: =VLOOKUP(A15,Список!$A$2:$J$123,7) -> КОГАУ «СШОР «Юность» | I15: =VLOOKUP(A15,Список!$A$2:$K$123,11) -> 106.1 | J15: 87 | K15: =RANK(J15,$J$12:$J$30,0) -> 1 | L15: 142 | M15: =L15/2 -> 71 | N15: =RANK(M15,$M$12:$M$28,0) -> 3 | O15: =M15+J15 -> 158 | P15: =IF(B15=1,20,IF(B15=2,18,IF(B15=3,16,IF(B15>19,0,19-B15)))) -> 18 | Q15: =IF(AND(NOT(OR(F15="МСМК",F15="ЗМС")),O15>=$Q$10),"+МСМК",IF(AND(OR(F15="МСМК",F15="ЗМС"),O15>=$Q$10),"МСМК",IF(AND(NOT(OR(F15="МСМК",F15="МС",F15="ЗМС")),O15>=$R$10),"+МС",IF(AND(OR(F15="МСМК",F15="МС",F15="ЗМС"),O15>=$R$10),"МС",IF(AND(NOT(OR(F15="ЗМС",F15="МСМК",F15="МС",F15="КМС")),O15>=$S$10),"+КМС",IF(AND(OR(F15="ЗМС",F15="МСМК",F15="МС",F15="КМС"),O15>=$S$10),"КМС","-")))))) -> КМС | R15: =VLOOKUP(A15,Список!$A$2:$J$123,9) -> Малков Е.И.
A16: 55 | B16: 3 | C16: =VLOOKUP(A16,Список!$A$2:$J$123,3) -> Воронов Николай | E16: =VLOOKUP(A16,Список!$A$2:$J$123,4) -> 1990 | F16: =VLOOKUP(A16,Список!$A$2:$J$123,5) -> КМС | G16: =VLOOKUP(A16,Список!$A$2:$J$123,6) -> Пермский край | H16: =VLOOKUP(A16,Список!$A$2:$J$123,7) -> ДО ДС ДЮ «Прикамье» | I16: =VLOOKUP(A16,Список!$A$2:$K$123,11) -> 96.65 | J16: 78 | K16: =RANK(J16,$J$12:$J$30,0) -> 3 | L16: 128 | M16: =L16/2 -> 64 | N16: =RANK(M16,$M$12:$M$28,0) -> 4 | O16: =M16+J16 -> 142 | P16: =IF(B16=1,20,IF(B16=2,18,IF(B16=3,16,IF(B16>19,0,19-B16)))) -> 16 | Q16: =IF(AND(NOT(OR(F16="МСМК",F16="ЗМС")),O16>=$Q$10),"+МСМК",IF(AND(OR(F16="МСМК",F16="ЗМС"),O16>=$Q$10),"МСМК",IF(AND(NOT(OR(F16="МСМК",F16="МС",F16="ЗМС")),O16>=$R$10),"+МС",IF(AND(OR(F16="МСМК",F16="МС",F16="ЗМС"),O16>=$R$10),"МС",IF(AND(NOT(OR(F16="ЗМС",F16="МСМК",F16="МС",F16="КМС")),O16>=$S$10),"+КМС",IF(AND(OR(F16="ЗМС",F16="МСМК",F16="МС",F16="КМС"),O16>=$S$10),"КМС","-")))))) -> КМС | R16: =VLOOKUP(A16,Список!$A$2:$J$123,9) -> Поварницын С.А.
A17: 57 | B17: 4 | C17: =VLOOKUP(A17,Список!$A$2:$J$123,3) -> Носков Андрей | E17: =VLOOKUP(A17,Список!$A$2:$J$123,4) -> 1993 | F17: =VLOOKUP(A17,Список!$A$2:$J$123,5) -> КМС | G17: =VLOOKUP(A17,Список!$A$2:$J$123,6) -> Пермский край | H17: =VLOOKUP(A17,Список!$A$2:$J$123,7) -> ДО ДС ДЮ «Прикамье» | I17: =VLOOKUP(A17,Список!$A$2:$K$123,11) -> 97.9 | J17: 30 | K17: =RANK(J17,$J$12:$J$30,0) -> 6 | L17: 164 | M17: =L17/2 -> 82 | N17: =RANK(M17,$M$12:$M$28,0) -> 2 | O17: =M17+J17 -> 112 | P17: =IF(B17=1,20,IF(B17=2,18,IF(B17=3,16,IF(B17>19,0,19-B17)))) -> 15 | Q17: =IF(AND(NOT(OR(F17="МСМК",F17="ЗМС")),O17>=$Q$10),"+МСМК",IF(AND(OR(F17="МСМК",F17="ЗМС"),O17>=$Q$10),"МСМК",IF(AND(NOT(OR(F17="МСМК",F17="МС",F17="ЗМС")),O17>=$R$10),"+МС",IF(AND(OR(F17="МСМК",F17="МС",F17="ЗМС"),O17>=$R$10),"МС",IF(AND(NOT(OR(F17="ЗМС",F17="МСМК",F17="МС",F17="КМС")),O17>=$S$10),"+КМС",IF(AND(OR(F17="ЗМС",F17="МСМК",F17="МС",F17="КМС"),O17>=$S$10),"КМС","-")))))) -> - | R17: =VLOOKUP(A17,Список!$A$2:$J$123,9) -> Мошев Д.И
A18: 14 | B18: 5 | C18: =VLOOKUP(A18,Список!$A$2:$J$123,3) -> Лебедьков Андрей | E18: =VLOOKUP(A18,Список!$A$2:$J$123,4) -> 1996 | F18: =VLOOKUP(A18,Список!$A$2:$J$123,5) -> КМС | G18: =VLOOKUP(A18,Список!$A$2:$J$123,6) -> Республика Башкортостан | H18: =VLOOKUP(A18,Список!$A$2:$J$123,7) -> МАУДЮЦРС г. Мелеуз | I18: =VLOOKUP(A18,Список!$A$2:$K$123,11) -> 96.6 | J18: 59 | K18: =RANK(J18,$J$12:$J$30,0) -> 4 | L18: 100 | M18: =L18/2 -> 50 | N18: =RANK(M18,$M$12:$M$28,0) -> 5 | O18: =M18+J18 -> 109 | P18: =IF(B18=1,20,IF(B18=2,18,IF(B18=3,16,IF(B18>19,0,19-B18)))) -> 14 | Q18: =IF(AND(NOT(OR(F18="МСМК",F18="ЗМС")),O18>=$Q$10),"+МСМК",IF(AND(OR(F18="МСМК",F18="ЗМС"),O18>=$Q$10),"МСМК",IF(AND(NOT(OR(F18="МСМК",F18="МС",F18="ЗМС")),O18>=$R$10),"+МС",IF(AND(OR(F18="МСМК",F18="МС",F18="ЗМС"),O18>=$R$10),"МС",IF(AND(NOT(OR(F18="ЗМС",F18="МСМК",F18="МС",F18="КМС")),O18>=$S$10),"+КМС",IF(AND(OR(F18="ЗМС",F18="МСМК",F18="МС",F18="КМС"),O18>=$S$10),"КМС","-")))))) -> - | R18: =VLOOKUP(A18,Список!$A$2:$J$123,9) -> Исаков В.Н.
A19: 95 | B19: 6 | C19: =VLOOKUP(A19,Список!$A$2:$J$123,3) -> Курочкин Никита | E19: =VLOOKUP(A19,Список!$A$2:$J$123,4) -> 2008 | F19: =VLOOKUP(A19,Список!$A$2:$J$123,5) -> I | G19: =VLOOKUP(A19,Список!$A$2:$J$123,6) -> Республика Татарстан | H19: =VLOOKUP(A19,Список!$A$2:$J$123,7) -> МБУ ДО СШ «Татнефть Олимп» Чистопольского района РТ | I19: =VLOOKUP(A19,Список!$A$2:$K$123,11) -> 116.1 | J19: 48 | K19: =RANK(J19,$J$12:$J$30,0) -> 5 | L19: 76 | M19: =L19/2 -> 38 | N19: =RANK(M19,$M$12:$M$28,0) -> 6 | O19: =M19+J19 -> 86 | P19: =IF(B19=1,20,IF(B19=2,18,IF(B19=3,16,IF(B19>19,0,19-B19)))) -> 13 | Q19: =IF(AND(NOT(OR(F19="МСМК",F19="ЗМС")),O19>=$Q$10),"+МСМК",IF(AND(OR(F19="МСМК",F19="ЗМС"),O19>=$Q$10),"МСМК",IF(AND(NOT(OR(F19="МСМК",F19="МС",F19="ЗМС")),O19>=$R$10),"+МС",IF(AND(OR(F19="МСМК",F19="МС",F19="ЗМС"),O19>=$R$10),"МС",IF(AND(NOT(OR(F19="ЗМС",F19="МСМК",F19="МС",F19="КМС")),O19>=$S$10),"+КМС",IF(AND(OR(F19="ЗМС",F19="МСМК",F19="МС",F19="КМС"),O19>=$S$10),"КМС","-")))))) -> - | R19: =VLOOKUP(A19,Список!$A$2:$J$123,9) -> Гиниатуллин А.З.
A20: 93 | B20: 7 | C20: =VLOOKUP(A20,Список!$A$2:$J$123,3) -> Фирсов Ростислав | E20: =VLOOKUP(A20,Список!$A$2:$J$123,4) -> 1992 | F20: =VLOOKUP(A20,Список!$A$2:$J$123,5) -> I | G20: =VLOOKUP(A20,Список!$A$2:$J$123,6) -> Республика Татарстан | H20: =VLOOKUP(A20,Список!$A$2:$J$123,7) -> РОО «ФГС РТ» | I20: =VLOOKUP(A20,Список!$A$2:$K$123,11) -> 99.5 | J20: 5 | K20: =RANK(J20,$J$12:$J$30,0) -> 7 | L20: 23 | M20: =L20/2 -> 11.5 | N20: =RANK(M20,$M$12:$M$28,0) -> 7 | O20: =M20+J20 -> 16.5 | P20: =IF(B20=1,20,IF(B20=2,18,IF(B20=3,16,IF(B20>19,0,19-B20)))) -> 12 | Q20: =IF(AND(NOT(OR(F20="МСМК",F20="ЗМС")),O20>=$Q$10),"+МСМК",IF(AND(OR(F20="МСМК",F20="ЗМС"),O20>=$Q$10),"МСМК",IF(AND(NOT(OR(F20="МСМК",F20="МС",F20="ЗМС")),O20>=$R$10),"+МС",IF(AND(OR(F20="МСМК",F20="МС",F20="ЗМС"),O20>=$R$10),"МС",IF(AND(NOT(OR(F20="ЗМС",F20="МСМК",F20="МС",F20="КМС")),O20>=$S$10),"+КМС",IF(AND(OR(F20="ЗМС",F20="МСМК",F20="МС",F20="КМС"),O20>=$S$10),"КМС","-")))))) -> - | R20: =VLOOKUP(A20,Список!$A$2:$J$123,9) -> Ляукин К.С.
C23: Главный судья | I23: ='ДЦ 63'!$I$22 -> Ческис О.И., 1К (Пермский край)
C25: Главный секретарь | I25: ='ДЦ 63'!$I$24 -> Паклина М.В., ВК (Пермский край)
C27: Зам. главного судьи | I27: ='ДЦ 63'!$I$26 -> Паклин П.А., ВК (Пермский край)
C29: Зам. главного секретаря | I29: ='ДЦ 63'!$I$28 -> Мошев Д.И., 1К (Пермский край)

Sheet Потоки ДВ
B1: ДУБЛИРУЮЩИЙ ПРОТОКОЛ
B2: Чемпионат Приволжского федерального округа
B3: 2 день, двоеборье - мужчины
B4: 12-14 апреля 2024 г. г. Пермь
